BEGIN:VCALENDAR
VERSION:2.0
PRODID:-//The Wellbeing Hub - ECPv6.15.20//NONSGML v1.0//EN
CALSCALE:GREGORIAN
METHOD:PUBLISH
X-ORIGINAL-URL:https://thewellbeinghub.com.au
X-WR-CALDESC:Events for The Wellbeing Hub
REFRESH-INTERVAL;VALUE=DURATION:PT1H
X-Robots-Tag:noindex
X-PUBLISHED-TTL:PT1H
BEGIN:VTIMEZONE
TZID:Australia/Brisbane
BEGIN:STANDARD
TZOFFSETFROM:+1000
TZOFFSETTO:+1000
TZNAME:AEST
DTSTART:20240101T000000
END:STANDARD
END:VTIMEZONE
BEGIN:VEVENT
DTSTART;TZID=Australia/Brisbane:20260314T100000
DTEND;TZID=Australia/Brisbane:20260314T160000
DTSTAMP:20260420T011014
CREATED:20260114T075313Z
LAST-MODIFIED:20260114T075313Z
UID:10000257-1773482400-1773504000@thewellbeinghub.com.au
SUMMARY:Speak for Yourself - Advance Public Speaking Skills
DESCRIPTION:Would you like to upgrade your public speaking and interpersonal communication skills? We can show you how in two Saturday sessions a month apart.\nSaturday 14\, and 28 March\, 10 am to 4 pm.
URL:https://thewellbeinghub.com.au/event/speak-for-yourself-advance-public-speaking-skills/
LOCATION:Athelstane Bowls Club\, 107 Ward Street\, Roc
CATEGORIES:personal development,Public speaking
ATTACH;FMTTYPE=image/jpeg:https://thewellbeinghub.com.au/wp-content/uploads/2026/01/615412141_1560132258408747_6646583105659242887_n.jpg
ORGANIZER;CN="Yeppoon Toastmasters Club":MAILTO:contact-3822605@toastmastersclubs.org
END:VEVENT
BEGIN:VEVENT
DTSTART;TZID=Australia/Brisbane:20251122T093000
DTEND;TZID=Australia/Brisbane:20251122T130000
DTSTAMP:20260420T011014
CREATED:20251102T071458Z
LAST-MODIFIED:20251102T071458Z
UID:10000073-1763803800-1763816400@thewellbeinghub.com.au
SUMMARY:Awakening to Self Love Retreat
DESCRIPTION:A precious opportunity to relax\, reconnect\, and remember that you are already OK.\n\n\n\nJoin me for a nourishing half-day retreat where you’ll be gently guided through meditation\, sound healing\, and mindful practices designed to help you let go\, trust your experience\, and reconnect with yourself.\n\n\n\nDate: Saturday\, 22 November\n\n\nTime: 9:30 am – 1:00 pm\n\n\nLocation: Quest Apartments\, 48 Victoria Parade\, Rockhampton\n\n\n\nThis tech-free\, mostly silent retreat includes guided and walking meditations\, reflective journalling\, sound healing\, and group discussion.\n\n\n2025 has been a big year! It’s time to pause\, breathe\, and BE.
URL:https://thewellbeinghub.com.au/event/awakening-to-self-love-retreat/
LOCATION:Quest Apartments Rockhampton\, 48 Victoria Parade\, Rockhampton\, Queensland\, Australia
CATEGORIES:meditation,personal development,workshop
ATTACH;FMTTYPE=image/jpeg:https://thewellbeinghub.com.au/wp-content/uploads/2025/11/awake.jpg
END:VEVENT
BEGIN:VEVENT
DTSTART;TZID=Australia/Brisbane:20251108T100000
DTEND;TZID=Australia/Brisbane:20251108T130000
DTSTAMP:20260420T011014
CREATED:20251102T065014Z
LAST-MODIFIED:20251102T065014Z
UID:10000068-1762596000-1762606800@thewellbeinghub.com.au
SUMMARY:Wrangle Your Rage
DESCRIPTION: Wrangle Your Rage \n\nWe’re coming into the so-called silly season — that time of year when energy runs high\, patience runs low and emotions simmer beneath the surface.\nNow is the perfect time to learn the tools to cope better\, cleanse deeper and transform what stirs within.\n\nAre you truly understanding your shadows — your fears — enough to live as your authentic self?Do you dare to dive into the divine depths of shadow work?\nAcceptance and self-preservation are not the same.Which one rules your life?\nYou’ve feared the future long enough.\n\nNow it’s time to Know. Feel. Delve. Reveal. Accept. Enhance.Uncover your true nature — raw\, radiant and unapologetically real beneath the mask.\nOnly the one who faces their shadow can master their fate.\nStep right up.This is not suppression.This is transmutation.Learn the sacred art of coping\, the rhythm of cleansing and the fierce\, joyful alchemy of wrangling your rage — until it becomes power\, purpose and peace.A workshop of emotional alchemy and self-reclamation — for those ready to cleanse\, release and rise renewed.\nFacilitated by Jess — our in-store Psychic. Energy Exchange: $77 Duration: Approx 3 hours Date: Saturday\, November 8th Location: Splendiferous — 109 Campbell St\nDeposit required upon booking. Non refundable if cancellation is within 48hrs of session time.
URL:https://thewellbeinghub.com.au/event/wrangle-your-rage/
LOCATION:Splendiferous Health\, 109 Campbell Street\, Rockhampton\, Queensland\, Australia
CATEGORIES:Class,personal development,workshop
ATTACH;FMTTYPE=image/jpeg:https://thewellbeinghub.com.au/wp-content/uploads/2025/11/rage.jpg
END:VEVENT
END:VCALENDAR