BEGIN:VCALENDAR
VERSION:2.0
PRODID:-//The Wellbeing Hub - ECPv6.15.20//NONSGML v1.0//EN
CALSCALE:GREGORIAN
METHOD:PUBLISH
X-WR-CALNAME:The Wellbeing Hub
X-ORIGINAL-URL:https://thewellbeinghub.com.au
X-WR-CALDESC:Events for The Wellbeing Hub
REFRESH-INTERVAL;VALUE=DURATION:PT1H
X-Robots-Tag:noindex
X-PUBLISHED-TTL:PT1H
BEGIN:VTIMEZONE
TZID:Australia/Brisbane
BEGIN:STANDARD
TZOFFSETFROM:+1000
TZOFFSETTO:+1000
TZNAME:AEST
DTSTART:20260101T000000
END:STANDARD
END:VTIMEZONE
BEGIN:VEVENT
DTSTART;TZID=Australia/Brisbane:20270405T080000
DTEND;TZID=Australia/Brisbane:20270405T093000
DTSTAMP:20260420T004213
CREATED:20260327T045804Z
LAST-MODIFIED:20260327T045804Z
UID:10003143-1806912000-1806917400@thewellbeinghub.com.au
SUMMARY:Keppel Kids Playgroup
DESCRIPTION:
URL:https://thewellbeinghub.com.au/event/keppel-kids-playgroup-4/2027-04-05/
LOCATION:Yeppoon Community Centre\, John Street\, Yeppoon\, Q\, Australia
CATEGORIES:Play Group
ATTACH;FMTTYPE=image/jpeg:https://thewellbeinghub.com.au/wp-content/uploads/2026/03/641452210_1226485949658594_4043777313757289176_n.jpg
END:VEVENT
BEGIN:VEVENT
DTSTART;TZID=Australia/Brisbane:20270412T080000
DTEND;TZID=Australia/Brisbane:20270412T093000
DTSTAMP:20260420T004213
CREATED:20260327T045804Z
LAST-MODIFIED:20260327T045804Z
UID:10003144-1807516800-1807522200@thewellbeinghub.com.au
SUMMARY:Keppel Kids Playgroup
DESCRIPTION:
URL:https://thewellbeinghub.com.au/event/keppel-kids-playgroup-4/2027-04-12/
LOCATION:Yeppoon Community Centre\, John Street\, Yeppoon\, Q\, Australia
CATEGORIES:Play Group
ATTACH;FMTTYPE=image/jpeg:https://thewellbeinghub.com.au/wp-content/uploads/2026/03/641452210_1226485949658594_4043777313757289176_n.jpg
END:VEVENT
BEGIN:VEVENT
DTSTART;TZID=Australia/Brisbane:20270419T080000
DTEND;TZID=Australia/Brisbane:20270419T093000
DTSTAMP:20260420T004213
CREATED:20260327T045804Z
LAST-MODIFIED:20260327T045804Z
UID:10003145-1808121600-1808127000@thewellbeinghub.com.au
SUMMARY:Keppel Kids Playgroup
DESCRIPTION:
URL:https://thewellbeinghub.com.au/event/keppel-kids-playgroup-4/2027-04-19/
LOCATION:Yeppoon Community Centre\, John Street\, Yeppoon\, Q\, Australia
CATEGORIES:Play Group
ATTACH;FMTTYPE=image/jpeg:https://thewellbeinghub.com.au/wp-content/uploads/2026/03/641452210_1226485949658594_4043777313757289176_n.jpg
END:VEVENT
BEGIN:VEVENT
DTSTART;TZID=Australia/Brisbane:20270426T080000
DTEND;TZID=Australia/Brisbane:20270426T093000
DTSTAMP:20260420T004213
CREATED:20260327T045804Z
LAST-MODIFIED:20260327T045804Z
UID:10003146-1808726400-1808731800@thewellbeinghub.com.au
SUMMARY:Keppel Kids Playgroup
DESCRIPTION:
URL:https://thewellbeinghub.com.au/event/keppel-kids-playgroup-4/2027-04-26/
LOCATION:Yeppoon Community Centre\, John Street\, Yeppoon\, Q\, Australia
CATEGORIES:Play Group
ATTACH;FMTTYPE=image/jpeg:https://thewellbeinghub.com.au/wp-content/uploads/2026/03/641452210_1226485949658594_4043777313757289176_n.jpg
END:VEVENT
BEGIN:VEVENT
DTSTART;TZID=Australia/Brisbane:20270503T080000
DTEND;TZID=Australia/Brisbane:20270503T093000
DTSTAMP:20260420T004213
CREATED:20260327T045804Z
LAST-MODIFIED:20260327T045804Z
UID:10003147-1809331200-1809336600@thewellbeinghub.com.au
SUMMARY:Keppel Kids Playgroup
DESCRIPTION:
URL:https://thewellbeinghub.com.au/event/keppel-kids-playgroup-4/2027-05-03/
LOCATION:Yeppoon Community Centre\, John Street\, Yeppoon\, Q\, Australia
CATEGORIES:Play Group
ATTACH;FMTTYPE=image/jpeg:https://thewellbeinghub.com.au/wp-content/uploads/2026/03/641452210_1226485949658594_4043777313757289176_n.jpg
END:VEVENT
BEGIN:VEVENT
DTSTART;TZID=Australia/Brisbane:20270510T080000
DTEND;TZID=Australia/Brisbane:20270510T093000
DTSTAMP:20260420T004213
CREATED:20260327T045804Z
LAST-MODIFIED:20260327T045804Z
UID:10003148-1809936000-1809941400@thewellbeinghub.com.au
SUMMARY:Keppel Kids Playgroup
DESCRIPTION:
URL:https://thewellbeinghub.com.au/event/keppel-kids-playgroup-4/2027-05-10/
LOCATION:Yeppoon Community Centre\, John Street\, Yeppoon\, Q\, Australia
CATEGORIES:Play Group
ATTACH;FMTTYPE=image/jpeg:https://thewellbeinghub.com.au/wp-content/uploads/2026/03/641452210_1226485949658594_4043777313757289176_n.jpg
END:VEVENT
BEGIN:VEVENT
DTSTART;TZID=Australia/Brisbane:20270517T080000
DTEND;TZID=Australia/Brisbane:20270517T093000
DTSTAMP:20260420T004213
CREATED:20260327T045804Z
LAST-MODIFIED:20260327T045804Z
UID:10003149-1810540800-1810546200@thewellbeinghub.com.au
SUMMARY:Keppel Kids Playgroup
DESCRIPTION:
URL:https://thewellbeinghub.com.au/event/keppel-kids-playgroup-4/2027-05-17/
LOCATION:Yeppoon Community Centre\, John Street\, Yeppoon\, Q\, Australia
CATEGORIES:Play Group
ATTACH;FMTTYPE=image/jpeg:https://thewellbeinghub.com.au/wp-content/uploads/2026/03/641452210_1226485949658594_4043777313757289176_n.jpg
END:VEVENT
BEGIN:VEVENT
DTSTART;TZID=Australia/Brisbane:20270524T080000
DTEND;TZID=Australia/Brisbane:20270524T093000
DTSTAMP:20260420T004213
CREATED:20260327T045804Z
LAST-MODIFIED:20260327T045804Z
UID:10003150-1811145600-1811151000@thewellbeinghub.com.au
SUMMARY:Keppel Kids Playgroup
DESCRIPTION:
URL:https://thewellbeinghub.com.au/event/keppel-kids-playgroup-4/2027-05-24/
LOCATION:Yeppoon Community Centre\, John Street\, Yeppoon\, Q\, Australia
CATEGORIES:Play Group
ATTACH;FMTTYPE=image/jpeg:https://thewellbeinghub.com.au/wp-content/uploads/2026/03/641452210_1226485949658594_4043777313757289176_n.jpg
END:VEVENT
BEGIN:VEVENT
DTSTART;TZID=Australia/Brisbane:20270531T080000
DTEND;TZID=Australia/Brisbane:20270531T093000
DTSTAMP:20260420T004213
CREATED:20260327T045804Z
LAST-MODIFIED:20260327T045804Z
UID:10003151-1811750400-1811755800@thewellbeinghub.com.au
SUMMARY:Keppel Kids Playgroup
DESCRIPTION:
URL:https://thewellbeinghub.com.au/event/keppel-kids-playgroup-4/2027-05-31/
LOCATION:Yeppoon Community Centre\, John Street\, Yeppoon\, Q\, Australia
CATEGORIES:Play Group
ATTACH;FMTTYPE=image/jpeg:https://thewellbeinghub.com.au/wp-content/uploads/2026/03/641452210_1226485949658594_4043777313757289176_n.jpg
END:VEVENT
BEGIN:VEVENT
DTSTART;TZID=Australia/Brisbane:20270607T080000
DTEND;TZID=Australia/Brisbane:20270607T093000
DTSTAMP:20260420T004213
CREATED:20260327T045804Z
LAST-MODIFIED:20260327T045804Z
UID:10003152-1812355200-1812360600@thewellbeinghub.com.au
SUMMARY:Keppel Kids Playgroup
DESCRIPTION:
URL:https://thewellbeinghub.com.au/event/keppel-kids-playgroup-4/2027-06-07/
LOCATION:Yeppoon Community Centre\, John Street\, Yeppoon\, Q\, Australia
CATEGORIES:Play Group
ATTACH;FMTTYPE=image/jpeg:https://thewellbeinghub.com.au/wp-content/uploads/2026/03/641452210_1226485949658594_4043777313757289176_n.jpg
END:VEVENT
BEGIN:VEVENT
DTSTART;TZID=Australia/Brisbane:20270614T080000
DTEND;TZID=Australia/Brisbane:20270614T093000
DTSTAMP:20260420T004213
CREATED:20260327T045804Z
LAST-MODIFIED:20260327T045804Z
UID:10003153-1812960000-1812965400@thewellbeinghub.com.au
SUMMARY:Keppel Kids Playgroup
DESCRIPTION:
URL:https://thewellbeinghub.com.au/event/keppel-kids-playgroup-4/2027-06-14/
LOCATION:Yeppoon Community Centre\, John Street\, Yeppoon\, Q\, Australia
CATEGORIES:Play Group
ATTACH;FMTTYPE=image/jpeg:https://thewellbeinghub.com.au/wp-content/uploads/2026/03/641452210_1226485949658594_4043777313757289176_n.jpg
END:VEVENT
BEGIN:VEVENT
DTSTART;TZID=Australia/Brisbane:20270621T080000
DTEND;TZID=Australia/Brisbane:20270621T093000
DTSTAMP:20260420T004213
CREATED:20260327T045804Z
LAST-MODIFIED:20260327T045804Z
UID:10003154-1813564800-1813570200@thewellbeinghub.com.au
SUMMARY:Keppel Kids Playgroup
DESCRIPTION:
URL:https://thewellbeinghub.com.au/event/keppel-kids-playgroup-4/2027-06-21/
LOCATION:Yeppoon Community Centre\, John Street\, Yeppoon\, Q\, Australia
CATEGORIES:Play Group
ATTACH;FMTTYPE=image/jpeg:https://thewellbeinghub.com.au/wp-content/uploads/2026/03/641452210_1226485949658594_4043777313757289176_n.jpg
END:VEVENT
BEGIN:VEVENT
DTSTART;TZID=Australia/Brisbane:20270628T080000
DTEND;TZID=Australia/Brisbane:20270628T093000
DTSTAMP:20260420T004213
CREATED:20260327T045804Z
LAST-MODIFIED:20260327T045804Z
UID:10003155-1814169600-1814175000@thewellbeinghub.com.au
SUMMARY:Keppel Kids Playgroup
DESCRIPTION:
URL:https://thewellbeinghub.com.au/event/keppel-kids-playgroup-4/2027-06-28/
LOCATION:Yeppoon Community Centre\, John Street\, Yeppoon\, Q\, Australia
CATEGORIES:Play Group
ATTACH;FMTTYPE=image/jpeg:https://thewellbeinghub.com.au/wp-content/uploads/2026/03/641452210_1226485949658594_4043777313757289176_n.jpg
END:VEVENT
BEGIN:VEVENT
DTSTART;TZID=Australia/Brisbane:20270705T080000
DTEND;TZID=Australia/Brisbane:20270705T093000
DTSTAMP:20260420T004213
CREATED:20260327T045804Z
LAST-MODIFIED:20260327T045804Z
UID:10003156-1814774400-1814779800@thewellbeinghub.com.au
SUMMARY:Keppel Kids Playgroup
DESCRIPTION:
URL:https://thewellbeinghub.com.au/event/keppel-kids-playgroup-4/2027-07-05/
LOCATION:Yeppoon Community Centre\, John Street\, Yeppoon\, Q\, Australia
CATEGORIES:Play Group
ATTACH;FMTTYPE=image/jpeg:https://thewellbeinghub.com.au/wp-content/uploads/2026/03/641452210_1226485949658594_4043777313757289176_n.jpg
END:VEVENT
BEGIN:VEVENT
DTSTART;TZID=Australia/Brisbane:20270712T080000
DTEND;TZID=Australia/Brisbane:20270712T093000
DTSTAMP:20260420T004213
CREATED:20260327T045804Z
LAST-MODIFIED:20260327T045804Z
UID:10003157-1815379200-1815384600@thewellbeinghub.com.au
SUMMARY:Keppel Kids Playgroup
DESCRIPTION:
URL:https://thewellbeinghub.com.au/event/keppel-kids-playgroup-4/2027-07-12/
LOCATION:Yeppoon Community Centre\, John Street\, Yeppoon\, Q\, Australia
CATEGORIES:Play Group
ATTACH;FMTTYPE=image/jpeg:https://thewellbeinghub.com.au/wp-content/uploads/2026/03/641452210_1226485949658594_4043777313757289176_n.jpg
END:VEVENT
BEGIN:VEVENT
DTSTART;TZID=Australia/Brisbane:20270719T080000
DTEND;TZID=Australia/Brisbane:20270719T093000
DTSTAMP:20260420T004213
CREATED:20260327T045804Z
LAST-MODIFIED:20260327T045804Z
UID:10003158-1815984000-1815989400@thewellbeinghub.com.au
SUMMARY:Keppel Kids Playgroup
DESCRIPTION:
URL:https://thewellbeinghub.com.au/event/keppel-kids-playgroup-4/2027-07-19/
LOCATION:Yeppoon Community Centre\, John Street\, Yeppoon\, Q\, Australia
CATEGORIES:Play Group
ATTACH;FMTTYPE=image/jpeg:https://thewellbeinghub.com.au/wp-content/uploads/2026/03/641452210_1226485949658594_4043777313757289176_n.jpg
END:VEVENT
BEGIN:VEVENT
DTSTART;TZID=Australia/Brisbane:20270726T080000
DTEND;TZID=Australia/Brisbane:20270726T093000
DTSTAMP:20260420T004213
CREATED:20260327T045804Z
LAST-MODIFIED:20260327T045804Z
UID:10003159-1816588800-1816594200@thewellbeinghub.com.au
SUMMARY:Keppel Kids Playgroup
DESCRIPTION:
URL:https://thewellbeinghub.com.au/event/keppel-kids-playgroup-4/2027-07-26/
LOCATION:Yeppoon Community Centre\, John Street\, Yeppoon\, Q\, Australia
CATEGORIES:Play Group
ATTACH;FMTTYPE=image/jpeg:https://thewellbeinghub.com.au/wp-content/uploads/2026/03/641452210_1226485949658594_4043777313757289176_n.jpg
END:VEVENT
BEGIN:VEVENT
DTSTART;TZID=Australia/Brisbane:20270802T080000
DTEND;TZID=Australia/Brisbane:20270802T093000
DTSTAMP:20260420T004213
CREATED:20260327T045804Z
LAST-MODIFIED:20260327T045804Z
UID:10003160-1817193600-1817199000@thewellbeinghub.com.au
SUMMARY:Keppel Kids Playgroup
DESCRIPTION:
URL:https://thewellbeinghub.com.au/event/keppel-kids-playgroup-4/2027-08-02/
LOCATION:Yeppoon Community Centre\, John Street\, Yeppoon\, Q\, Australia
CATEGORIES:Play Group
ATTACH;FMTTYPE=image/jpeg:https://thewellbeinghub.com.au/wp-content/uploads/2026/03/641452210_1226485949658594_4043777313757289176_n.jpg
END:VEVENT
BEGIN:VEVENT
DTSTART;TZID=Australia/Brisbane:20270809T080000
DTEND;TZID=Australia/Brisbane:20270809T093000
DTSTAMP:20260420T004213
CREATED:20260327T045804Z
LAST-MODIFIED:20260327T045804Z
UID:10003161-1817798400-1817803800@thewellbeinghub.com.au
SUMMARY:Keppel Kids Playgroup
DESCRIPTION:
URL:https://thewellbeinghub.com.au/event/keppel-kids-playgroup-4/2027-08-09/
LOCATION:Yeppoon Community Centre\, John Street\, Yeppoon\, Q\, Australia
CATEGORIES:Play Group
ATTACH;FMTTYPE=image/jpeg:https://thewellbeinghub.com.au/wp-content/uploads/2026/03/641452210_1226485949658594_4043777313757289176_n.jpg
END:VEVENT
BEGIN:VEVENT
DTSTART;TZID=Australia/Brisbane:20270816T080000
DTEND;TZID=Australia/Brisbane:20270816T093000
DTSTAMP:20260420T004213
CREATED:20260327T045804Z
LAST-MODIFIED:20260327T045804Z
UID:10003162-1818403200-1818408600@thewellbeinghub.com.au
SUMMARY:Keppel Kids Playgroup
DESCRIPTION:
URL:https://thewellbeinghub.com.au/event/keppel-kids-playgroup-4/2027-08-16/
LOCATION:Yeppoon Community Centre\, John Street\, Yeppoon\, Q\, Australia
CATEGORIES:Play Group
ATTACH;FMTTYPE=image/jpeg:https://thewellbeinghub.com.au/wp-content/uploads/2026/03/641452210_1226485949658594_4043777313757289176_n.jpg
END:VEVENT
BEGIN:VEVENT
DTSTART;TZID=Australia/Brisbane:20270823T080000
DTEND;TZID=Australia/Brisbane:20270823T093000
DTSTAMP:20260420T004213
CREATED:20260327T045804Z
LAST-MODIFIED:20260327T045804Z
UID:10003163-1819008000-1819013400@thewellbeinghub.com.au
SUMMARY:Keppel Kids Playgroup
DESCRIPTION:
URL:https://thewellbeinghub.com.au/event/keppel-kids-playgroup-4/2027-08-23/
LOCATION:Yeppoon Community Centre\, John Street\, Yeppoon\, Q\, Australia
CATEGORIES:Play Group
ATTACH;FMTTYPE=image/jpeg:https://thewellbeinghub.com.au/wp-content/uploads/2026/03/641452210_1226485949658594_4043777313757289176_n.jpg
END:VEVENT
BEGIN:VEVENT
DTSTART;TZID=Australia/Brisbane:20270830T080000
DTEND;TZID=Australia/Brisbane:20270830T093000
DTSTAMP:20260420T004213
CREATED:20260327T045804Z
LAST-MODIFIED:20260327T045804Z
UID:10003164-1819612800-1819618200@thewellbeinghub.com.au
SUMMARY:Keppel Kids Playgroup
DESCRIPTION:
URL:https://thewellbeinghub.com.au/event/keppel-kids-playgroup-4/2027-08-30/
LOCATION:Yeppoon Community Centre\, John Street\, Yeppoon\, Q\, Australia
CATEGORIES:Play Group
ATTACH;FMTTYPE=image/jpeg:https://thewellbeinghub.com.au/wp-content/uploads/2026/03/641452210_1226485949658594_4043777313757289176_n.jpg
END:VEVENT
BEGIN:VEVENT
DTSTART;TZID=Australia/Brisbane:20270906T080000
DTEND;TZID=Australia/Brisbane:20270906T093000
DTSTAMP:20260420T004213
CREATED:20260327T045804Z
LAST-MODIFIED:20260327T045804Z
UID:10003165-1820217600-1820223000@thewellbeinghub.com.au
SUMMARY:Keppel Kids Playgroup
DESCRIPTION:
URL:https://thewellbeinghub.com.au/event/keppel-kids-playgroup-4/2027-09-06/
LOCATION:Yeppoon Community Centre\, John Street\, Yeppoon\, Q\, Australia
CATEGORIES:Play Group
ATTACH;FMTTYPE=image/jpeg:https://thewellbeinghub.com.au/wp-content/uploads/2026/03/641452210_1226485949658594_4043777313757289176_n.jpg
END:VEVENT
BEGIN:VEVENT
DTSTART;TZID=Australia/Brisbane:20270913T080000
DTEND;TZID=Australia/Brisbane:20270913T093000
DTSTAMP:20260420T004213
CREATED:20260327T045804Z
LAST-MODIFIED:20260327T045804Z
UID:10003166-1820822400-1820827800@thewellbeinghub.com.au
SUMMARY:Keppel Kids Playgroup
DESCRIPTION:
URL:https://thewellbeinghub.com.au/event/keppel-kids-playgroup-4/2027-09-13/
LOCATION:Yeppoon Community Centre\, John Street\, Yeppoon\, Q\, Australia
CATEGORIES:Play Group
ATTACH;FMTTYPE=image/jpeg:https://thewellbeinghub.com.au/wp-content/uploads/2026/03/641452210_1226485949658594_4043777313757289176_n.jpg
END:VEVENT
BEGIN:VEVENT
DTSTART;TZID=Australia/Brisbane:20270920T080000
DTEND;TZID=Australia/Brisbane:20270920T093000
DTSTAMP:20260420T004213
CREATED:20260327T045804Z
LAST-MODIFIED:20260327T045804Z
UID:10003167-1821427200-1821432600@thewellbeinghub.com.au
SUMMARY:Keppel Kids Playgroup
DESCRIPTION:
URL:https://thewellbeinghub.com.au/event/keppel-kids-playgroup-4/2027-09-20/
LOCATION:Yeppoon Community Centre\, John Street\, Yeppoon\, Q\, Australia
CATEGORIES:Play Group
ATTACH;FMTTYPE=image/jpeg:https://thewellbeinghub.com.au/wp-content/uploads/2026/03/641452210_1226485949658594_4043777313757289176_n.jpg
END:VEVENT
BEGIN:VEVENT
DTSTART;TZID=Australia/Brisbane:20270927T080000
DTEND;TZID=Australia/Brisbane:20270927T093000
DTSTAMP:20260420T004213
CREATED:20260327T045804Z
LAST-MODIFIED:20260327T045804Z
UID:10003168-1822032000-1822037400@thewellbeinghub.com.au
SUMMARY:Keppel Kids Playgroup
DESCRIPTION:
URL:https://thewellbeinghub.com.au/event/keppel-kids-playgroup-4/2027-09-27/
LOCATION:Yeppoon Community Centre\, John Street\, Yeppoon\, Q\, Australia
CATEGORIES:Play Group
ATTACH;FMTTYPE=image/jpeg:https://thewellbeinghub.com.au/wp-content/uploads/2026/03/641452210_1226485949658594_4043777313757289176_n.jpg
END:VEVENT
BEGIN:VEVENT
DTSTART;TZID=Australia/Brisbane:20271004T080000
DTEND;TZID=Australia/Brisbane:20271004T093000
DTSTAMP:20260420T004213
CREATED:20260327T045804Z
LAST-MODIFIED:20260327T045804Z
UID:10003169-1822636800-1822642200@thewellbeinghub.com.au
SUMMARY:Keppel Kids Playgroup
DESCRIPTION:
URL:https://thewellbeinghub.com.au/event/keppel-kids-playgroup-4/2027-10-04/
LOCATION:Yeppoon Community Centre\, John Street\, Yeppoon\, Q\, Australia
CATEGORIES:Play Group
ATTACH;FMTTYPE=image/jpeg:https://thewellbeinghub.com.au/wp-content/uploads/2026/03/641452210_1226485949658594_4043777313757289176_n.jpg
END:VEVENT
BEGIN:VEVENT
DTSTART;TZID=Australia/Brisbane:20271011T080000
DTEND;TZID=Australia/Brisbane:20271011T093000
DTSTAMP:20260420T004213
CREATED:20260327T045804Z
LAST-MODIFIED:20260327T045804Z
UID:10003170-1823241600-1823247000@thewellbeinghub.com.au
SUMMARY:Keppel Kids Playgroup
DESCRIPTION:
URL:https://thewellbeinghub.com.au/event/keppel-kids-playgroup-4/2027-10-11/
LOCATION:Yeppoon Community Centre\, John Street\, Yeppoon\, Q\, Australia
CATEGORIES:Play Group
ATTACH;FMTTYPE=image/jpeg:https://thewellbeinghub.com.au/wp-content/uploads/2026/03/641452210_1226485949658594_4043777313757289176_n.jpg
END:VEVENT
BEGIN:VEVENT
DTSTART;TZID=Australia/Brisbane:20271018T080000
DTEND;TZID=Australia/Brisbane:20271018T093000
DTSTAMP:20260420T004213
CREATED:20260327T045804Z
LAST-MODIFIED:20260327T045804Z
UID:10003171-1823846400-1823851800@thewellbeinghub.com.au
SUMMARY:Keppel Kids Playgroup
DESCRIPTION:
URL:https://thewellbeinghub.com.au/event/keppel-kids-playgroup-4/2027-10-18/
LOCATION:Yeppoon Community Centre\, John Street\, Yeppoon\, Q\, Australia
CATEGORIES:Play Group
ATTACH;FMTTYPE=image/jpeg:https://thewellbeinghub.com.au/wp-content/uploads/2026/03/641452210_1226485949658594_4043777313757289176_n.jpg
END:VEVENT
BEGIN:VEVENT
DTSTART;TZID=Australia/Brisbane:20271025T080000
DTEND;TZID=Australia/Brisbane:20271025T093000
DTSTAMP:20260420T004213
CREATED:20260327T045804Z
LAST-MODIFIED:20260327T045804Z
UID:10003172-1824451200-1824456600@thewellbeinghub.com.au
SUMMARY:Keppel Kids Playgroup
DESCRIPTION:
URL:https://thewellbeinghub.com.au/event/keppel-kids-playgroup-4/2027-10-25/
LOCATION:Yeppoon Community Centre\, John Street\, Yeppoon\, Q\, Australia
CATEGORIES:Play Group
ATTACH;FMTTYPE=image/jpeg:https://thewellbeinghub.com.au/wp-content/uploads/2026/03/641452210_1226485949658594_4043777313757289176_n.jpg
END:VEVENT
END:VCALENDAR