BEGIN:VCALENDAR
VERSION:2.0
PRODID:-//The Wellbeing Hub - ECPv6.15.20//NONSGML v1.0//EN
CALSCALE:GREGORIAN
METHOD:PUBLISH
X-WR-CALNAME:The Wellbeing Hub
X-ORIGINAL-URL:https://thewellbeinghub.com.au
X-WR-CALDESC:Events for The Wellbeing Hub
REFRESH-INTERVAL;VALUE=DURATION:PT1H
X-Robots-Tag:noindex
X-PUBLISHED-TTL:PT1H
BEGIN:VTIMEZONE
TZID:Australia/Brisbane
BEGIN:STANDARD
TZOFFSETFROM:+1000
TZOFFSETTO:+1000
TZNAME:AEST
DTSTART:20290101T000000
END:STANDARD
END:VTIMEZONE
BEGIN:VEVENT
DTSTART;TZID=Australia/Brisbane:20300225T080000
DTEND;TZID=Australia/Brisbane:20300225T093000
DTSTAMP:20260422T205447
CREATED:20260327T045804Z
LAST-MODIFIED:20260327T045804Z
UID:10003294-1898236800-1898242200@thewellbeinghub.com.au
SUMMARY:Keppel Kids Playgroup
DESCRIPTION:
URL:https://thewellbeinghub.com.au/event/keppel-kids-playgroup-4/2030-02-25/
LOCATION:Yeppoon Community Centre\, John Street\, Yeppoon\, Q\, Australia
CATEGORIES:Play Group
ATTACH;FMTTYPE=image/jpeg:https://thewellbeinghub.com.au/wp-content/uploads/2026/03/641452210_1226485949658594_4043777313757289176_n.jpg
END:VEVENT
BEGIN:VEVENT
DTSTART;TZID=Australia/Brisbane:20300304T080000
DTEND;TZID=Australia/Brisbane:20300304T093000
DTSTAMP:20260422T205447
CREATED:20260327T045804Z
LAST-MODIFIED:20260327T045804Z
UID:10003295-1898841600-1898847000@thewellbeinghub.com.au
SUMMARY:Keppel Kids Playgroup
DESCRIPTION:
URL:https://thewellbeinghub.com.au/event/keppel-kids-playgroup-4/2030-03-04/
LOCATION:Yeppoon Community Centre\, John Street\, Yeppoon\, Q\, Australia
CATEGORIES:Play Group
ATTACH;FMTTYPE=image/jpeg:https://thewellbeinghub.com.au/wp-content/uploads/2026/03/641452210_1226485949658594_4043777313757289176_n.jpg
END:VEVENT
BEGIN:VEVENT
DTSTART;TZID=Australia/Brisbane:20300311T080000
DTEND;TZID=Australia/Brisbane:20300311T093000
DTSTAMP:20260422T205447
CREATED:20260327T045804Z
LAST-MODIFIED:20260327T045804Z
UID:10003296-1899446400-1899451800@thewellbeinghub.com.au
SUMMARY:Keppel Kids Playgroup
DESCRIPTION:
URL:https://thewellbeinghub.com.au/event/keppel-kids-playgroup-4/2030-03-11/
LOCATION:Yeppoon Community Centre\, John Street\, Yeppoon\, Q\, Australia
CATEGORIES:Play Group
ATTACH;FMTTYPE=image/jpeg:https://thewellbeinghub.com.au/wp-content/uploads/2026/03/641452210_1226485949658594_4043777313757289176_n.jpg
END:VEVENT
BEGIN:VEVENT
DTSTART;TZID=Australia/Brisbane:20300318T080000
DTEND;TZID=Australia/Brisbane:20300318T093000
DTSTAMP:20260422T205447
CREATED:20260327T045804Z
LAST-MODIFIED:20260327T045804Z
UID:10003297-1900051200-1900056600@thewellbeinghub.com.au
SUMMARY:Keppel Kids Playgroup
DESCRIPTION:
URL:https://thewellbeinghub.com.au/event/keppel-kids-playgroup-4/2030-03-18/
LOCATION:Yeppoon Community Centre\, John Street\, Yeppoon\, Q\, Australia
CATEGORIES:Play Group
ATTACH;FMTTYPE=image/jpeg:https://thewellbeinghub.com.au/wp-content/uploads/2026/03/641452210_1226485949658594_4043777313757289176_n.jpg
END:VEVENT
BEGIN:VEVENT
DTSTART;TZID=Australia/Brisbane:20300325T080000
DTEND;TZID=Australia/Brisbane:20300325T093000
DTSTAMP:20260422T205447
CREATED:20260327T045804Z
LAST-MODIFIED:20260327T045804Z
UID:10003298-1900656000-1900661400@thewellbeinghub.com.au
SUMMARY:Keppel Kids Playgroup
DESCRIPTION:
URL:https://thewellbeinghub.com.au/event/keppel-kids-playgroup-4/2030-03-25/
LOCATION:Yeppoon Community Centre\, John Street\, Yeppoon\, Q\, Australia
CATEGORIES:Play Group
ATTACH;FMTTYPE=image/jpeg:https://thewellbeinghub.com.au/wp-content/uploads/2026/03/641452210_1226485949658594_4043777313757289176_n.jpg
END:VEVENT
BEGIN:VEVENT
DTSTART;TZID=Australia/Brisbane:20300401T080000
DTEND;TZID=Australia/Brisbane:20300401T093000
DTSTAMP:20260422T205447
CREATED:20260327T045804Z
LAST-MODIFIED:20260327T045804Z
UID:10003299-1901260800-1901266200@thewellbeinghub.com.au
SUMMARY:Keppel Kids Playgroup
DESCRIPTION:
URL:https://thewellbeinghub.com.au/event/keppel-kids-playgroup-4/2030-04-01/
LOCATION:Yeppoon Community Centre\, John Street\, Yeppoon\, Q\, Australia
CATEGORIES:Play Group
ATTACH;FMTTYPE=image/jpeg:https://thewellbeinghub.com.au/wp-content/uploads/2026/03/641452210_1226485949658594_4043777313757289176_n.jpg
END:VEVENT
BEGIN:VEVENT
DTSTART;TZID=Australia/Brisbane:20300408T080000
DTEND;TZID=Australia/Brisbane:20300408T093000
DTSTAMP:20260422T205447
CREATED:20260327T045804Z
LAST-MODIFIED:20260327T045804Z
UID:10003300-1901865600-1901871000@thewellbeinghub.com.au
SUMMARY:Keppel Kids Playgroup
DESCRIPTION:
URL:https://thewellbeinghub.com.au/event/keppel-kids-playgroup-4/2030-04-08/
LOCATION:Yeppoon Community Centre\, John Street\, Yeppoon\, Q\, Australia
CATEGORIES:Play Group
ATTACH;FMTTYPE=image/jpeg:https://thewellbeinghub.com.au/wp-content/uploads/2026/03/641452210_1226485949658594_4043777313757289176_n.jpg
END:VEVENT
BEGIN:VEVENT
DTSTART;TZID=Australia/Brisbane:20300415T080000
DTEND;TZID=Australia/Brisbane:20300415T093000
DTSTAMP:20260422T205448
CREATED:20260327T045804Z
LAST-MODIFIED:20260327T045804Z
UID:10003301-1902470400-1902475800@thewellbeinghub.com.au
SUMMARY:Keppel Kids Playgroup
DESCRIPTION:
URL:https://thewellbeinghub.com.au/event/keppel-kids-playgroup-4/2030-04-15/
LOCATION:Yeppoon Community Centre\, John Street\, Yeppoon\, Q\, Australia
CATEGORIES:Play Group
ATTACH;FMTTYPE=image/jpeg:https://thewellbeinghub.com.au/wp-content/uploads/2026/03/641452210_1226485949658594_4043777313757289176_n.jpg
END:VEVENT
BEGIN:VEVENT
DTSTART;TZID=Australia/Brisbane:20300422T080000
DTEND;TZID=Australia/Brisbane:20300422T093000
DTSTAMP:20260422T205448
CREATED:20260327T045804Z
LAST-MODIFIED:20260327T045804Z
UID:10003302-1903075200-1903080600@thewellbeinghub.com.au
SUMMARY:Keppel Kids Playgroup
DESCRIPTION:
URL:https://thewellbeinghub.com.au/event/keppel-kids-playgroup-4/2030-04-22/
LOCATION:Yeppoon Community Centre\, John Street\, Yeppoon\, Q\, Australia
CATEGORIES:Play Group
ATTACH;FMTTYPE=image/jpeg:https://thewellbeinghub.com.au/wp-content/uploads/2026/03/641452210_1226485949658594_4043777313757289176_n.jpg
END:VEVENT
BEGIN:VEVENT
DTSTART;TZID=Australia/Brisbane:20300429T080000
DTEND;TZID=Australia/Brisbane:20300429T093000
DTSTAMP:20260422T205448
CREATED:20260327T045804Z
LAST-MODIFIED:20260327T045804Z
UID:10003303-1903680000-1903685400@thewellbeinghub.com.au
SUMMARY:Keppel Kids Playgroup
DESCRIPTION:
URL:https://thewellbeinghub.com.au/event/keppel-kids-playgroup-4/2030-04-29/
LOCATION:Yeppoon Community Centre\, John Street\, Yeppoon\, Q\, Australia
CATEGORIES:Play Group
ATTACH;FMTTYPE=image/jpeg:https://thewellbeinghub.com.au/wp-content/uploads/2026/03/641452210_1226485949658594_4043777313757289176_n.jpg
END:VEVENT
BEGIN:VEVENT
DTSTART;TZID=Australia/Brisbane:20300506T080000
DTEND;TZID=Australia/Brisbane:20300506T093000
DTSTAMP:20260422T205448
CREATED:20260327T045804Z
LAST-MODIFIED:20260327T045804Z
UID:10003304-1904284800-1904290200@thewellbeinghub.com.au
SUMMARY:Keppel Kids Playgroup
DESCRIPTION:
URL:https://thewellbeinghub.com.au/event/keppel-kids-playgroup-4/2030-05-06/
LOCATION:Yeppoon Community Centre\, John Street\, Yeppoon\, Q\, Australia
CATEGORIES:Play Group
ATTACH;FMTTYPE=image/jpeg:https://thewellbeinghub.com.au/wp-content/uploads/2026/03/641452210_1226485949658594_4043777313757289176_n.jpg
END:VEVENT
BEGIN:VEVENT
DTSTART;TZID=Australia/Brisbane:20300513T080000
DTEND;TZID=Australia/Brisbane:20300513T093000
DTSTAMP:20260422T205448
CREATED:20260327T045804Z
LAST-MODIFIED:20260327T045804Z
UID:10003305-1904889600-1904895000@thewellbeinghub.com.au
SUMMARY:Keppel Kids Playgroup
DESCRIPTION:
URL:https://thewellbeinghub.com.au/event/keppel-kids-playgroup-4/2030-05-13/
LOCATION:Yeppoon Community Centre\, John Street\, Yeppoon\, Q\, Australia
CATEGORIES:Play Group
ATTACH;FMTTYPE=image/jpeg:https://thewellbeinghub.com.au/wp-content/uploads/2026/03/641452210_1226485949658594_4043777313757289176_n.jpg
END:VEVENT
BEGIN:VEVENT
DTSTART;TZID=Australia/Brisbane:20300520T080000
DTEND;TZID=Australia/Brisbane:20300520T093000
DTSTAMP:20260422T205448
CREATED:20260327T045804Z
LAST-MODIFIED:20260327T045804Z
UID:10003306-1905494400-1905499800@thewellbeinghub.com.au
SUMMARY:Keppel Kids Playgroup
DESCRIPTION:
URL:https://thewellbeinghub.com.au/event/keppel-kids-playgroup-4/2030-05-20/
LOCATION:Yeppoon Community Centre\, John Street\, Yeppoon\, Q\, Australia
CATEGORIES:Play Group
ATTACH;FMTTYPE=image/jpeg:https://thewellbeinghub.com.au/wp-content/uploads/2026/03/641452210_1226485949658594_4043777313757289176_n.jpg
END:VEVENT
BEGIN:VEVENT
DTSTART;TZID=Australia/Brisbane:20300527T080000
DTEND;TZID=Australia/Brisbane:20300527T093000
DTSTAMP:20260422T205448
CREATED:20260327T045804Z
LAST-MODIFIED:20260327T045804Z
UID:10003307-1906099200-1906104600@thewellbeinghub.com.au
SUMMARY:Keppel Kids Playgroup
DESCRIPTION:
URL:https://thewellbeinghub.com.au/event/keppel-kids-playgroup-4/2030-05-27/
LOCATION:Yeppoon Community Centre\, John Street\, Yeppoon\, Q\, Australia
CATEGORIES:Play Group
ATTACH;FMTTYPE=image/jpeg:https://thewellbeinghub.com.au/wp-content/uploads/2026/03/641452210_1226485949658594_4043777313757289176_n.jpg
END:VEVENT
BEGIN:VEVENT
DTSTART;TZID=Australia/Brisbane:20300603T080000
DTEND;TZID=Australia/Brisbane:20300603T093000
DTSTAMP:20260422T205448
CREATED:20260327T045804Z
LAST-MODIFIED:20260327T045804Z
UID:10003308-1906704000-1906709400@thewellbeinghub.com.au
SUMMARY:Keppel Kids Playgroup
DESCRIPTION:
URL:https://thewellbeinghub.com.au/event/keppel-kids-playgroup-4/2030-06-03/
LOCATION:Yeppoon Community Centre\, John Street\, Yeppoon\, Q\, Australia
CATEGORIES:Play Group
ATTACH;FMTTYPE=image/jpeg:https://thewellbeinghub.com.au/wp-content/uploads/2026/03/641452210_1226485949658594_4043777313757289176_n.jpg
END:VEVENT
BEGIN:VEVENT
DTSTART;TZID=Australia/Brisbane:20300610T080000
DTEND;TZID=Australia/Brisbane:20300610T093000
DTSTAMP:20260422T205448
CREATED:20260327T045804Z
LAST-MODIFIED:20260327T045804Z
UID:10003309-1907308800-1907314200@thewellbeinghub.com.au
SUMMARY:Keppel Kids Playgroup
DESCRIPTION:
URL:https://thewellbeinghub.com.au/event/keppel-kids-playgroup-4/2030-06-10/
LOCATION:Yeppoon Community Centre\, John Street\, Yeppoon\, Q\, Australia
CATEGORIES:Play Group
ATTACH;FMTTYPE=image/jpeg:https://thewellbeinghub.com.au/wp-content/uploads/2026/03/641452210_1226485949658594_4043777313757289176_n.jpg
END:VEVENT
BEGIN:VEVENT
DTSTART;TZID=Australia/Brisbane:20300617T080000
DTEND;TZID=Australia/Brisbane:20300617T093000
DTSTAMP:20260422T205448
CREATED:20260327T045804Z
LAST-MODIFIED:20260327T045804Z
UID:10003310-1907913600-1907919000@thewellbeinghub.com.au
SUMMARY:Keppel Kids Playgroup
DESCRIPTION:
URL:https://thewellbeinghub.com.au/event/keppel-kids-playgroup-4/2030-06-17/
LOCATION:Yeppoon Community Centre\, John Street\, Yeppoon\, Q\, Australia
CATEGORIES:Play Group
ATTACH;FMTTYPE=image/jpeg:https://thewellbeinghub.com.au/wp-content/uploads/2026/03/641452210_1226485949658594_4043777313757289176_n.jpg
END:VEVENT
BEGIN:VEVENT
DTSTART;TZID=Australia/Brisbane:20300624T080000
DTEND;TZID=Australia/Brisbane:20300624T093000
DTSTAMP:20260422T205448
CREATED:20260327T045804Z
LAST-MODIFIED:20260327T045804Z
UID:10003311-1908518400-1908523800@thewellbeinghub.com.au
SUMMARY:Keppel Kids Playgroup
DESCRIPTION:
URL:https://thewellbeinghub.com.au/event/keppel-kids-playgroup-4/2030-06-24/
LOCATION:Yeppoon Community Centre\, John Street\, Yeppoon\, Q\, Australia
CATEGORIES:Play Group
ATTACH;FMTTYPE=image/jpeg:https://thewellbeinghub.com.au/wp-content/uploads/2026/03/641452210_1226485949658594_4043777313757289176_n.jpg
END:VEVENT
BEGIN:VEVENT
DTSTART;TZID=Australia/Brisbane:20300701T080000
DTEND;TZID=Australia/Brisbane:20300701T093000
DTSTAMP:20260422T205448
CREATED:20260327T045804Z
LAST-MODIFIED:20260327T045804Z
UID:10003312-1909123200-1909128600@thewellbeinghub.com.au
SUMMARY:Keppel Kids Playgroup
DESCRIPTION:
URL:https://thewellbeinghub.com.au/event/keppel-kids-playgroup-4/2030-07-01/
LOCATION:Yeppoon Community Centre\, John Street\, Yeppoon\, Q\, Australia
CATEGORIES:Play Group
ATTACH;FMTTYPE=image/jpeg:https://thewellbeinghub.com.au/wp-content/uploads/2026/03/641452210_1226485949658594_4043777313757289176_n.jpg
END:VEVENT
BEGIN:VEVENT
DTSTART;TZID=Australia/Brisbane:20300708T080000
DTEND;TZID=Australia/Brisbane:20300708T093000
DTSTAMP:20260422T205448
CREATED:20260327T045804Z
LAST-MODIFIED:20260327T045804Z
UID:10003313-1909728000-1909733400@thewellbeinghub.com.au
SUMMARY:Keppel Kids Playgroup
DESCRIPTION:
URL:https://thewellbeinghub.com.au/event/keppel-kids-playgroup-4/2030-07-08/
LOCATION:Yeppoon Community Centre\, John Street\, Yeppoon\, Q\, Australia
CATEGORIES:Play Group
ATTACH;FMTTYPE=image/jpeg:https://thewellbeinghub.com.au/wp-content/uploads/2026/03/641452210_1226485949658594_4043777313757289176_n.jpg
END:VEVENT
BEGIN:VEVENT
DTSTART;TZID=Australia/Brisbane:20300715T080000
DTEND;TZID=Australia/Brisbane:20300715T093000
DTSTAMP:20260422T205448
CREATED:20260327T045804Z
LAST-MODIFIED:20260327T045804Z
UID:10003314-1910332800-1910338200@thewellbeinghub.com.au
SUMMARY:Keppel Kids Playgroup
DESCRIPTION:
URL:https://thewellbeinghub.com.au/event/keppel-kids-playgroup-4/2030-07-15/
LOCATION:Yeppoon Community Centre\, John Street\, Yeppoon\, Q\, Australia
CATEGORIES:Play Group
ATTACH;FMTTYPE=image/jpeg:https://thewellbeinghub.com.au/wp-content/uploads/2026/03/641452210_1226485949658594_4043777313757289176_n.jpg
END:VEVENT
BEGIN:VEVENT
DTSTART;TZID=Australia/Brisbane:20300722T080000
DTEND;TZID=Australia/Brisbane:20300722T093000
DTSTAMP:20260422T205448
CREATED:20260327T045804Z
LAST-MODIFIED:20260327T045804Z
UID:10003315-1910937600-1910943000@thewellbeinghub.com.au
SUMMARY:Keppel Kids Playgroup
DESCRIPTION:
URL:https://thewellbeinghub.com.au/event/keppel-kids-playgroup-4/2030-07-22/
LOCATION:Yeppoon Community Centre\, John Street\, Yeppoon\, Q\, Australia
CATEGORIES:Play Group
ATTACH;FMTTYPE=image/jpeg:https://thewellbeinghub.com.au/wp-content/uploads/2026/03/641452210_1226485949658594_4043777313757289176_n.jpg
END:VEVENT
BEGIN:VEVENT
DTSTART;TZID=Australia/Brisbane:20300729T080000
DTEND;TZID=Australia/Brisbane:20300729T093000
DTSTAMP:20260422T205448
CREATED:20260327T045804Z
LAST-MODIFIED:20260327T045804Z
UID:10003316-1911542400-1911547800@thewellbeinghub.com.au
SUMMARY:Keppel Kids Playgroup
DESCRIPTION:
URL:https://thewellbeinghub.com.au/event/keppel-kids-playgroup-4/2030-07-29/
LOCATION:Yeppoon Community Centre\, John Street\, Yeppoon\, Q\, Australia
CATEGORIES:Play Group
ATTACH;FMTTYPE=image/jpeg:https://thewellbeinghub.com.au/wp-content/uploads/2026/03/641452210_1226485949658594_4043777313757289176_n.jpg
END:VEVENT
BEGIN:VEVENT
DTSTART;TZID=Australia/Brisbane:20300805T080000
DTEND;TZID=Australia/Brisbane:20300805T093000
DTSTAMP:20260422T205448
CREATED:20260327T045804Z
LAST-MODIFIED:20260327T045804Z
UID:10003317-1912147200-1912152600@thewellbeinghub.com.au
SUMMARY:Keppel Kids Playgroup
DESCRIPTION:
URL:https://thewellbeinghub.com.au/event/keppel-kids-playgroup-4/2030-08-05/
LOCATION:Yeppoon Community Centre\, John Street\, Yeppoon\, Q\, Australia
CATEGORIES:Play Group
ATTACH;FMTTYPE=image/jpeg:https://thewellbeinghub.com.au/wp-content/uploads/2026/03/641452210_1226485949658594_4043777313757289176_n.jpg
END:VEVENT
BEGIN:VEVENT
DTSTART;TZID=Australia/Brisbane:20300812T080000
DTEND;TZID=Australia/Brisbane:20300812T093000
DTSTAMP:20260422T205448
CREATED:20260327T045804Z
LAST-MODIFIED:20260327T045804Z
UID:10003318-1912752000-1912757400@thewellbeinghub.com.au
SUMMARY:Keppel Kids Playgroup
DESCRIPTION:
URL:https://thewellbeinghub.com.au/event/keppel-kids-playgroup-4/2030-08-12/
LOCATION:Yeppoon Community Centre\, John Street\, Yeppoon\, Q\, Australia
CATEGORIES:Play Group
ATTACH;FMTTYPE=image/jpeg:https://thewellbeinghub.com.au/wp-content/uploads/2026/03/641452210_1226485949658594_4043777313757289176_n.jpg
END:VEVENT
BEGIN:VEVENT
DTSTART;TZID=Australia/Brisbane:20300819T080000
DTEND;TZID=Australia/Brisbane:20300819T093000
DTSTAMP:20260422T205448
CREATED:20260327T045804Z
LAST-MODIFIED:20260327T045804Z
UID:10003319-1913356800-1913362200@thewellbeinghub.com.au
SUMMARY:Keppel Kids Playgroup
DESCRIPTION:
URL:https://thewellbeinghub.com.au/event/keppel-kids-playgroup-4/2030-08-19/
LOCATION:Yeppoon Community Centre\, John Street\, Yeppoon\, Q\, Australia
CATEGORIES:Play Group
ATTACH;FMTTYPE=image/jpeg:https://thewellbeinghub.com.au/wp-content/uploads/2026/03/641452210_1226485949658594_4043777313757289176_n.jpg
END:VEVENT
BEGIN:VEVENT
DTSTART;TZID=Australia/Brisbane:20300826T080000
DTEND;TZID=Australia/Brisbane:20300826T093000
DTSTAMP:20260422T205448
CREATED:20260327T045804Z
LAST-MODIFIED:20260327T045804Z
UID:10003320-1913961600-1913967000@thewellbeinghub.com.au
SUMMARY:Keppel Kids Playgroup
DESCRIPTION:
URL:https://thewellbeinghub.com.au/event/keppel-kids-playgroup-4/2030-08-26/
LOCATION:Yeppoon Community Centre\, John Street\, Yeppoon\, Q\, Australia
CATEGORIES:Play Group
ATTACH;FMTTYPE=image/jpeg:https://thewellbeinghub.com.au/wp-content/uploads/2026/03/641452210_1226485949658594_4043777313757289176_n.jpg
END:VEVENT
BEGIN:VEVENT
DTSTART;TZID=Australia/Brisbane:20300902T080000
DTEND;TZID=Australia/Brisbane:20300902T093000
DTSTAMP:20260422T205448
CREATED:20260327T045804Z
LAST-MODIFIED:20260327T045804Z
UID:10003321-1914566400-1914571800@thewellbeinghub.com.au
SUMMARY:Keppel Kids Playgroup
DESCRIPTION:
URL:https://thewellbeinghub.com.au/event/keppel-kids-playgroup-4/2030-09-02/
LOCATION:Yeppoon Community Centre\, John Street\, Yeppoon\, Q\, Australia
CATEGORIES:Play Group
ATTACH;FMTTYPE=image/jpeg:https://thewellbeinghub.com.au/wp-content/uploads/2026/03/641452210_1226485949658594_4043777313757289176_n.jpg
END:VEVENT
BEGIN:VEVENT
DTSTART;TZID=Australia/Brisbane:20300909T080000
DTEND;TZID=Australia/Brisbane:20300909T093000
DTSTAMP:20260422T205448
CREATED:20260327T045804Z
LAST-MODIFIED:20260327T045804Z
UID:10003322-1915171200-1915176600@thewellbeinghub.com.au
SUMMARY:Keppel Kids Playgroup
DESCRIPTION:
URL:https://thewellbeinghub.com.au/event/keppel-kids-playgroup-4/2030-09-09/
LOCATION:Yeppoon Community Centre\, John Street\, Yeppoon\, Q\, Australia
CATEGORIES:Play Group
ATTACH;FMTTYPE=image/jpeg:https://thewellbeinghub.com.au/wp-content/uploads/2026/03/641452210_1226485949658594_4043777313757289176_n.jpg
END:VEVENT
BEGIN:VEVENT
DTSTART;TZID=Australia/Brisbane:20300916T080000
DTEND;TZID=Australia/Brisbane:20300916T093000
DTSTAMP:20260422T205448
CREATED:20260327T045804Z
LAST-MODIFIED:20260327T045804Z
UID:10003323-1915776000-1915781400@thewellbeinghub.com.au
SUMMARY:Keppel Kids Playgroup
DESCRIPTION:
URL:https://thewellbeinghub.com.au/event/keppel-kids-playgroup-4/2030-09-16/
LOCATION:Yeppoon Community Centre\, John Street\, Yeppoon\, Q\, Australia
CATEGORIES:Play Group
ATTACH;FMTTYPE=image/jpeg:https://thewellbeinghub.com.au/wp-content/uploads/2026/03/641452210_1226485949658594_4043777313757289176_n.jpg
END:VEVENT
END:VCALENDAR