BEGIN:VCALENDAR
VERSION:2.0
PRODID:-//The Wellbeing Hub - ECPv6.15.20//NONSGML v1.0//EN
CALSCALE:GREGORIAN
METHOD:PUBLISH
X-WR-CALNAME:The Wellbeing Hub
X-ORIGINAL-URL:https://thewellbeinghub.com.au
X-WR-CALDESC:Events for The Wellbeing Hub
REFRESH-INTERVAL;VALUE=DURATION:PT1H
X-Robots-Tag:noindex
X-PUBLISHED-TTL:PT1H
BEGIN:VTIMEZONE
TZID:Australia/Brisbane
BEGIN:STANDARD
TZOFFSETFROM:+1000
TZOFFSETTO:+1000
TZNAME:AEST
DTSTART:20250101T000000
END:STANDARD
END:VTIMEZONE
BEGIN:VEVENT
DTSTART;TZID=Australia/Brisbane:20260321T090000
DTEND;TZID=Australia/Brisbane:20260322T150000
DTSTAMP:20260420T073717
CREATED:20260208T031807Z
LAST-MODIFIED:20260208T031807Z
UID:10000316-1774083600-1774191600@thewellbeinghub.com.au
SUMMARY:Reiki Workshop
DESCRIPTION:Goddess Inspired Therapies is happy to announce that Sherrie will be hosting a Usui Reiki first and second degree workshop.\n\nFirst degree will be held on the Saturday 21st March 9am-5pm\nSecond degree including SeichimWill be held on Sunday the 22nd of March 9am-3pm.Lunch\, herbal tea\, water is provided.\n\nWhat is Reiki?\nThe simplest definition of the word Reiki is universal or spiritual (Rei)- Life force or Energy (Ki).The Reiki system is a simple and powerful system of energy work that anyone can learn to use for developing\, physical\, emotional\, mental\, spiritual harmony and wholeness in themselves\, and for assisting others.\n\n\nLevel 1/ first degree. In this lesson we cover;The Reiki storyHistory of ReikiReiki principlesAbout healing energyAbout attunementUsing ReikiSelf treatmentTreating othersHand position and placementReiki handsMore ways to apply ReikiThe aura and chakras plus more\n\n\nLevel two/ 2nd degree we cover;Introduction to 2nd degree ReikiReiki lineageUnderstanding how the 2nd degree worksThe sacred symbolsDistant/ absent healingGroup healingsBecoming a Reiki therapistCode of conduct and ethicsAttunementSeichimPsychic development as a Reiki practitioner and more\n\n\nUsui Reiki training level I- II plus Seichim. Course manuals and certificates are provided.\n\nSpots are limited! Express your interest now.\n\nIf you are a current Reiki student of Sherries feel free to come along.\nConnect with us via email at goddessinspiredtherapies@outlook.com and further information will be emailed to you.\n\nWhere: Yeppoon QLD.Contact Sherrie 0437857399
URL:https://thewellbeinghub.com.au/event/reiki-workshop/
LOCATION:Yeppoon
CATEGORIES:Reiki,workshop
ATTACH;FMTTYPE=image/jpeg:https://thewellbeinghub.com.au/wp-content/uploads/2026/02/628205647_1206010254851133_5494381906246015786_n.jpg
END:VEVENT
END:VCALENDAR