BEGIN:VCALENDAR
VERSION:2.0
PRODID:-//The Wellbeing Hub - ECPv6.15.20//NONSGML v1.0//EN
CALSCALE:GREGORIAN
METHOD:PUBLISH
X-WR-CALNAME:The Wellbeing Hub
X-ORIGINAL-URL:https://thewellbeinghub.com.au
X-WR-CALDESC:Events for The Wellbeing Hub
REFRESH-INTERVAL;VALUE=DURATION:PT1H
X-Robots-Tag:noindex
X-PUBLISHED-TTL:PT1H
BEGIN:VTIMEZONE
TZID:Australia/Brisbane
BEGIN:STANDARD
TZOFFSETFROM:+1000
TZOFFSETTO:+1000
TZNAME:AEST
DTSTART:20240101T000000
END:STANDARD
END:VTIMEZONE
BEGIN:VEVENT
DTSTART;TZID=Australia/Brisbane:20260212T170000
DTEND;TZID=Australia/Brisbane:20260212T190000
DTSTAMP:20260420T060632
CREATED:20260112T045737Z
LAST-MODIFIED:20260112T045737Z
UID:10000224-1770915600-1770922800@thewellbeinghub.com.au
SUMMARY:Linked in Local Rockhampton
DESCRIPTION:On Thursday\, 12 February\, LinkedIn Local Rockhampton returns to CocoBrew\, welcoming business owners\, professionals\, and community leaders from right across Central Queensland for our first event of the year.\n\nNo presentations. No sales pitches. Just genuine conversations\, familiar faces\, and plenty of new ones.\n\nProudly sponsored in February by SV Partners\, each LinkedIn Local Rockhampton event attracts 60–100 attendees\, from emerging start-ups and local SMEs to major industry and regional organisations. What connects them all is simple: a shared belief that strong relationships are built face-to-face\, not through a screen.\n\nIf you value real connections\, meaningful conversations\, and being part of a growing regional business community\, this is the night to be there.\nThanks to our partners: Connecting Industry\, Hit CQ and Triple M Central Queensland\, Bishopp Outdoor Advertising\, and CocoBrew Rockhampton.
URL:https://thewellbeinghub.com.au/event/linked-in-local-rockhampton/
LOCATION:Cocobrew Rockhampton\, 114 William Street\, Rockhampton\, Queensland\, 4703\, Australia
CATEGORIES:networking,Small Business
ATTACH;FMTTYPE=image/jpeg:https://thewellbeinghub.com.au/wp-content/uploads/2026/01/480461603_651198984254326_6591259386288577938_n.jpg
ORGANIZER;CN="LinkedIn Local":MAILTO:info@linkedinlocalrockhampton.com.au
END:VEVENT
BEGIN:VEVENT
DTSTART;TZID=Australia/Brisbane:20251210T090000
DTEND;TZID=Australia/Brisbane:20251210T110000
DTSTAMP:20260420T060632
CREATED:20251117T052058Z
LAST-MODIFIED:20251117T052058Z
UID:10000136-1765357200-1765364400@thewellbeinghub.com.au
SUMMARY:Your AI Toolbox
DESCRIPTION:Build\, Automate\, Thrive \nTake your productivity to the next level in this interactive\, hands-on workshop. \n  \nWe’ll dive deeper into practical examples of how to set up AI tools\, boost personal efficiency\, and create automations that streamline your daily tasks. \nTopics covered include: \n\nThe latest developments in AI platforms like ChatGPT and Gemini\nStrategies for enhancing personal and team productivity\nBuilding automations to simplify workflows\n\nBy the end of the session\, you’ll walk away with at least one fully set-up workflow or automation and practical experience using these programs to make your work smarter\, faster\, and more efficient. \n  \nPresented by Liam Fahey. \n  \nThis workshop is delivered by the Digital Solutions Program\, in partnership with Livingstone Shire Council. \nEligibility Requirements \nWe encourage potential participants to review eligibility requirements before registering. Eligibility requirements include: \n\nbusinesses with under 20 Full-Time Equivalent (FTE) employees\nbe a Queensland\, Northern Territory or Western Australian-based business\nhold an active Australian Business Number (ABN)
URL:https://thewellbeinghub.com.au/event/your-ai-toolbox/
LOCATION:The Hub\, James Street\, Yeppoon\, Queensland\, 4703\, Australia
CATEGORIES:Business,Small Business,workshop
ATTACH;FMTTYPE=image/webp:https://thewellbeinghub.com.au/wp-content/uploads/2025/11/ai.webp
END:VEVENT
BEGIN:VEVENT
DTSTART;TZID=Australia/Brisbane:20251206T093000
DTEND;TZID=Australia/Brisbane:20251206T113000
DTSTAMP:20260420T060632
CREATED:20251126T020611Z
LAST-MODIFIED:20251126T020611Z
UID:10000153-1765013400-1765020600@thewellbeinghub.com.au
SUMMARY:MIDWIFING YOUR BUSINESS - The Art of Creating with Heart: Sharing Circle
DESCRIPTION: Midwifing Your Business | The Art of Creating with Heart\n\nHeart-Centred\, Small Group Sharing Circle for the Rising Feminine.\n\nYour business is not separate from you — it is an extension of your heart\, your rhythm\, and your wild wisdom We will gather to explore how your heart weaves through your work\, your leadership\, and your creative flow.\n\nTogether\, we will: Root into the landscape of your professional journey and the stories your heart longs to tell Breathe heart-connection into your daily rhythms\, finding confidence\, resilience\, and flow Align your choices with your deeper values and vision\, so work feels like devotion\, not depletion Soften the weight of stress and old patterns\, and return to authenticity\, purpose\, and presence Cultivate boundaries\, compassion\, and clarity as living practices of sustainable leadership\n\n This circle calls to the women who: Feels caught in transition or uncertainty in her work Longs to move from stagnation into flow and growth Wants to lead with heart\, not hustle Seeks a grounded\, feminine way of being in business\n\n Tanby Garden Café\, Tanby Saturday 6th December | 9:30–11:30am $25 | Small group (4–6 women)\nSign up here: https://www.feminineattunement.com/…/midwifing-your…\n Book: Text 0429 824 582 feminineattunement.com |  @alissa_feminineattunement |  alissa@feminineattunement.com
URL:https://thewellbeinghub.com.au/event/midwifing-your-business-the-art-of-creating-with-heart-sharing-circle/
LOCATION:Tanby Garden Centre\, 178 Kinka Beach Road\, Tanby\, Queensland\, 4703\, Australia
CATEGORIES:Business,Small Business,women in business,women's circle,workshop
ATTACH;FMTTYPE=image/jpeg:https://thewellbeinghub.com.au/wp-content/uploads/2025/11/mw.jpg
END:VEVENT
BEGIN:VEVENT
DTSTART;TZID=Australia/Brisbane:20251203T070000
DTEND;TZID=Australia/Brisbane:20251203T083000
DTSTAMP:20260420T060632
CREATED:20251126T035710Z
LAST-MODIFIED:20251126T035710Z
UID:10000166-1764745200-1764750600@thewellbeinghub.com.au
SUMMARY:December T@ble Event: Business Networking Bingo
DESCRIPTION:Join us for something a little different at our final T@ble event for 2025!\nWe’re wrapping up the year with a festive morning of connection\, conversation and Business Networking Bingo — a fun\, fast way to meet new people and build real business relationships before the holidays. \n\nYou’ll receive a bingo card on arrival\, then mingle with other local business owners to find matches for each square. Get five in a row and you’re a winner!  It’s a relaxed\, interactive way to grow your network and finish the year on a high.\n\n Location: Rocks Café (downstairs) Time: 7:00am – 8:30am Wednesday 3rd December\n\nA light breakfast and complimentary coffee will be provided.Kindly RSVP via the event to help us plan catering.\nThis event is proudly supported by Livingstone Shire Council.\nWe can’t wait to celebrate the year with you — see you there!
URL:https://thewellbeinghub.com.au/event/december-tble-event-business-networking-bingo/
LOCATION:The Rocks Cafe\, Lagoon Place\, Yeppoon\, Queensland\, Australia
CATEGORIES:Business,networking,Small Business
ATTACH;FMTTYPE=image/jpeg:https://thewellbeinghub.com.au/wp-content/uploads/2025/11/tle.jpg
END:VEVENT
BEGIN:VEVENT
DTSTART;TZID=Australia/Brisbane:20251128T130000
DTEND;TZID=Australia/Brisbane:20251128T143000
DTSTAMP:20260420T060632
CREATED:20251126T050749Z
LAST-MODIFIED:20251126T050749Z
UID:10000176-1764334800-1764340200@thewellbeinghub.com.au
SUMMARY:Capricorn Business Hub Information Session
DESCRIPTION:A new home of startups and innovative small businesses is coming for Rockhampton and the Capricorn Region. \nJoin us to meet the team\, hear the vision\, and learn how you can get connected to the startup and innovative small business ecosystem in our region.
URL:https://thewellbeinghub.com.au/event/capricorn-business-hub-information-session/
LOCATION:Oasis Community Services Training Centre\, 2 Glenmore Road\, Park Avenue\, Queensland\, Australia
CATEGORIES:Business,networking,Small Business
ATTACH;FMTTYPE=image/webp:https://thewellbeinghub.com.au/wp-content/uploads/2025/11/hub.webp
END:VEVENT
BEGIN:VEVENT
DTSTART;TZID=Australia/Brisbane:20251114T163000
DTEND;TZID=Australia/Brisbane:20251114T180000
DTSTAMP:20260420T060632
CREATED:20251112T045322Z
LAST-MODIFIED:20251112T045337Z
UID:10000097-1763137800-1763143200@thewellbeinghub.com.au
SUMMARY:RWNCQ AGM 2025
DESCRIPTION:RWNCQ Members are invited to join us for our 2025 AGM and social. \nWe will announce our 2025 bursary nominee\, talk about the awesome events we have in plan for 2026\, and have time for a wine!
URL:https://thewellbeinghub.com.au/event/rwncq-agm-2025/
LOCATION:The Cobbler’s Rooms\, 19 East Street\, Rockhampton\, Queensland\, Australia
CATEGORIES:networking,Small Business,women in business
ATTACH;FMTTYPE=image/jpeg:https://thewellbeinghub.com.au/wp-content/uploads/2025/11/reg.jpg
ORGANIZER;CN="Regional Women's Network":MAILTO:regionalwomensnetworkcq@gmail.com
END:VEVENT
BEGIN:VEVENT
DTSTART;TZID=Australia/Brisbane:20251106T070000
DTEND;TZID=Australia/Brisbane:20251106T083000
DTSTAMP:20260420T060632
CREATED:20251021T224803Z
LAST-MODIFIED:20251021T224803Z
UID:10000042-1762412400-1762417800@thewellbeinghub.com.au
SUMMARY:Capricornia Chamber of Commerce Coffee Catch Up
DESCRIPTION:Coffee\, conversation and a closer look at modular living!\n\n\n\nJoin us on Thursday 6 November for our next Capricornia Chamber of Commerce Coffee Catch Up\, proudly hosted by Complete Modular Living Queensland (CMLQ) at their Yeppoon display home.\n\n\n\nDiscover how Queensland-built modular homes are transforming the way we live — designed for our climate\, lifestyle and standards. Meet the CMLQ team\, tour the display home and connect with local business owners over a morning coffee.\n\n\n\n Location: CMLQ Display Home\, Yeppoon\n Time: 7:00am – 8:30am
URL:https://thewellbeinghub.com.au/event/capricornia-chamber-of-commerce-coffee-catch-up/
LOCATION:Appleton Drive\, Yeppoon\, Appleton Drive\, Yeppoon\, Queensland\, 4703\, Australia
CATEGORIES:Community event,networking,Small Business
ATTACH;FMTTYPE=image/webp:https://thewellbeinghub.com.au/wp-content/uploads/2025/10/Updated-large-file-logo-with-phrase-1280x1280-1.webp
ORGANIZER;CN="Capricornia Chamber of Commerce":MAILTO:president@capricorniachamber.com.au
END:VEVENT
BEGIN:VEVENT
DTSTART;TZID=Australia/Brisbane:20251105T171500
DTEND;TZID=Australia/Brisbane:20251105T183000
DTSTAMP:20260420T060632
CREATED:20251021T225321Z
LAST-MODIFIED:20251021T225321Z
UID:10000043-1762362900-1762367400@thewellbeinghub.com.au
SUMMARY:The T@ble Networking Event
DESCRIPTION:Justine Pegg from Orchid & Lily Boutique is a beautiful reminder that every successful business begins with courage — the courage to say “let’s do this”\n\n\n\n\n\nShe’ll also be hosting our next T@ble event in early November\, where she’ll be sharing how social media has impacted her business right here on the Capricorn Coast. \n\n\n\n\n\n Mark your calendars: Wednesday\, 5th November From 5:15pm Orchid & Lily Boutique – Shop 4/15 James St\, Yeppoon
URL:https://thewellbeinghub.com.au/event/the-tble-networking-event/
LOCATION:Orchid & Lily Boutique\, Shop 4\, 15 James Street\, Yeppoon\, Queensland\, 4703\, Australia
CATEGORIES:networking,Small Business
ATTACH;FMTTYPE=image/jpeg:https://thewellbeinghub.com.au/wp-content/uploads/2025/10/567683789_4141035919469086_6214342670189641279_n.jpg
END:VEVENT
END:VCALENDAR