BEGIN:VCALENDAR
VERSION:2.0
PRODID:-//The Wellbeing Hub - ECPv6.15.20//NONSGML v1.0//EN
CALSCALE:GREGORIAN
METHOD:PUBLISH
X-WR-CALNAME:The Wellbeing Hub
X-ORIGINAL-URL:https://thewellbeinghub.com.au
X-WR-CALDESC:Events for The Wellbeing Hub
REFRESH-INTERVAL;VALUE=DURATION:PT1H
X-Robots-Tag:noindex
X-PUBLISHED-TTL:PT1H
BEGIN:VTIMEZONE
TZID:Australia/Brisbane
BEGIN:STANDARD
TZOFFSETFROM:+1000
TZOFFSETTO:+1000
TZNAME:AEST
DTSTART:20250101T000000
END:STANDARD
END:VTIMEZONE
BEGIN:VEVENT
DTSTART;TZID=Australia/Brisbane:20260511T181500
DTEND;TZID=Australia/Brisbane:20260511T203000
DTSTAMP:20260424T020826
CREATED:20260423T011036Z
LAST-MODIFIED:20260423T011036Z
UID:10004122-1778523300-1778531400@thewellbeinghub.com.au
SUMMARY:Toastmasters Yeppoon Fortnightly Meeting
DESCRIPTION:Whether you are a seasoned speaker or just starting out\, our meetings offer a friendly and supportive space to practise\, learn and grow.\n\nGuests are always welcome and there is no pressure to speak. Just come along\, see how it all works and enjoy the night.\n\nPrefer to join online? We are a hybrid club.\n Please send us a message for the TEAMS link.\nWe would love to see you there!
URL:https://thewellbeinghub.com.au/event/toastmasters-yeppoon-fortnightly-meeting-2/2026-05-11/
LOCATION:The Hub\, James Street\, Yeppoon\, Queensland\, 4703\, Australia
CATEGORIES:Toastmasters
ATTACH;FMTTYPE=image/jpeg:https://thewellbeinghub.com.au/wp-content/uploads/2026/04/616743099_1564611777960795_894157261189536057_n.jpg
ORGANIZER;CN="Yeppoon Toastmasters Club":MAILTO:contact-3822605@toastmastersclubs.org
END:VEVENT
BEGIN:VEVENT
DTSTART;TZID=Australia/Brisbane:20260525T181500
DTEND;TZID=Australia/Brisbane:20260525T203000
DTSTAMP:20260424T020826
CREATED:20260423T010755Z
LAST-MODIFIED:20260423T010755Z
UID:10004003-1779732900-1779741000@thewellbeinghub.com.au
SUMMARY:Toastmasters Yeppoon Fortnightly Meeting
DESCRIPTION:Whether you are a seasoned speaker or just starting out\, our meetings offer a friendly and supportive space to practise\, learn and grow.\n\nGuests are always welcome and there is no pressure to speak. Just come along\, see how it all works and enjoy the night.\n\nPrefer to join online? We are a hybrid club.\n Please send us a message for the TEAMS link.\nWe would love to see you there!
URL:https://thewellbeinghub.com.au/event/toastmasters-yeppoon-fortnightly-meeting/2026-05-25/
LOCATION:The Hub\, James Street\, Yeppoon\, Queensland\, 4703\, Australia
CATEGORIES:Toastmasters
ATTACH;FMTTYPE=image/jpeg:https://thewellbeinghub.com.au/wp-content/uploads/2026/04/616743099_1564611777960795_894157261189536057_n.jpg
ORGANIZER;CN="Yeppoon Toastmasters Club":MAILTO:contact-3822605@toastmastersclubs.org
END:VEVENT
END:VCALENDAR