BEGIN:VCALENDAR
VERSION:2.0
PRODID:-//The Wellbeing Hub - ECPv6.15.20//NONSGML v1.0//EN
CALSCALE:GREGORIAN
METHOD:PUBLISH
X-ORIGINAL-URL:https://thewellbeinghub.com.au
X-WR-CALDESC:Events for The Wellbeing Hub
REFRESH-INTERVAL;VALUE=DURATION:PT1H
X-Robots-Tag:noindex
X-PUBLISHED-TTL:PT1H
BEGIN:VTIMEZONE
TZID:Australia/Brisbane
BEGIN:STANDARD
TZOFFSETFROM:+1000
TZOFFSETTO:+1000
TZNAME:AEST
DTSTART:20240101T000000
END:STANDARD
END:VTIMEZONE
BEGIN:VEVENT
DTSTART;TZID=Australia/Brisbane:20251212T170000
DTEND;TZID=Australia/Brisbane:20251212T200000
DTSTAMP:20260420T021459
CREATED:20251126T051839Z
LAST-MODIFIED:20251126T051839Z
UID:10000178-1765558800-1765569600@thewellbeinghub.com.au
SUMMARY:Gyspy Lane & Pipkin Books Mingle & Jingle
DESCRIPTION:Save the date!\n\n\nOur VIP Christmas party with Pipkin is coming up! Friday 12th December 5pm-8pm.\n\n\nWe can’t wait to see you\, more info to come
URL:https://thewellbeinghub.com.au/event/gyspy-lane-pipkin-books-mingle-jingle/
LOCATION:Gypsy Lane & Pipkin Books\, Normanby Street\, Yeppoon\, Queensland\, Australia
CATEGORIES:Christmas,Shopping,VIP Event
ATTACH;FMTTYPE=image/jpeg:https://thewellbeinghub.com.au/wp-content/uploads/2025/11/gypsy.jpg
END:VEVENT
END:VCALENDAR