BEGIN:VCALENDAR
VERSION:2.0
PRODID:-//The Wellbeing Hub - ECPv6.15.20//NONSGML v1.0//EN
CALSCALE:GREGORIAN
METHOD:PUBLISH
X-WR-CALNAME:The Wellbeing Hub
X-ORIGINAL-URL:https://thewellbeinghub.com.au
X-WR-CALDESC:Events for The Wellbeing Hub
REFRESH-INTERVAL;VALUE=DURATION:PT1H
X-Robots-Tag:noindex
X-PUBLISHED-TTL:PT1H
BEGIN:VTIMEZONE
TZID:Australia/Brisbane
BEGIN:STANDARD
TZOFFSETFROM:+1000
TZOFFSETTO:+1000
TZNAME:AEST
DTSTART:20250101T000000
END:STANDARD
END:VTIMEZONE
BEGIN:VEVENT
DTSTART;TZID=Australia/Brisbane:20260502T193000
DTEND;TZID=Australia/Brisbane:20260502T210000
DTSTAMP:20260420T041227
CREATED:20260326T012841Z
LAST-MODIFIED:20260326T012841Z
UID:10003052-1777750200-1777755600@thewellbeinghub.com.au
SUMMARY:Ghosts\, Murder & Jack the Ripper
DESCRIPTION:Join our evening tour through Rockhampton’s streets and alleys and discover the darker side of the city. Learn about the ghosts that haunted Quay st\, the city’s first recorded murder\, the Rockhampton gold heist that created Sherlock Holmes and modern forensics and yes\, learn the bizarre and true history of Jack the Ripper’s connection to Rockhampton. \nKIDS WELCOME (note: its in the dark and spooky) \nTours start at the Criterion Hotel on Quay St\, head towards the post office on East St\, then into the alleys until finishing out the front of the iconic Customs House.Bookings essential \n#rockhamptonzoo #botanicgardens #RockhamptonBotanicGardens #exploretocreatererockhampton #explorerockhamptonregion #ghosttour #ghosttourrockhampton #ghosttouraustralia #truecrimetour #truecrimetourrockhampton #myrockhampton #rockhamptontourism #rockhamptontour #VisitCapricorn #SouthernGreatBarrierReef #SandstoneWilderness
URL:https://thewellbeinghub.com.au/event/ghosts-murder-jack-the-ripper/2026-05-02/
LOCATION:The Criterian Hotel\, 150 Quay Street\, Rockhampton\, Queensland\, Australia
CATEGORIES:History,Walking tour
ATTACH;FMTTYPE=image/jpeg:https://thewellbeinghub.com.au/wp-content/uploads/2026/03/652542702_928890783220743_8545634334410897198_n.jpg
ORGANIZER;CN="Time Safaris Walking Tours Rockhampton":MAILTO:timesafarisrockhampton@gmail.com
END:VEVENT
BEGIN:VEVENT
DTSTART;TZID=Australia/Brisbane:20260509T193000
DTEND;TZID=Australia/Brisbane:20260509T210000
DTSTAMP:20260420T041227
CREATED:20260326T012841Z
LAST-MODIFIED:20260326T012841Z
UID:10003053-1778355000-1778360400@thewellbeinghub.com.au
SUMMARY:Ghosts\, Murder & Jack the Ripper
DESCRIPTION:Join our evening tour through Rockhampton’s streets and alleys and discover the darker side of the city. Learn about the ghosts that haunted Quay st\, the city’s first recorded murder\, the Rockhampton gold heist that created Sherlock Holmes and modern forensics and yes\, learn the bizarre and true history of Jack the Ripper’s connection to Rockhampton. \nKIDS WELCOME (note: its in the dark and spooky) \nTours start at the Criterion Hotel on Quay St\, head towards the post office on East St\, then into the alleys until finishing out the front of the iconic Customs House.Bookings essential \n#rockhamptonzoo #botanicgardens #RockhamptonBotanicGardens #exploretocreatererockhampton #explorerockhamptonregion #ghosttour #ghosttourrockhampton #ghosttouraustralia #truecrimetour #truecrimetourrockhampton #myrockhampton #rockhamptontourism #rockhamptontour #VisitCapricorn #SouthernGreatBarrierReef #SandstoneWilderness
URL:https://thewellbeinghub.com.au/event/ghosts-murder-jack-the-ripper/2026-05-09/
LOCATION:The Criterian Hotel\, 150 Quay Street\, Rockhampton\, Queensland\, Australia
CATEGORIES:History,Walking tour
ATTACH;FMTTYPE=image/jpeg:https://thewellbeinghub.com.au/wp-content/uploads/2026/03/652542702_928890783220743_8545634334410897198_n.jpg
ORGANIZER;CN="Time Safaris Walking Tours Rockhampton":MAILTO:timesafarisrockhampton@gmail.com
END:VEVENT
BEGIN:VEVENT
DTSTART;TZID=Australia/Brisbane:20260516T193000
DTEND;TZID=Australia/Brisbane:20260516T210000
DTSTAMP:20260420T041227
CREATED:20260326T012841Z
LAST-MODIFIED:20260326T012841Z
UID:10003054-1778959800-1778965200@thewellbeinghub.com.au
SUMMARY:Ghosts\, Murder & Jack the Ripper
DESCRIPTION:Join our evening tour through Rockhampton’s streets and alleys and discover the darker side of the city. Learn about the ghosts that haunted Quay st\, the city’s first recorded murder\, the Rockhampton gold heist that created Sherlock Holmes and modern forensics and yes\, learn the bizarre and true history of Jack the Ripper’s connection to Rockhampton. \nKIDS WELCOME (note: its in the dark and spooky) \nTours start at the Criterion Hotel on Quay St\, head towards the post office on East St\, then into the alleys until finishing out the front of the iconic Customs House.Bookings essential \n#rockhamptonzoo #botanicgardens #RockhamptonBotanicGardens #exploretocreatererockhampton #explorerockhamptonregion #ghosttour #ghosttourrockhampton #ghosttouraustralia #truecrimetour #truecrimetourrockhampton #myrockhampton #rockhamptontourism #rockhamptontour #VisitCapricorn #SouthernGreatBarrierReef #SandstoneWilderness
URL:https://thewellbeinghub.com.au/event/ghosts-murder-jack-the-ripper/2026-05-16/
LOCATION:The Criterian Hotel\, 150 Quay Street\, Rockhampton\, Queensland\, Australia
CATEGORIES:History,Walking tour
ATTACH;FMTTYPE=image/jpeg:https://thewellbeinghub.com.au/wp-content/uploads/2026/03/652542702_928890783220743_8545634334410897198_n.jpg
ORGANIZER;CN="Time Safaris Walking Tours Rockhampton":MAILTO:timesafarisrockhampton@gmail.com
END:VEVENT
BEGIN:VEVENT
DTSTART;TZID=Australia/Brisbane:20260523T193000
DTEND;TZID=Australia/Brisbane:20260523T210000
DTSTAMP:20260420T041227
CREATED:20260326T012841Z
LAST-MODIFIED:20260326T012841Z
UID:10003055-1779564600-1779570000@thewellbeinghub.com.au
SUMMARY:Ghosts\, Murder & Jack the Ripper
DESCRIPTION:Join our evening tour through Rockhampton’s streets and alleys and discover the darker side of the city. Learn about the ghosts that haunted Quay st\, the city’s first recorded murder\, the Rockhampton gold heist that created Sherlock Holmes and modern forensics and yes\, learn the bizarre and true history of Jack the Ripper’s connection to Rockhampton. \nKIDS WELCOME (note: its in the dark and spooky) \nTours start at the Criterion Hotel on Quay St\, head towards the post office on East St\, then into the alleys until finishing out the front of the iconic Customs House.Bookings essential \n#rockhamptonzoo #botanicgardens #RockhamptonBotanicGardens #exploretocreatererockhampton #explorerockhamptonregion #ghosttour #ghosttourrockhampton #ghosttouraustralia #truecrimetour #truecrimetourrockhampton #myrockhampton #rockhamptontourism #rockhamptontour #VisitCapricorn #SouthernGreatBarrierReef #SandstoneWilderness
URL:https://thewellbeinghub.com.au/event/ghosts-murder-jack-the-ripper/2026-05-23/
LOCATION:The Criterian Hotel\, 150 Quay Street\, Rockhampton\, Queensland\, Australia
CATEGORIES:History,Walking tour
ATTACH;FMTTYPE=image/jpeg:https://thewellbeinghub.com.au/wp-content/uploads/2026/03/652542702_928890783220743_8545634334410897198_n.jpg
ORGANIZER;CN="Time Safaris Walking Tours Rockhampton":MAILTO:timesafarisrockhampton@gmail.com
END:VEVENT
BEGIN:VEVENT
DTSTART;TZID=Australia/Brisbane:20260530T193000
DTEND;TZID=Australia/Brisbane:20260530T210000
DTSTAMP:20260420T041227
CREATED:20260326T012841Z
LAST-MODIFIED:20260326T012841Z
UID:10003056-1780169400-1780174800@thewellbeinghub.com.au
SUMMARY:Ghosts\, Murder & Jack the Ripper
DESCRIPTION:Join our evening tour through Rockhampton’s streets and alleys and discover the darker side of the city. Learn about the ghosts that haunted Quay st\, the city’s first recorded murder\, the Rockhampton gold heist that created Sherlock Holmes and modern forensics and yes\, learn the bizarre and true history of Jack the Ripper’s connection to Rockhampton. \nKIDS WELCOME (note: its in the dark and spooky) \nTours start at the Criterion Hotel on Quay St\, head towards the post office on East St\, then into the alleys until finishing out the front of the iconic Customs House.Bookings essential \n#rockhamptonzoo #botanicgardens #RockhamptonBotanicGardens #exploretocreatererockhampton #explorerockhamptonregion #ghosttour #ghosttourrockhampton #ghosttouraustralia #truecrimetour #truecrimetourrockhampton #myrockhampton #rockhamptontourism #rockhamptontour #VisitCapricorn #SouthernGreatBarrierReef #SandstoneWilderness
URL:https://thewellbeinghub.com.au/event/ghosts-murder-jack-the-ripper/2026-05-30/
LOCATION:The Criterian Hotel\, 150 Quay Street\, Rockhampton\, Queensland\, Australia
CATEGORIES:History,Walking tour
ATTACH;FMTTYPE=image/jpeg:https://thewellbeinghub.com.au/wp-content/uploads/2026/03/652542702_928890783220743_8545634334410897198_n.jpg
ORGANIZER;CN="Time Safaris Walking Tours Rockhampton":MAILTO:timesafarisrockhampton@gmail.com
END:VEVENT
END:VCALENDAR