BEGIN:VCALENDAR
VERSION:2.0
PRODID:-//The Wellbeing Hub - ECPv6.15.20//NONSGML v1.0//EN
CALSCALE:GREGORIAN
METHOD:PUBLISH
X-ORIGINAL-URL:https://thewellbeinghub.com.au
X-WR-CALDESC:Events for The Wellbeing Hub
REFRESH-INTERVAL;VALUE=DURATION:PT1H
X-Robots-Tag:noindex
X-PUBLISHED-TTL:PT1H
BEGIN:VTIMEZONE
TZID:Australia/Brisbane
BEGIN:STANDARD
TZOFFSETFROM:+1000
TZOFFSETTO:+1000
TZNAME:AEST
DTSTART:20240101T000000
END:STANDARD
END:VTIMEZONE
BEGIN:VEVENT
DTSTART;TZID=Australia/Brisbane:20260411T093000
DTEND;TZID=Australia/Brisbane:20260411T113000
DTSTAMP:20260425T012011
CREATED:20260409T024848Z
LAST-MODIFIED:20260409T024848Z
UID:10003574-1775899800-1775907000@thewellbeinghub.com.au
SUMMARY:Charts & Chats: Human Design: The Foundation Circle (Beginners)
DESCRIPTION:Charts & Chats — The Foundations Circle\n\nThese gatherings are for women who feel called to explore the foundations of Human Design in a simple\, supportive\, and relational way.\n\nTogether\, we will walk through the core elements of your body graph — including types\, authorities\, profiles\, centres\, gates\, channels\, and planetary influences — making sense of what can often feel complex when you first encounter your chart.\n\nYou will receive a gentle\, personalised story of your design\, helping you begin to recognise your natural way of moving\, deciding\, and relating in the world.\nThrough shared reflection and conversation\, we will explore how Human Design is already expressing itself in your everyday life — bringing awareness to patterns\, rhythms\, and inner guidance that may have previously gone unnoticed.\n\nThese sessions are not about learning everything at once\, but about arriving into a deeper relationship with yourself\, in a way that feels grounded\, spacious\, and real.\n\nWe will journey together across four sessions:• 11 April\, 9 May\, 30 May\, 20 June\, 9.30-11.30\, Tanby Garden Cafe.\nInvestment options:$35 single session / $120 for 4 sessions* Limited to 8 spots\nSign up:Send a DM\, text message 0429824582\, or email alissa@feminineattunement.com\nEbooks:Find your ‘Human Design’ & ‘Femininely Designed Woman’ ebook here: https://www.feminineattunement.com/courses-ebooks\nNew\, self-led\, e-courses and ebooks are also available via website.\nCOUNSELLING | CHART WISDOM OFFERINGS:1:1 sessions are available daily.See www.feminineattunement.com for an offering that resonates with you.\nWarm & Gentle Hugs\,Alissa
URL:https://thewellbeinghub.com.au/event/charts-chats-human-design-the-foundation-circle-beginners/2026-04-11/
LOCATION:Tanby Garden Centre\, 178 Kinka Beach Road\, Tanby\, Queensland\, 4703\, Australia
CATEGORIES:Human Design,women's circle
END:VEVENT
BEGIN:VEVENT
DTSTART;TZID=Australia/Brisbane:20260228T093000
DTEND;TZID=Australia/Brisbane:20260228T113000
DTSTAMP:20260425T012011
CREATED:20260221T232956Z
LAST-MODIFIED:20260221T232956Z
UID:10000367-1772271000-1772278200@thewellbeinghub.com.au
SUMMARY:The Femininely Designed Woman - Charts & Chats
DESCRIPTION:The Femininely Designed Woman | Charts & Chats \n\nThis year we will welcome charts and chats as ‘The Femininely Designed Woman’ – a shared combination of cyclical wisdom\, human design\, gene keys and astrology.\nTrue healing comes from remembering that you are not meant to be consistent or fixed\, but to live in rhythm — honouring your unique design\, cosmic cycles\, and the wisdom encoded in your body and timing.\n\nWe will gather every 4–6 weeks\, and on signup you will receive your unique star story for that month/gathering\, drawn from three foundational blueprints and interwoven with cyclical wisdom — an invitation to contemplate\, reflect\, embody\, and share insight into what is unfolding in our present day lives. A different aspect of your star story will be sent before every offering.\n\nThe outcome is a life lived in softer alignment — where your decisions are guided by the wisdom of your body\, the awareness of cycles of the stars\, and the patterns of your energy stories.\n\nYou will lean into trusting your inner authority and intuition\, as a compass\, to move through seasons of expansion and contraction with grace\, and to cultivate a deeper sense of belonging within yourself. This is a life where you are not constantly striving\, but living in harmony through surrendering into your own rhythm.\nThis container will be held warmly with joy and love\, and will continue to flow where the morning takes us.\n\n2026/6 containers – $35 single session / $120 for 4 sessions* Limited to 8 spots\n\nSign up: Send a DM\, text message 0429824582\, or email alissa@feminineattunement.com\nFind your ‘Femininely Designed Woman’ ebook here: https://www.feminineattunement.com/courses-ebooks\n FEMININE ATTUNEMENT OFFERINGS\nFor those interested\, 1:1 sessions are available Saturdays. See www.feminineattunement.com for an offering that resonates with you.\nNew\, self-led\, e-courses and ebooks are also available via website. \nBlessings on our sacred energy journeys for 2026 Sisters.  \nWarmth & Gentle Hugs\, Alissa
URL:https://thewellbeinghub.com.au/event/the-femininely-designed-woman-charts-chats-2/
LOCATION:Tanby Garden Centre\, 178 Kinka Beach Road\, Tanby\, Queensland\, 4703\, Australia
CATEGORIES:Human Design,women's circle
ATTACH;FMTTYPE=image/jpeg:https://thewellbeinghub.com.au/wp-content/uploads/2026/01/617570648_10164581378693336_1168002004331550058_n.jpg
END:VEVENT
BEGIN:VEVENT
DTSTART;TZID=Australia/Brisbane:20260202T180000
DTEND;TZID=Australia/Brisbane:20260202T193000
DTSTAMP:20260425T012011
CREATED:20260121T063052Z
LAST-MODIFIED:20260121T063052Z
UID:10000267-1770055200-1770060600@thewellbeinghub.com.au
SUMMARY:Full Moon Gathering
DESCRIPTION:You’re invited to pause\, breathe and return to yourself under the energy of the full moon.\n\nIf you’re feeling called to slow down\, reconnect and be held in a supportive space\, this is for you.\n\nPlease message me Danielle McNaught to secure you spot or if you have any questions.\n\nIt is time to give back to ourselves
URL:https://thewellbeinghub.com.au/event/full-moon-gathering/
LOCATION:Rockhampton
CATEGORIES:Full moon event,women's circle
ATTACH;FMTTYPE=image/jpeg:https://thewellbeinghub.com.au/wp-content/uploads/2026/01/619262654_10162981478501107_5315743267594781901_n.jpg
END:VEVENT
BEGIN:VEVENT
DTSTART;TZID=Australia/Brisbane:20260131T093000
DTEND;TZID=Australia/Brisbane:20260131T113000
DTSTAMP:20260425T012011
CREATED:20260128T010448Z
LAST-MODIFIED:20260128T010448Z
UID:10000278-1769851800-1769859000@thewellbeinghub.com.au
SUMMARY:The Femininely Designed Woman - Charts & Chats
DESCRIPTION:The Femininely Designed Woman | Charts & Chats \n\nThis year we will welcome charts and chats as ‘The Femininely Designed Woman’ – a shared combination of cyclical wisdom\, human design\, gene keys and astrology.\nTrue healing comes from remembering that you are not meant to be consistent or fixed\, but to live in rhythm — honouring your unique design\, cosmic cycles\, and the wisdom encoded in your body and timing.\n\nWe will gather every 4–6 weeks\, and on signup you will receive your unique star story for that month/gathering\, drawn from three foundational blueprints and interwoven with cyclical wisdom — an invitation to contemplate\, reflect\, embody\, and share insight into what is unfolding in our present day lives. A different aspect of your star story will be sent before every offering.\n\nThe outcome is a life lived in softer alignment — where your decisions are guided by the wisdom of your body\, the awareness of cycles of the stars\, and the patterns of your energy stories.\n\nYou will lean into trusting your inner authority and intuition\, as a compass\, to move through seasons of expansion and contraction with grace\, and to cultivate a deeper sense of belonging within yourself. This is a life where you are not constantly striving\, but living in harmony through surrendering into your own rhythm.\nThis container will be held warmly with joy and love\, and will continue to flow where the morning takes us.\n\n2026/6 containers – $35 single session / $120 for 4 sessions* Limited to 8 spots\nSign up: Send a DM\, text message 0429824582\, or email alissa@feminineattunement.com\nFind your ‘Femininely Designed Woman’ ebook here: https://www.feminineattunement.com/courses-ebooks\n\n FEMININE ATTUNEMENT OFFERINGS\nFor those interested\, 1:1 sessions are available Saturday mornings (Sensuality and Attunement Counselling\, Midwifing & Honouring Transitions Mentoring\, and Human Design – solo\, partner\, family) although spots are limited: www.feminineattunement.com\, alissa@feminineattunement.com\, or text 0429824582.\nNew\, self-led\, e-courses and ebooks are also available www.feminineattunement.com. \nBlessings on your sacred energy journeys for 2026 Sisters.  \nWarmth & Gentle Hugs\, Alissa
URL:https://thewellbeinghub.com.au/event/the-femininely-designed-woman-charts-chats/
LOCATION:Tanby Garden Centre\, 178 Kinka Beach Road\, Tanby\, Queensland\, 4703\, Australia
CATEGORIES:Human Design,women's circle
ATTACH;FMTTYPE=image/jpeg:https://thewellbeinghub.com.au/wp-content/uploads/2026/01/617570648_10164581378693336_1168002004331550058_n.jpg
END:VEVENT
BEGIN:VEVENT
DTSTART;TZID=Australia/Brisbane:20260130T180000
DTEND;TZID=Australia/Brisbane:20260130T200000
DTSTAMP:20260425T012011
CREATED:20260128T004517Z
LAST-MODIFIED:20260128T004517Z
UID:10000272-1769796000-1769803200@thewellbeinghub.com.au
SUMMARY:Lughnasadh Ritual & Gathering
DESCRIPTION:You’re warmly invited to join us for a sacred ritual and gathering to honour Lughnasadh\, the First Harvest — a time of abundance\, gratitude and gentle release.\n\nAs we gather\, we’ll come together in circle to celebrate the gifts of summer and the bounty of the Earth\, giving thanks for what has grown in our lives — health\, family\, love\, strength and support — while consciously releasing what we’re ready to let go of.\n\nThis ritual will focus on: Gratitude for abundance received Acknowledging personal blessings and fortune Cleansing and releasing old energies or patterns Calling in continued abundance with intention and humility\n\nLughnasadh carries strong Divine Feminine energy\, inviting us to receive fully\, be thankful deeply and honour the natural cycles of growth\, harvest and renewal.\nNo prior experience is needed — just bring an open heart and a willingness to connect\, reflect and share sacred space.\n\n Spaces are limited Bookings essential Friday 30th January 6:00pm\nWe would love to hold space with you as we celebrate this powerful seasonal turning together 
URL:https://thewellbeinghub.com.au/event/lughnasadh-ritual-gathering/
LOCATION:Splendiferous Health\, 109 Campbell Street\, Rockhampton\, Queensland\, Australia
CATEGORIES:women's circle
ATTACH;FMTTYPE=image/jpeg:https://thewellbeinghub.com.au/wp-content/uploads/2026/01/615435136_1492853929514722_3951923523142669917_n.jpg
END:VEVENT
BEGIN:VEVENT
DTSTART;TZID=Australia/Brisbane:20251206T093000
DTEND;TZID=Australia/Brisbane:20251206T113000
DTSTAMP:20260425T012011
CREATED:20251126T020611Z
LAST-MODIFIED:20251126T020611Z
UID:10000153-1765013400-1765020600@thewellbeinghub.com.au
SUMMARY:MIDWIFING YOUR BUSINESS - The Art of Creating with Heart: Sharing Circle
DESCRIPTION: Midwifing Your Business | The Art of Creating with Heart\n\nHeart-Centred\, Small Group Sharing Circle for the Rising Feminine.\n\nYour business is not separate from you — it is an extension of your heart\, your rhythm\, and your wild wisdom We will gather to explore how your heart weaves through your work\, your leadership\, and your creative flow.\n\nTogether\, we will: Root into the landscape of your professional journey and the stories your heart longs to tell Breathe heart-connection into your daily rhythms\, finding confidence\, resilience\, and flow Align your choices with your deeper values and vision\, so work feels like devotion\, not depletion Soften the weight of stress and old patterns\, and return to authenticity\, purpose\, and presence Cultivate boundaries\, compassion\, and clarity as living practices of sustainable leadership\n\n This circle calls to the women who: Feels caught in transition or uncertainty in her work Longs to move from stagnation into flow and growth Wants to lead with heart\, not hustle Seeks a grounded\, feminine way of being in business\n\n Tanby Garden Café\, Tanby Saturday 6th December | 9:30–11:30am $25 | Small group (4–6 women)\nSign up here: https://www.feminineattunement.com/…/midwifing-your…\n Book: Text 0429 824 582 feminineattunement.com |  @alissa_feminineattunement |  alissa@feminineattunement.com
URL:https://thewellbeinghub.com.au/event/midwifing-your-business-the-art-of-creating-with-heart-sharing-circle/
LOCATION:Tanby Garden Centre\, 178 Kinka Beach Road\, Tanby\, Queensland\, 4703\, Australia
CATEGORIES:Business,Small Business,women in business,women's circle,workshop
ATTACH;FMTTYPE=image/jpeg:https://thewellbeinghub.com.au/wp-content/uploads/2025/11/mw.jpg
END:VEVENT
BEGIN:VEVENT
DTSTART;TZID=Australia/Brisbane:20251122T093000
DTEND;TZID=Australia/Brisbane:20251122T113000
DTSTAMP:20260425T012011
CREATED:20251117T050930Z
LAST-MODIFIED:20251117T050930Z
UID:10000132-1763803800-1763811000@thewellbeinghub.com.au
SUMMARY:Midwifing Your Menopause - The Season of the Wise Woman Sharing Circle
DESCRIPTION:MIDWIFING YOUR MENOPAUSE | The Season of the Wise Woman \n\nEvery six weeks\, we gather to honour the space in-between — a sacred journey through reflection\, connection\, and transformation. Together\, we explore womanhood through the Red Thread\, weaving stories\, cycles\, and experiences into deeper self-understanding and feminine embodiment.\n\nMenopause is a rite of passage\, a threshold into your Inner Wise Woman. In this circle\, we midwife both the grief and doubt\, and the freedom\, wisdom\, and renewal — tending to your changing body and the woman being reborn.\n\n In this gathering you will:\n Explore emotional\, physical & spiritual phases of menopause Honour your story through sharing\, reflection & ritual Stay connected to your body\, voice & truth with compassion Reclaim menopause as a portal to wisdom\, power & freedom\n\nDetails: For women aged 38+\, or if you are experiencing early menopause\, or would like to learn more.Cost: $25 per person | Venue: Tanby Garden CafeDate & Time:  9:30–11:30 am | Small group (4–6 women)\n Book: Text 0429 824 582\, or feminineattunement.com/midwifing-your-menopause-1 feminineattunement.com |  @alissa_feminineattunement |  alissa@feminineattunement.com\n1:1 sessions also available: $125 | 2 hrs\, or series of 4: $400
URL:https://thewellbeinghub.com.au/event/midwifing-your-menopause-the-season-of-the-wise-woman-sharing-circle/
LOCATION:Tanby Garden Centre\, 178 Kinka Beach Road\, Tanby\, Queensland\, 4703\, Australia
CATEGORIES:women's circle,Women's Health
ATTACH;FMTTYPE=image/jpeg:https://thewellbeinghub.com.au/wp-content/uploads/2025/11/mid.jpg
END:VEVENT
BEGIN:VEVENT
DTSTART;TZID=Australia/Brisbane:20251116T093000
DTEND;TZID=Australia/Brisbane:20251116T113000
DTSTAMP:20260425T012011
CREATED:20251112T050859Z
LAST-MODIFIED:20251112T050859Z
UID:10000103-1763285400-1763292600@thewellbeinghub.com.au
SUMMARY:Midwifing Your Life
DESCRIPTION: MIDWIFING YOUR LIFE | Holding space for the unfolding of your life\n\nMidwifing Your Life is a heart-centred sharing circle and self-development approach for women seeking deeper meaning and feminine-based\, psycho-spiritual guidance. It’s about holding space for the unfolding of your own life\, much like a midwife supports birth.\n\nThrough gentle practices\, reflection\, and guidance\, you’ll:* Reconnect with your heart and body’s wisdom* Align your choices with your natural rhythms* Release patterns that no longer serve you* Navigate transitions with clarity and grace* Cultivate self-trust\, confidence\, and wholeness\n\nOffering $25 | November 16th | 9.30-11.30am | Limited to 6 places | Tanby Garden Cafe | Every 4-6 weeks.\nBook your spot: https://www.feminineattunement.com/…/midwifing-your…\nMore info: www.feminineattunement.com |  0429 824 582 |  @alissa_feminineattunement
URL:https://thewellbeinghub.com.au/event/midwifing-your-life/
LOCATION:Tanby Garden Centre\, 178 Kinka Beach Road\, Tanby\, Queensland\, 4703\, Australia
CATEGORIES:Class,women's circle,workshop
ATTACH;FMTTYPE=image/jpeg:https://thewellbeinghub.com.au/wp-content/uploads/2025/11/midwife.jpg
END:VEVENT
BEGIN:VEVENT
DTSTART;TZID=Australia/Brisbane:20251115T093000
DTEND;TZID=Australia/Brisbane:20251115T113000
DTSTAMP:20260425T012011
CREATED:20251102T072557Z
LAST-MODIFIED:20251102T072557Z
UID:10000075-1763199000-1763206200@thewellbeinghub.com.au
SUMMARY:Midwifing Your Business - The Art of Creating with Heart
DESCRIPTION: Midwifing Your Business | The Art of Creating with Heart\n\nHeart-Centred\, Small Group Sharing Circle for the Rising Feminine.\n\nYour business is not separate from you — it is an extension of your heart\, your rhythm\, and your wild wisdom We will gather to explore how your heart weaves through your work\, your leadership\, and your creative flow.\n\nTogether\, we will: Root into the landscape of your professional journey and the stories your heart longs to tell Breathe heart-connection into your daily rhythms\, finding confidence\, resilience\, and flow Align your choices with your deeper values and vision\, so work feels like devotion\, not depletion Soften the weight of stress and old patterns\, and return to authenticity\, purpose\, and presence Cultivate boundaries\, compassion\, and clarity as living practices of sustainable leadership\n\n This circle calls to the women who: Feels caught in transition or uncertainty in her work Longs to move from stagnation into flow and growth Wants to lead with heart\, not hustle Seeks a grounded\, feminine way of being in business\n Tanby Garden Café\, Tanby | 9:30–11:30am $25 | Small group (4–6 women)
URL:https://thewellbeinghub.com.au/event/midwifing-your-business-the-art-of-creating-with-heart/
LOCATION:Tanby Garden Centre\, 178 Kinka Beach Road\, Tanby\, Queensland\, 4703\, Australia
CATEGORIES:Class,women in business,women's circle,workshop
ATTACH;FMTTYPE=image/jpeg:https://thewellbeinghub.com.au/wp-content/uploads/2025/11/business.jpg
END:VEVENT
END:VCALENDAR