BEGIN:VCALENDAR
VERSION:2.0
PRODID:-//The Wellbeing Hub - ECPv6.15.20//NONSGML v1.0//EN
CALSCALE:GREGORIAN
METHOD:PUBLISH
X-ORIGINAL-URL:https://thewellbeinghub.com.au
X-WR-CALDESC:Events for The Wellbeing Hub
REFRESH-INTERVAL;VALUE=DURATION:PT1H
X-Robots-Tag:noindex
X-PUBLISHED-TTL:PT1H
BEGIN:VTIMEZONE
TZID:Australia/Brisbane
BEGIN:STANDARD
TZOFFSETFROM:+1000
TZOFFSETTO:+1000
TZNAME:AEST
DTSTART:20250101T000000
END:STANDARD
END:VTIMEZONE
BEGIN:VEVENT
DTSTART;TZID=Australia/Brisbane:20260509T093000
DTEND;TZID=Australia/Brisbane:20260509T113000
DTSTAMP:20260422T014634
CREATED:20260409T024848Z
LAST-MODIFIED:20260409T024848Z
UID:10003575-1778319000-1778326200@thewellbeinghub.com.au
SUMMARY:Charts & Chats: Human Design: The Foundation Circle (Beginners)
DESCRIPTION:Charts & Chats — The Foundations Circle\n\nThese gatherings are for women who feel called to explore the foundations of Human Design in a simple\, supportive\, and relational way.\n\nTogether\, we will walk through the core elements of your body graph — including types\, authorities\, profiles\, centres\, gates\, channels\, and planetary influences — making sense of what can often feel complex when you first encounter your chart.\n\nYou will receive a gentle\, personalised story of your design\, helping you begin to recognise your natural way of moving\, deciding\, and relating in the world.\nThrough shared reflection and conversation\, we will explore how Human Design is already expressing itself in your everyday life — bringing awareness to patterns\, rhythms\, and inner guidance that may have previously gone unnoticed.\n\nThese sessions are not about learning everything at once\, but about arriving into a deeper relationship with yourself\, in a way that feels grounded\, spacious\, and real.\n\nWe will journey together across four sessions:• 11 April\, 9 May\, 30 May\, 20 June\, 9.30-11.30\, Tanby Garden Cafe.\nInvestment options:$35 single session / $120 for 4 sessions* Limited to 8 spots\nSign up:Send a DM\, text message 0429824582\, or email alissa@feminineattunement.com\nEbooks:Find your ‘Human Design’ & ‘Femininely Designed Woman’ ebook here: https://www.feminineattunement.com/courses-ebooks\nNew\, self-led\, e-courses and ebooks are also available via website.\nCOUNSELLING | CHART WISDOM OFFERINGS:1:1 sessions are available daily.See www.feminineattunement.com for an offering that resonates with you.\nWarm & Gentle Hugs\,Alissa
URL:https://thewellbeinghub.com.au/event/charts-chats-human-design-the-foundation-circle-beginners/2026-05-09/
LOCATION:Tanby Garden Centre\, 178 Kinka Beach Road\, Tanby\, Queensland\, 4703\, Australia
CATEGORIES:Human Design,women's circle
END:VEVENT
BEGIN:VEVENT
DTSTART;TZID=Australia/Brisbane:20260530T093000
DTEND;TZID=Australia/Brisbane:20260530T113000
DTSTAMP:20260422T014634
CREATED:20260409T024848Z
LAST-MODIFIED:20260409T024848Z
UID:10003576-1780133400-1780140600@thewellbeinghub.com.au
SUMMARY:Charts & Chats: Human Design: The Foundation Circle (Beginners)
DESCRIPTION:Charts & Chats — The Foundations Circle\n\nThese gatherings are for women who feel called to explore the foundations of Human Design in a simple\, supportive\, and relational way.\n\nTogether\, we will walk through the core elements of your body graph — including types\, authorities\, profiles\, centres\, gates\, channels\, and planetary influences — making sense of what can often feel complex when you first encounter your chart.\n\nYou will receive a gentle\, personalised story of your design\, helping you begin to recognise your natural way of moving\, deciding\, and relating in the world.\nThrough shared reflection and conversation\, we will explore how Human Design is already expressing itself in your everyday life — bringing awareness to patterns\, rhythms\, and inner guidance that may have previously gone unnoticed.\n\nThese sessions are not about learning everything at once\, but about arriving into a deeper relationship with yourself\, in a way that feels grounded\, spacious\, and real.\n\nWe will journey together across four sessions:• 11 April\, 9 May\, 30 May\, 20 June\, 9.30-11.30\, Tanby Garden Cafe.\nInvestment options:$35 single session / $120 for 4 sessions* Limited to 8 spots\nSign up:Send a DM\, text message 0429824582\, or email alissa@feminineattunement.com\nEbooks:Find your ‘Human Design’ & ‘Femininely Designed Woman’ ebook here: https://www.feminineattunement.com/courses-ebooks\nNew\, self-led\, e-courses and ebooks are also available via website.\nCOUNSELLING | CHART WISDOM OFFERINGS:1:1 sessions are available daily.See www.feminineattunement.com for an offering that resonates with you.\nWarm & Gentle Hugs\,Alissa
URL:https://thewellbeinghub.com.au/event/charts-chats-human-design-the-foundation-circle-beginners/2026-05-30/
LOCATION:Tanby Garden Centre\, 178 Kinka Beach Road\, Tanby\, Queensland\, 4703\, Australia
CATEGORIES:Human Design,women's circle
END:VEVENT
BEGIN:VEVENT
DTSTART;TZID=Australia/Brisbane:20260620T093000
DTEND;TZID=Australia/Brisbane:20260620T113000
DTSTAMP:20260422T014634
CREATED:20260409T024848Z
LAST-MODIFIED:20260409T024848Z
UID:10003577-1781947800-1781955000@thewellbeinghub.com.au
SUMMARY:Charts & Chats: Human Design: The Foundation Circle (Beginners)
DESCRIPTION:Charts & Chats — The Foundations Circle\n\nThese gatherings are for women who feel called to explore the foundations of Human Design in a simple\, supportive\, and relational way.\n\nTogether\, we will walk through the core elements of your body graph — including types\, authorities\, profiles\, centres\, gates\, channels\, and planetary influences — making sense of what can often feel complex when you first encounter your chart.\n\nYou will receive a gentle\, personalised story of your design\, helping you begin to recognise your natural way of moving\, deciding\, and relating in the world.\nThrough shared reflection and conversation\, we will explore how Human Design is already expressing itself in your everyday life — bringing awareness to patterns\, rhythms\, and inner guidance that may have previously gone unnoticed.\n\nThese sessions are not about learning everything at once\, but about arriving into a deeper relationship with yourself\, in a way that feels grounded\, spacious\, and real.\n\nWe will journey together across four sessions:• 11 April\, 9 May\, 30 May\, 20 June\, 9.30-11.30\, Tanby Garden Cafe.\nInvestment options:$35 single session / $120 for 4 sessions* Limited to 8 spots\nSign up:Send a DM\, text message 0429824582\, or email alissa@feminineattunement.com\nEbooks:Find your ‘Human Design’ & ‘Femininely Designed Woman’ ebook here: https://www.feminineattunement.com/courses-ebooks\nNew\, self-led\, e-courses and ebooks are also available via website.\nCOUNSELLING | CHART WISDOM OFFERINGS:1:1 sessions are available daily.See www.feminineattunement.com for an offering that resonates with you.\nWarm & Gentle Hugs\,Alissa
URL:https://thewellbeinghub.com.au/event/charts-chats-human-design-the-foundation-circle-beginners/2026-06-20/
LOCATION:Tanby Garden Centre\, 178 Kinka Beach Road\, Tanby\, Queensland\, 4703\, Australia
CATEGORIES:Human Design,women's circle
END:VEVENT
END:VCALENDAR