BEGIN:VCALENDAR
VERSION:2.0
PRODID:-//The Wellbeing Hub - ECPv6.15.20//NONSGML v1.0//EN
CALSCALE:GREGORIAN
METHOD:PUBLISH
X-ORIGINAL-URL:https://thewellbeinghub.com.au
X-WR-CALDESC:Events for The Wellbeing Hub
REFRESH-INTERVAL;VALUE=DURATION:PT1H
X-Robots-Tag:noindex
X-PUBLISHED-TTL:PT1H
BEGIN:VTIMEZONE
TZID:Australia/Brisbane
BEGIN:STANDARD
TZOFFSETFROM:+1000
TZOFFSETTO:+1000
TZNAME:AEST
DTSTART:20250101T000000
END:STANDARD
END:VTIMEZONE
BEGIN:VEVENT
DTSTART;TZID=Australia/Brisbane:20260328T150000
DTEND;TZID=Australia/Brisbane:20260328T163000
DTSTAMP:20260424T231403
CREATED:20260325T024630Z
LAST-MODIFIED:20260325T024630Z
UID:10002519-1774710000-1774715400@thewellbeinghub.com.au
SUMMARY:Heart Pause: Rest\, Healing & Connection
DESCRIPTION:A heart-led sanctuary for rest\, healing\, and connection.\n\nHeart Pause is a deeply nurturing 90-minute immersion blending Yin and Restorative yoga with acupressure\, breath-work\, meditation\, and sound immersion. It’s an opportunity to slow down\, soften\, and reconnect with your body’s innate wisdom.\n\nThe practice is mostly floor-based and supported with props\, creating a safe and restful environment. Shapes are held gently\, giving time for the body to release tension and the mind to settle. Suitable for all levels\, including those living with arthritis\, osteoporosis\, or chronic conditions.\n\nDetails:\n90 minutes of guided practiceSmall group\, up to 6 participants (waitlist available – you’ll only be charged if you are moved into the class)$40 per person\nProps provided; you are welcome to bring your own matPhones and technology off during the sessionLocation: The Yoga Space\, Yeppoon\nPre-booking is essential as places are limited.
URL:https://thewellbeinghub.com.au/event/heart-pause-rest-healing-connection-3/
LOCATION:The Yoga Space\, 13 James Street\, Yeppoon\, Queensland\, 4703\, Australia
CATEGORIES:restorative yoga,yin yoga,yoga
ATTACH;FMTTYPE=image/jpeg:https://thewellbeinghub.com.au/wp-content/uploads/2026/03/650787695_1900972814183601_4342759605357288518_n.jpg
ORGANIZER;CN="Yoga with Tracy":MAILTO:admin@yogawithtracy.com.au
END:VEVENT
END:VCALENDAR