BEGIN:VCALENDAR
VERSION:2.0
PRODID:-//The Wellbeing Hub - ECPv6.15.20//NONSGML v1.0//EN
CALSCALE:GREGORIAN
METHOD:PUBLISH
X-ORIGINAL-URL:https://thewellbeinghub.com.au
X-WR-CALDESC:Events for The Wellbeing Hub
REFRESH-INTERVAL;VALUE=DURATION:PT1H
X-Robots-Tag:noindex
X-PUBLISHED-TTL:PT1H
BEGIN:VTIMEZONE
TZID:Australia/Brisbane
BEGIN:STANDARD
TZOFFSETFROM:+1000
TZOFFSETTO:+1000
TZNAME:AEST
DTSTART:20240101T000000
END:STANDARD
END:VTIMEZONE
BEGIN:VEVENT
DTSTART;TZID=Australia/Brisbane:20251214T160000
DTEND;TZID=Australia/Brisbane:20251214T171500
DTSTAMP:20260422T015919
CREATED:20251209T061314Z
LAST-MODIFIED:20251209T061314Z
UID:10000211-1765728000-1765732500@thewellbeinghub.com.au
SUMMARY:Yin + Yoga Nidra 75 Minutes
DESCRIPTION:A slow\, spacious practice for deep release and profound rest.\n\nThis 75-minute class combines the stillness of Yin Yoga with the deep restoration of Yoga Nidra\, offering a complete nervous-system reset.\n\nWe begin with long-held\, floor-based Yin postures designed to gently open the body\, release tension\, and cultivate inner quiet. Each pose is supported and spacious\, giving you time to soften\, breathe\, and listen inward.\n\nWe then transition into Yoga Nidra: a guided lying-down meditation often described as “yogic sleep.” This practice invites the whole body to relax deeply while the mind remains quietly aware. Through body scanning\, breath awareness\, and visualisation\, Yoga Nidra helps dissolve stress\, restore energy\, and create a state of peaceful clarity.\n\nThis class is perfect for anyone seeking calm\, introspection\, and replenishment. Whether you’re new to yoga or a seasoned practitioner wanting a deeper reset.\nA gentle sanctuary for your whole being.All welcome.\n\nPrice: $20 per person – paid at time of booking or cash on arrivalBring: Comfortable clothing\, water bottle\, journal (optional)Location: The Yoga Space
URL:https://thewellbeinghub.com.au/event/yin-yoga-nidra-75-minutes/
LOCATION:The Yoga Space\, 13 James Street\, Yeppoon\, Queensland\, 4703\, Australia
CATEGORIES:yoga,Yoga Nidra
ATTACH;FMTTYPE=image/jpeg:https://thewellbeinghub.com.au/wp-content/uploads/2025/12/nidra.jpg
END:VEVENT
END:VCALENDAR