BEGIN:VCALENDAR
VERSION:2.0
PRODID:-//The Wellbeing Hub - ECPv6.15.20//NONSGML v1.0//EN
CALSCALE:GREGORIAN
METHOD:PUBLISH
X-WR-CALNAME:The Wellbeing Hub
X-ORIGINAL-URL:https://thewellbeinghub.com.au
X-WR-CALDESC:Events for The Wellbeing Hub
REFRESH-INTERVAL;VALUE=DURATION:PT1H
X-Robots-Tag:noindex
X-PUBLISHED-TTL:PT1H
BEGIN:VTIMEZONE
TZID:Australia/Brisbane
BEGIN:STANDARD
TZOFFSETFROM:+1000
TZOFFSETTO:+1000
TZNAME:AEST
DTSTART:20250101T000000
END:STANDARD
END:VTIMEZONE
BEGIN:VEVENT
DTSTART;TZID=Australia/Brisbane:20260411T160000
DTEND;TZID=Australia/Brisbane:20260411T200000
DTSTAMP:20260426T000648
CREATED:20260222T021055Z
LAST-MODIFIED:20260222T021055Z
UID:10000369-1775923200-1775937600@thewellbeinghub.com.au
SUMMARY:Beach Beats - Coastal Youth Fest 2026
DESCRIPTION:Join us in celebration of Queensland Youth Week\, 2026!\nBeach Beats is an all inclusive coastal youth festival\, held on the stunning Capricorn Coast!\n\nThere will be live music\, amusements\, free food\, youth stallholders and more!\nInterested in showcasing your talents?Submit your expression of interest to become a youth musician\, stallholder\, performer\, artist or volunteer!! https://www.surveymonkey.com/r/GRBHCSX
URL:https://thewellbeinghub.com.au/event/beach-beats-coastal-youth-fest-2026/
LOCATION:Yeppoon Show Grounds\, Morris Street\, Yeppoon\, Queensland\, Australia
CATEGORIES:Live music,Youth
ATTACH;FMTTYPE=image/jpeg:https://thewellbeinghub.com.au/wp-content/uploads/2026/02/626450494_909936494747934_6676053665832289419_n.jpg
END:VEVENT
END:VCALENDAR