BEGIN:VCALENDAR
VERSION:2.0
PRODID:-//The Wellbeing Hub - ECPv6.15.20//NONSGML v1.0//EN
CALSCALE:GREGORIAN
METHOD:PUBLISH
X-WR-CALNAME:The Wellbeing Hub
X-ORIGINAL-URL:https://thewellbeinghub.com.au
X-WR-CALDESC:Events for The Wellbeing Hub
REFRESH-INTERVAL;VALUE=DURATION:PT1H
X-Robots-Tag:noindex
X-PUBLISHED-TTL:PT1H
BEGIN:VTIMEZONE
TZID:Australia/Brisbane
BEGIN:STANDARD
TZOFFSETFROM:+1000
TZOFFSETTO:+1000
TZNAME:AEST
DTSTART:20240101T000000
END:STANDARD
END:VTIMEZONE
BEGIN:VEVENT
DTSTART;TZID=Australia/Brisbane:20251013T163000
DTEND;TZID=Australia/Brisbane:20251013T173000
DTSTAMP:20260423T224613
CREATED:20251003T023638Z
LAST-MODIFIED:20251003T023638Z
UID:10000021-1760373000-1760376600@thewellbeinghub.com.au
SUMMARY:QCWA Yeppoon Seasiders Walking Group
DESCRIPTION:Weekly Walking Group every Monday. \nYou are welcome to join us any Monday at 4.30pm in the Bowls Club carpark. \nContact: Linda Orgill \nEmail: yeppoonseasidersbranch@qcwa.org.au \nPh 0434003694 \nFacebook: https://www.facebook.com/qcwayeppoonseasiders
URL:https://thewellbeinghub.com.au/event/qcwa-yeppoon-seasiders-walking-group/
LOCATION:Bowls Club Car Park\, Yeppoon\, Queensland\, 4703\, Australia
CATEGORIES:walking group
ATTACH;FMTTYPE=image/jpeg:https://thewellbeinghub.com.au/wp-content/uploads/2025/10/qcwa-logo-1.jpg
ORGANIZER;CN="QCWA Yeppoon Seasiders":MAILTO:yeppoonseasidersbranch@qcwa.org.au
END:VEVENT
BEGIN:VEVENT
DTSTART;TZID=Australia/Brisbane:20251012T160000
DTEND;TZID=Australia/Brisbane:20251012T170000
DTSTAMP:20260423T224613
CREATED:20251002T063847Z
LAST-MODIFIED:20251002T063918Z
UID:10000015-1760284800-1760288400@thewellbeinghub.com.au
SUMMARY:Capricorn Coast Produce Swap
DESCRIPTION:The Produce Swap is on the second Sunday each month at 4pm. \nA monthly event where home gardeners share the abundant produce from their backyard garden rather than let it go to waste. \nEveryone welcome. \nContact: Paul Rayner \nEmail: prayner.basil@gmail.com \nPhone: 0481 566 814 \nFacebook Group: https://www.facebook.com/groups/887764887978830
URL:https://thewellbeinghub.com.au/event/capricorn-coast-produce-swap/
LOCATION:Jack’s Paddock\, Yeppoon\, 25 Ross Street\, Yeppoon\, Queensland\, 4703\, Australia
CATEGORIES:Community event
ATTACH;FMTTYPE=image/jpeg:https://thewellbeinghub.com.au/wp-content/uploads/2025/10/Cap-Coast-Produce-swap.jpg
ORGANIZER;CN="Capricorn Coast Produce Swap":MAILTO:prayner.basil@gmail.com
END:VEVENT
BEGIN:VEVENT
DTSTART;TZID=Australia/Brisbane:20251012T060000
DTEND;TZID=Australia/Brisbane:20251012T100000
DTSTAMP:20260423T224613
CREATED:20250624T084809Z
LAST-MODIFIED:20250926T032405Z
UID:10000001-1760248800-1760263200@thewellbeinghub.com.au
SUMMARY:The Wellbeing Hub Walk for Wellbeing
DESCRIPTION:Join us on Sunday 12th October for our 4th annual Walk for Wellbeing in support of Queensland Mental Health Week. \nThe walk commences at Rotary Park\, Farnborough Beach and concludes at Kemp Beach Picnic area with a sausage sizzle. Enjoy a rest pause at Ross Creek and a snack break at Lammermoor Beach. \nThis morning is all about connection and community over competition and being the fastest. \nGrab your friends and family and register now!
URL:https://thewellbeinghub.com.au/event/the-wellbeing-hub-walk-for-wellbeing/
LOCATION:Farnborough Beach\, Yeppoon\, QLD\, 4703\, Australia
CATEGORIES:Community event,mental health
ATTACH;FMTTYPE=image/png:https://thewellbeinghub.com.au/wp-content/uploads/2025/09/Walk-for-Wellbeing-Poster-1.png
ORGANIZER;CN="The Wellbeing Hub Walk for Wellbeing":MAILTO:thehubcapricorncoast@gmail.com
END:VEVENT
BEGIN:VEVENT
DTSTART;TZID=Australia/Brisbane:20251010T120000
DTEND;TZID=Australia/Brisbane:20251010T130000
DTSTAMP:20260423T224613
CREATED:20251002T062933Z
LAST-MODIFIED:20251002T062949Z
UID:10000010-1760097600-1760101200@thewellbeinghub.com.au
SUMMARY:I CARE Community Lunch
DESCRIPTION:I Care Friday Lunch at the Community Centre\, John Street Yeppoon. \nTime: 12pm – 1pm \nWe are seeking to bring the community together over a shared meal to create meaningful connections and a sense of support and wellbeing in our thriving community. \n  \nContact: Robyn Kleinhans \nPh: 074913 3840 \nEmail: robyn.kleinhans@livingstone.qld.gov.au \nFacebook: https://www.facebook.com/YeppoonCommunityCentre
URL:https://thewellbeinghub.com.au/event/community-lunch/
LOCATION:John Street Yeppoon\, John Street\, Yeppoon\, Qld\, 4703\, Australia
CATEGORIES:Community event
ATTACH;FMTTYPE=image/jpeg:https://thewellbeinghub.com.au/wp-content/uploads/2025/10/community-centre-logo.jpg
END:VEVENT
BEGIN:VEVENT
DTSTART;TZID=Australia/Brisbane:20251006T163000
DTEND;TZID=Australia/Brisbane:20251006T173000
DTSTAMP:20260423T224613
CREATED:20251003T022745Z
LAST-MODIFIED:20251003T023722Z
UID:10000020-1759768200-1759771800@thewellbeinghub.com.au
SUMMARY:QCWA Walking Group
DESCRIPTION:Weekly Walking Group every Monday. \nYou are welcome to join us any Monday at 4.30pm in the Bowls Club carpark. \nContact: Linda Orgill \nEmail: yeppoonseasidersbranch@qcwa.org.au \nPh 0434003694 \nFacebook: https://www.facebook.com/qcwayeppoonseasiders
URL:https://thewellbeinghub.com.au/event/qcwa-walking-group/
LOCATION:Bowls Club Car Park\, Yeppoon\, Queensland\, 4703\, Australia
CATEGORIES:walking group
ATTACH;FMTTYPE=image/jpeg:https://thewellbeinghub.com.au/wp-content/uploads/2025/10/qcwa-logo-1.jpg
ORGANIZER;CN="QCWA Yeppoon Seasiders":MAILTO:yeppoonseasidersbranch@qcwa.org.au
END:VEVENT
BEGIN:VEVENT
DTSTART;TZID=Australia/Brisbane:20251005T080000
DTEND;TZID=Australia/Brisbane:20251005T120000
DTSTAMP:20260423T224613
CREATED:20251003T025527Z
LAST-MODIFIED:20251003T025527Z
UID:10000025-1759651200-1759665600@thewellbeinghub.com.au
SUMMARY:Fig Tree Creek Markets
DESCRIPTION:Held on the first Sunday of each month Fig Tree Creek Markets stallholders display\, demonstrate and sell unique\, handmade\, locally designed \nContact: figtreecreekmarkets@gmail.com \nWebsite: keppelcoastarts.org.au/figtree-markets
URL:https://thewellbeinghub.com.au/event/fig-tree-creek-markets/
LOCATION:Queensland
CATEGORIES:market
ATTACH;FMTTYPE=image/jpeg:https://thewellbeinghub.com.au/wp-content/uploads/2025/10/fig-tree-creek.jpg
ORGANIZER;CN="Keppel Coast Arts":MAILTO:figtreecreekmarkets@gmail.com
END:VEVENT
BEGIN:VEVENT
DTSTART;TZID=Australia/Brisbane:20250929T080000
DTEND;TZID=Australia/Brisbane:20251014T170000
DTSTAMP:20260423T224613
CREATED:20251003T022327Z
LAST-MODIFIED:20251003T022327Z
UID:10000019-1759132800-1760461200@thewellbeinghub.com.au
SUMMARY:QCWA Yeppoon Seasiders Care Packs
DESCRIPTION:In October we are hoping to distribute 120 care packs into our community to support locals in need.\n\nUse the QR code to purchase a ticket which equates to the cost of a Care Pack for a woman in need in our community.\n\nAlternatively you can drop product donations off at Krackers Bowls Club\, Yeppoon Health and Fitness Centre\, Beach Potters or The Wesleyan Methodist Church.\n\nThank you for your support\, you help us make a difference.\n\nContact: Linda Orgill\n\nEmail: yeppoonseasidersbranch@qcwa.org.au\nPh 0434003694\n\nWebsite: https://events.humanitix.com/copy-of-qcwa-yeppoon-seasiders-care-packs
URL:https://thewellbeinghub.com.au/event/qcwa-yeppoon-seasiders-care-packs/
LOCATION:Queensland
ATTACH;FMTTYPE=image/jpeg:https://thewellbeinghub.com.au/wp-content/uploads/2025/10/qcwa-logo-1.jpg
ORGANIZER;CN="QCWA Yeppoon Seasiders":MAILTO:yeppoonseasidersbranch@qcwa.org.au
END:VEVENT
END:VCALENDAR