BEGIN:VCALENDAR
VERSION:2.0
PRODID:-//The Wellbeing Hub - ECPv6.15.20//NONSGML v1.0//EN
CALSCALE:GREGORIAN
METHOD:PUBLISH
X-ORIGINAL-URL:https://thewellbeinghub.com.au
X-WR-CALDESC:Events for The Wellbeing Hub
REFRESH-INTERVAL;VALUE=DURATION:PT1H
X-Robots-Tag:noindex
X-PUBLISHED-TTL:PT1H
BEGIN:VTIMEZONE
TZID:Australia/Brisbane
BEGIN:STANDARD
TZOFFSETFROM:+1000
TZOFFSETTO:+1000
TZNAME:AEST
DTSTART:20250101T000000
END:STANDARD
END:VTIMEZONE
BEGIN:VEVENT
DTSTART;TZID=Australia/Brisbane:20260621T150000
DTEND;TZID=Australia/Brisbane:20260621T180000
DTSTAMP:20260422T085723
CREATED:20260319T015053Z
LAST-MODIFIED:20260319T015053Z
UID:10001566-1782054000-1782064800@thewellbeinghub.com.au
SUMMARY:Sunset Sundays
DESCRIPTION:Sun\, 22 Mar \n |  \nOl’ Coterie \n\n\nLive & Local Sundays 🎶 Music 3–6pm | Happy Hour from 3pm Tapas • Sangria • Tap Beer • Cocktails • Coffee 66A Farnborough Rd Limited seating – book your spot!
URL:https://thewellbeinghub.com.au/event/sunset-sundays/2026-06-21/
LOCATION:Ol Coterie\, Farnborough Road\, Yeppoon\, Queensland\, 4703\, Australia
CATEGORIES:Live music
ATTACH;FMTTYPE=image/avif:https://thewellbeinghub.com.au/wp-content/uploads/2026/03/cca743_a1c4da8b617042d7a455b117fa5d5542mv2.avif
END:VEVENT
BEGIN:VEVENT
DTSTART;TZID=Australia/Brisbane:20260622T080000
DTEND;TZID=Australia/Brisbane:20260622T093000
DTSTAMP:20260422T085723
CREATED:20260327T045804Z
LAST-MODIFIED:20260327T045804Z
UID:10003102-1782115200-1782120600@thewellbeinghub.com.au
SUMMARY:Keppel Kids Playgroup
DESCRIPTION:
URL:https://thewellbeinghub.com.au/event/keppel-kids-playgroup-4/2026-06-22/
LOCATION:Yeppoon Community Centre\, John Street\, Yeppoon\, Q\, Australia
CATEGORIES:Play Group
ATTACH;FMTTYPE=image/jpeg:https://thewellbeinghub.com.au/wp-content/uploads/2026/03/641452210_1226485949658594_4043777313757289176_n.jpg
END:VEVENT
BEGIN:VEVENT
DTSTART;TZID=Australia/Brisbane:20260623T190000
DTEND;TZID=Australia/Brisbane:20260623T203000
DTSTAMP:20260422T085723
CREATED:20260401T231734Z
LAST-MODIFIED:20260401T231734Z
UID:10003477-1782241200-1782246600@thewellbeinghub.com.au
SUMMARY:Keppel Bay Sailing Club General Knowledge Trivia
DESCRIPTION:Join us every Tuesday from 7pm till 8:30pm for a fun-filled night of General Knowledge Trivia!\n\nBring your friends\, family\, or workmates and test your brainpower across a mix of topics — from pop culture and history to music\, movies\, and everything in between.
URL:https://thewellbeinghub.com.au/event/keppel-bay-sailing-club-general-knowledge-trivia/2026-06-23/
LOCATION:Keppel Bay Sailing Club\, Anzac Parade\, Yeppoon\, Queensland\, Australia
CATEGORIES:Trivia
ATTACH;FMTTYPE=image/jpeg:https://thewellbeinghub.com.au/wp-content/uploads/2026/04/607953443_1374445554378579_1980432998362206315_n.jpg
END:VEVENT
BEGIN:VEVENT
DTSTART;TZID=Australia/Brisbane:20260625T060000
DTEND;TZID=Australia/Brisbane:20260625T070000
DTSTAMP:20260422T085723
CREATED:20260325T025041Z
LAST-MODIFIED:20260325T025041Z
UID:10002534-1782367200-1782370800@thewellbeinghub.com.au
SUMMARY:Yogalates
DESCRIPTION:Weekly Yogalates 6am. 45 minutes to start your day with intention and movement focusing on core strength. \n$10. \nBYO mat  \nmain stage amphitheatre
URL:https://thewellbeinghub.com.au/event/yogalates/2026-06-25/
LOCATION:Main Stage\, Yeppoon Beachfront\, Yeppoon\, Qld\, 4703\, Australia
CATEGORIES:pilates,yoga
ATTACH;FMTTYPE=image/jpeg:https://thewellbeinghub.com.au/wp-content/uploads/2026/03/608576429_1432282628683671_3083230603113500975_n.jpg
END:VEVENT
BEGIN:VEVENT
DTSTART;TZID=Australia/Brisbane:20260625T093000
DTEND;TZID=Australia/Brisbane:20260625T113000
DTSTAMP:20260422T085723
CREATED:20260401T224331Z
LAST-MODIFIED:20260401T224334Z
UID:10001058-1782379800-1782387000@thewellbeinghub.com.au
SUMMARY:Capricorn Coast Toy Library Borrowing Sessions
DESCRIPTION:
URL:https://thewellbeinghub.com.au/event/capricorn-coast-toy-library-borrowing-sessions-2/2026-06-25/
LOCATION:Cap Coast Toy Library\, Cordingley Street\, Yeppoon\, Queensland\, Australia
CATEGORIES:Family friendly,Kid friendly,Toy Library
ATTACH;FMTTYPE=image/png:https://thewellbeinghub.com.au/wp-content/uploads/2026/03/956cb45a-d80b-4569-b424-efd7af7bdd23.png
END:VEVENT
BEGIN:VEVENT
DTSTART;TZID=Australia/Brisbane:20260625T100000
DTEND;TZID=Australia/Brisbane:20260628T160000
DTSTAMP:20260422T085723
CREATED:20260319T013409Z
LAST-MODIFIED:20260319T033846Z
UID:10000522-1782381600-1782662400@thewellbeinghub.com.au
SUMMARY:Yeppoon Playability
DESCRIPTION:
URL:https://thewellbeinghub.com.au/event/yeppoon-playability/2026-06-25/
LOCATION:Yeppoon Show Grounds\, Morris Street\, Yeppoon\, Queensland\, Australia
CATEGORIES:Family friendly,Kid friendly
ATTACH;FMTTYPE=image/jpeg:https://thewellbeinghub.com.au/wp-content/uploads/2026/03/653711389_907443078849836_7305843221958883784_n.jpg
END:VEVENT
BEGIN:VEVENT
DTSTART;TZID=Australia/Brisbane:20260627T060000
DTEND;TZID=Australia/Brisbane:20260627T064500
DTSTAMP:20260422T085723
CREATED:20260410T004928Z
LAST-MODIFIED:20260410T004929Z
UID:10002799-1782540000-1782542700@thewellbeinghub.com.au
SUMMARY:Yoga Flow
DESCRIPTION:Weekly Yoga Flow 6am. \n1 hour class to start your weekend with intention and movement. \n$10. \nBYO mat 
URL:https://thewellbeinghub.com.au/event/yoga-flow-13-2/2026-06-27/
LOCATION:Yeppoon Lagoon\, Lagoon Place\, Yeppoon\, Queensland\, Australia
CATEGORIES:Outdoor Yoga,yoga
ATTACH;FMTTYPE=image/jpeg:https://thewellbeinghub.com.au/wp-content/uploads/2026/01/607837749_1432283305350270_8785053822790915163_n.jpg
END:VEVENT
BEGIN:VEVENT
DTSTART;TZID=Australia/Brisbane:20260627T060000
DTEND;TZID=Australia/Brisbane:20260627T100000
DTSTAMP:20260422T085723
CREATED:20260319T013632Z
LAST-MODIFIED:20260319T013632Z
UID:10000783-1782540000-1782554400@thewellbeinghub.com.au
SUMMARY:Yeppoon Community Market
DESCRIPTION:Come check out our fantastic stallholders will be there selling essential oils\, healthy dog treats and other dog products\, craft\, fruit\, vegetables\, china\, great variety of plants\, eggs\, honey\, flowers\, nuts\, oils\, seeds\, dried fruit\, muesli\, gingers\, flours\, turmeric products\, tea tree products\, fresh herbs\, jewellery\, pre-loved clothing\, bags\, local paintings\, bric-a-brac\, Aboriginal art jigsaws\, native bush food organics\, coffee beans\, embroidery\, variety of teas\, tarot and mediumship (gift certificates available) candles\, incense\, books\, cds\, dvds\, women’s clothing etc etc. Plenty of locally\, freshly baked sweet pastries\, sourdough bread\, custard creams\, slices\, gluten free treats\, bagels and our chai tea\, coffee and cold drinks.\nEVERY SATURDAY IN THE YEPPOON SHOWGROUNDS 6AM-10AM\nSORRY NO DOGS Allowed Mostly a CASH Market
URL:https://thewellbeinghub.com.au/event/yeppoon-community-market-11/2026-06-27/
LOCATION:Yeppoon Show Grounds\, Morris Street\, Yeppoon\, Queensland\, Australia
CATEGORIES:market
ATTACH;FMTTYPE=image/jpeg:https://thewellbeinghub.com.au/wp-content/uploads/2025/11/market.jpg
END:VEVENT
BEGIN:VEVENT
DTSTART;TZID=Australia/Brisbane:20260627T065000
DTEND;TZID=Australia/Brisbane:20260627T080000
DTSTAMP:20260422T085723
CREATED:20260319T022049Z
LAST-MODIFIED:20260319T022049Z
UID:10002201-1782543000-1782547200@thewellbeinghub.com.au
SUMMARY:Yeppoon Park Run
DESCRIPTION:What is Yeppoon parkrun?\nA free\, fun\, and friendly weekly 5k community event. Walk\, jog\, run\, volunteer or spectate – it’s up to you! \nWhen is it?\nEvery Saturday at 7:00am. \nWhere is it?\nThe event takes place at Capricorn Coast Pineapple Rail Trail\, Braithwaite Street\, Yeppoon QLD 4703. See Course page for more details. \nWhat does it cost to join in?\nNothing – it’s free! but please register before you first come along. Only ever register with parkrun once and don’t forget to bring a scannable copy of your barcode (request a reminder). If you forget it\, you won’t get a time.
URL:https://thewellbeinghub.com.au/event/yeppoon-park-run-3/2026-06-27/
LOCATION:The Rail Trail\, Braithwaite Street
CATEGORIES:Running group
ATTACH;FMTTYPE=image/jpeg:https://thewellbeinghub.com.au/wp-content/uploads/2026/03/474524366_957857769777882_5490498456229553761_n.jpg
END:VEVENT
BEGIN:VEVENT
DTSTART;TZID=Australia/Brisbane:20260627T093000
DTEND;TZID=Australia/Brisbane:20260627T113000
DTSTAMP:20260422T085723
CREATED:20260401T224331Z
LAST-MODIFIED:20260401T224334Z
UID:10001059-1782552600-1782559800@thewellbeinghub.com.au
SUMMARY:Capricorn Coast Toy Library Borrowing Sessions
DESCRIPTION:
URL:https://thewellbeinghub.com.au/event/capricorn-coast-toy-library-borrowing-sessions-2/2026-06-27/
LOCATION:Cap Coast Toy Library\, Cordingley Street\, Yeppoon\, Queensland\, Australia
CATEGORIES:Family friendly,Kid friendly,Toy Library
ATTACH;FMTTYPE=image/png:https://thewellbeinghub.com.au/wp-content/uploads/2026/03/956cb45a-d80b-4569-b424-efd7af7bdd23.png
END:VEVENT
BEGIN:VEVENT
DTSTART;TZID=Australia/Brisbane:20260627T160000
DTEND;TZID=Australia/Brisbane:20260627T190000
DTSTAMP:20260422T085723
CREATED:20260319T021439Z
LAST-MODIFIED:20260319T021439Z
UID:10001939-1782576000-1782586800@thewellbeinghub.com.au
SUMMARY:Lure Living - LIve Music
DESCRIPTION:Live Music Saturdays  from 4pm – 7pm
URL:https://thewellbeinghub.com.au/event/lure-living-live-music/2026-06-27/
LOCATION:Lure Living\, Anzac Parade\, Yeppoon
CATEGORIES:Live music
ATTACH;FMTTYPE=image/jpeg:https://thewellbeinghub.com.au/wp-content/uploads/2026/03/480426817_1166807752118346_1081685517913591725_n.jpg
END:VEVENT
BEGIN:VEVENT
DTSTART;TZID=Australia/Brisbane:20260627T193000
DTEND;TZID=Australia/Brisbane:20260627T210000
DTSTAMP:20260422T085723
CREATED:20260326T012841Z
LAST-MODIFIED:20260326T012841Z
UID:10003060-1782588600-1782594000@thewellbeinghub.com.au
SUMMARY:Ghosts\, Murder & Jack the Ripper
DESCRIPTION:Join our evening tour through Rockhampton’s streets and alleys and discover the darker side of the city. Learn about the ghosts that haunted Quay st\, the city’s first recorded murder\, the Rockhampton gold heist that created Sherlock Holmes and modern forensics and yes\, learn the bizarre and true history of Jack the Ripper’s connection to Rockhampton. \nKIDS WELCOME (note: its in the dark and spooky) \nTours start at the Criterion Hotel on Quay St\, head towards the post office on East St\, then into the alleys until finishing out the front of the iconic Customs House.Bookings essential \n#rockhamptonzoo #botanicgardens #RockhamptonBotanicGardens #exploretocreatererockhampton #explorerockhamptonregion #ghosttour #ghosttourrockhampton #ghosttouraustralia #truecrimetour #truecrimetourrockhampton #myrockhampton #rockhamptontourism #rockhamptontour #VisitCapricorn #SouthernGreatBarrierReef #SandstoneWilderness
URL:https://thewellbeinghub.com.au/event/ghosts-murder-jack-the-ripper/2026-06-27/
LOCATION:The Criterian Hotel\, 150 Quay Street\, Rockhampton\, Queensland\, Australia
CATEGORIES:History,Walking tour
ATTACH;FMTTYPE=image/jpeg:https://thewellbeinghub.com.au/wp-content/uploads/2026/03/652542702_928890783220743_8545634334410897198_n.jpg
ORGANIZER;CN="Time Safaris Walking Tours Rockhampton":MAILTO:timesafarisrockhampton@gmail.com
END:VEVENT
BEGIN:VEVENT
DTSTART;TZID=Australia/Brisbane:20260628T063000
DTEND;TZID=Australia/Brisbane:20260628T073000
DTSTAMP:20260422T085723
CREATED:20260410T004609Z
LAST-MODIFIED:20260410T004829Z
UID:10001677-1782628200-1782631800@thewellbeinghub.com.au
SUMMARY:60 Minute Roll & Release Outdoor Class
DESCRIPTION:Roll & Release Yoga is your go-to practice for easing tension\, enhancing mobility\, and awakening the body—all in a gentle\, accessible way. \nThis 60-minute\, all-level class blends self-myofascial release techniques\, breathwork\, and fluid yoga sequences\, using simple tools to target fascia and improve flexibility without overstretching. Through mindful rolling\, restorative movement\, and deep relaxation\, you’ll release built-up tightness\, find greater ease in motion\, and leave feeling refreshed and balanced. Perfect for anyone looking to unwind\, mobilize\, and reconnect. \nThis in person class is perfect for any level of experience or fitness held at Main Beach Stage\, Yeppoon. \n$10 per adult – with three payment options: \n1. Pay with Credit card (Stripe is my payment processor) upon booking in. \n2. Choose Pay Later if you would like to pay with cash on arrival. \n3. Yoga 10 Class Pass only $80 – purchase through this link BEFORE registering for class: 10 CLASS PASS \nBYO mat\, hat and water. \nSee you on the mat\, \nTracy
URL:https://thewellbeinghub.com.au/event/60-minute-roll-release-outdoor-class-2/2026-06-28/
LOCATION:Main Stage\, Yeppoon Beachfront\, Yeppoon\, Qld\, 4703\, Australia
CATEGORIES:Outdoor Yoga,yoga
ATTACH;FMTTYPE=image/jpeg:https://thewellbeinghub.com.au/wp-content/uploads/2025/10/roll-and-release.jpg
ORGANIZER;CN="Yoga with Tracy":MAILTO:admin@yogawithtracy.com.au
END:VEVENT
BEGIN:VEVENT
DTSTART;TZID=Australia/Brisbane:20260628T150000
DTEND;TZID=Australia/Brisbane:20260628T180000
DTSTAMP:20260422T085723
CREATED:20260319T015053Z
LAST-MODIFIED:20260319T015053Z
UID:10001567-1782658800-1782669600@thewellbeinghub.com.au
SUMMARY:Sunset Sundays
DESCRIPTION:Sun\, 22 Mar \n |  \nOl’ Coterie \n\n\nLive & Local Sundays 🎶 Music 3–6pm | Happy Hour from 3pm Tapas • Sangria • Tap Beer • Cocktails • Coffee 66A Farnborough Rd Limited seating – book your spot!
URL:https://thewellbeinghub.com.au/event/sunset-sundays/2026-06-28/
LOCATION:Ol Coterie\, Farnborough Road\, Yeppoon\, Queensland\, 4703\, Australia
CATEGORIES:Live music
ATTACH;FMTTYPE=image/avif:https://thewellbeinghub.com.au/wp-content/uploads/2026/03/cca743_a1c4da8b617042d7a455b117fa5d5542mv2.avif
END:VEVENT
BEGIN:VEVENT
DTSTART;TZID=Australia/Brisbane:20260629T080000
DTEND;TZID=Australia/Brisbane:20260629T093000
DTSTAMP:20260422T085723
CREATED:20260327T045804Z
LAST-MODIFIED:20260327T045804Z
UID:10003103-1782720000-1782725400@thewellbeinghub.com.au
SUMMARY:Keppel Kids Playgroup
DESCRIPTION:
URL:https://thewellbeinghub.com.au/event/keppel-kids-playgroup-4/2026-06-29/
LOCATION:Yeppoon Community Centre\, John Street\, Yeppoon\, Q\, Australia
CATEGORIES:Play Group
ATTACH;FMTTYPE=image/jpeg:https://thewellbeinghub.com.au/wp-content/uploads/2026/03/641452210_1226485949658594_4043777313757289176_n.jpg
END:VEVENT
BEGIN:VEVENT
DTSTART;TZID=Australia/Brisbane:20260630T190000
DTEND;TZID=Australia/Brisbane:20260630T203000
DTSTAMP:20260422T085723
CREATED:20260401T231734Z
LAST-MODIFIED:20260401T231734Z
UID:10003478-1782846000-1782851400@thewellbeinghub.com.au
SUMMARY:Keppel Bay Sailing Club General Knowledge Trivia
DESCRIPTION:Join us every Tuesday from 7pm till 8:30pm for a fun-filled night of General Knowledge Trivia!\n\nBring your friends\, family\, or workmates and test your brainpower across a mix of topics — from pop culture and history to music\, movies\, and everything in between.
URL:https://thewellbeinghub.com.au/event/keppel-bay-sailing-club-general-knowledge-trivia/2026-06-30/
LOCATION:Keppel Bay Sailing Club\, Anzac Parade\, Yeppoon\, Queensland\, Australia
CATEGORIES:Trivia
ATTACH;FMTTYPE=image/jpeg:https://thewellbeinghub.com.au/wp-content/uploads/2026/04/607953443_1374445554378579_1980432998362206315_n.jpg
END:VEVENT
BEGIN:VEVENT
DTSTART;TZID=Australia/Brisbane:20260702T060000
DTEND;TZID=Australia/Brisbane:20260702T070000
DTSTAMP:20260422T085723
CREATED:20260325T025041Z
LAST-MODIFIED:20260325T025041Z
UID:10002535-1782972000-1782975600@thewellbeinghub.com.au
SUMMARY:Yogalates
DESCRIPTION:Weekly Yogalates 6am. 45 minutes to start your day with intention and movement focusing on core strength. \n$10. \nBYO mat  \nmain stage amphitheatre
URL:https://thewellbeinghub.com.au/event/yogalates/2026-07-02/
LOCATION:Main Stage\, Yeppoon Beachfront\, Yeppoon\, Qld\, 4703\, Australia
CATEGORIES:pilates,yoga
ATTACH;FMTTYPE=image/jpeg:https://thewellbeinghub.com.au/wp-content/uploads/2026/03/608576429_1432282628683671_3083230603113500975_n.jpg
END:VEVENT
BEGIN:VEVENT
DTSTART;TZID=Australia/Brisbane:20260702T093000
DTEND;TZID=Australia/Brisbane:20260702T113000
DTSTAMP:20260422T085723
CREATED:20260401T224331Z
LAST-MODIFIED:20260401T224334Z
UID:10001060-1782984600-1782991800@thewellbeinghub.com.au
SUMMARY:Capricorn Coast Toy Library Borrowing Sessions
DESCRIPTION:
URL:https://thewellbeinghub.com.au/event/capricorn-coast-toy-library-borrowing-sessions-2/2026-07-02/
LOCATION:Cap Coast Toy Library\, Cordingley Street\, Yeppoon\, Queensland\, Australia
CATEGORIES:Family friendly,Kid friendly,Toy Library
ATTACH;FMTTYPE=image/png:https://thewellbeinghub.com.au/wp-content/uploads/2026/03/956cb45a-d80b-4569-b424-efd7af7bdd23.png
END:VEVENT
BEGIN:VEVENT
DTSTART;TZID=Australia/Brisbane:20260702T100000
DTEND;TZID=Australia/Brisbane:20260705T160000
DTSTAMP:20260422T085723
CREATED:20260319T013409Z
LAST-MODIFIED:20260319T033846Z
UID:10000523-1782986400-1783267200@thewellbeinghub.com.au
SUMMARY:Yeppoon Playability
DESCRIPTION:
URL:https://thewellbeinghub.com.au/event/yeppoon-playability/2026-07-02/
LOCATION:Yeppoon Show Grounds\, Morris Street\, Yeppoon\, Queensland\, Australia
CATEGORIES:Family friendly,Kid friendly
ATTACH;FMTTYPE=image/jpeg:https://thewellbeinghub.com.au/wp-content/uploads/2026/03/653711389_907443078849836_7305843221958883784_n.jpg
END:VEVENT
BEGIN:VEVENT
DTSTART;TZID=Australia/Brisbane:20260704T060000
DTEND;TZID=Australia/Brisbane:20260704T064500
DTSTAMP:20260422T085723
CREATED:20260410T004928Z
LAST-MODIFIED:20260410T004929Z
UID:10002800-1783144800-1783147500@thewellbeinghub.com.au
SUMMARY:Yoga Flow
DESCRIPTION:Weekly Yoga Flow 6am. \n1 hour class to start your weekend with intention and movement. \n$10. \nBYO mat 
URL:https://thewellbeinghub.com.au/event/yoga-flow-13-2/2026-07-04/
LOCATION:Yeppoon Lagoon\, Lagoon Place\, Yeppoon\, Queensland\, Australia
CATEGORIES:Outdoor Yoga,yoga
ATTACH;FMTTYPE=image/jpeg:https://thewellbeinghub.com.au/wp-content/uploads/2026/01/607837749_1432283305350270_8785053822790915163_n.jpg
END:VEVENT
BEGIN:VEVENT
DTSTART;TZID=Australia/Brisbane:20260704T060000
DTEND;TZID=Australia/Brisbane:20260704T100000
DTSTAMP:20260422T085723
CREATED:20260319T013632Z
LAST-MODIFIED:20260319T013632Z
UID:10000784-1783144800-1783159200@thewellbeinghub.com.au
SUMMARY:Yeppoon Community Market
DESCRIPTION:Come check out our fantastic stallholders will be there selling essential oils\, healthy dog treats and other dog products\, craft\, fruit\, vegetables\, china\, great variety of plants\, eggs\, honey\, flowers\, nuts\, oils\, seeds\, dried fruit\, muesli\, gingers\, flours\, turmeric products\, tea tree products\, fresh herbs\, jewellery\, pre-loved clothing\, bags\, local paintings\, bric-a-brac\, Aboriginal art jigsaws\, native bush food organics\, coffee beans\, embroidery\, variety of teas\, tarot and mediumship (gift certificates available) candles\, incense\, books\, cds\, dvds\, women’s clothing etc etc. Plenty of locally\, freshly baked sweet pastries\, sourdough bread\, custard creams\, slices\, gluten free treats\, bagels and our chai tea\, coffee and cold drinks.\nEVERY SATURDAY IN THE YEPPOON SHOWGROUNDS 6AM-10AM\nSORRY NO DOGS Allowed Mostly a CASH Market
URL:https://thewellbeinghub.com.au/event/yeppoon-community-market-11/2026-07-04/
LOCATION:Yeppoon Show Grounds\, Morris Street\, Yeppoon\, Queensland\, Australia
CATEGORIES:market
ATTACH;FMTTYPE=image/jpeg:https://thewellbeinghub.com.au/wp-content/uploads/2025/11/market.jpg
END:VEVENT
BEGIN:VEVENT
DTSTART;TZID=Australia/Brisbane:20260704T065000
DTEND;TZID=Australia/Brisbane:20260704T080000
DTSTAMP:20260422T085723
CREATED:20260319T022049Z
LAST-MODIFIED:20260319T022049Z
UID:10002202-1783147800-1783152000@thewellbeinghub.com.au
SUMMARY:Yeppoon Park Run
DESCRIPTION:What is Yeppoon parkrun?\nA free\, fun\, and friendly weekly 5k community event. Walk\, jog\, run\, volunteer or spectate – it’s up to you! \nWhen is it?\nEvery Saturday at 7:00am. \nWhere is it?\nThe event takes place at Capricorn Coast Pineapple Rail Trail\, Braithwaite Street\, Yeppoon QLD 4703. See Course page for more details. \nWhat does it cost to join in?\nNothing – it’s free! but please register before you first come along. Only ever register with parkrun once and don’t forget to bring a scannable copy of your barcode (request a reminder). If you forget it\, you won’t get a time.
URL:https://thewellbeinghub.com.au/event/yeppoon-park-run-3/2026-07-04/
LOCATION:The Rail Trail\, Braithwaite Street
CATEGORIES:Running group
ATTACH;FMTTYPE=image/jpeg:https://thewellbeinghub.com.au/wp-content/uploads/2026/03/474524366_957857769777882_5490498456229553761_n.jpg
END:VEVENT
BEGIN:VEVENT
DTSTART;TZID=Australia/Brisbane:20260704T093000
DTEND;TZID=Australia/Brisbane:20260704T113000
DTSTAMP:20260422T085723
CREATED:20260401T224331Z
LAST-MODIFIED:20260401T224334Z
UID:10001061-1783157400-1783164600@thewellbeinghub.com.au
SUMMARY:Capricorn Coast Toy Library Borrowing Sessions
DESCRIPTION:
URL:https://thewellbeinghub.com.au/event/capricorn-coast-toy-library-borrowing-sessions-2/2026-07-04/
LOCATION:Cap Coast Toy Library\, Cordingley Street\, Yeppoon\, Queensland\, Australia
CATEGORIES:Family friendly,Kid friendly,Toy Library
ATTACH;FMTTYPE=image/png:https://thewellbeinghub.com.au/wp-content/uploads/2026/03/956cb45a-d80b-4569-b424-efd7af7bdd23.png
END:VEVENT
BEGIN:VEVENT
DTSTART;TZID=Australia/Brisbane:20260704T160000
DTEND;TZID=Australia/Brisbane:20260704T190000
DTSTAMP:20260422T085723
CREATED:20260319T021439Z
LAST-MODIFIED:20260319T021439Z
UID:10001940-1783180800-1783191600@thewellbeinghub.com.au
SUMMARY:Lure Living - LIve Music
DESCRIPTION:Live Music Saturdays  from 4pm – 7pm
URL:https://thewellbeinghub.com.au/event/lure-living-live-music/2026-07-04/
LOCATION:Lure Living\, Anzac Parade\, Yeppoon
CATEGORIES:Live music
ATTACH;FMTTYPE=image/jpeg:https://thewellbeinghub.com.au/wp-content/uploads/2026/03/480426817_1166807752118346_1081685517913591725_n.jpg
END:VEVENT
BEGIN:VEVENT
DTSTART;TZID=Australia/Brisbane:20260704T193000
DTEND;TZID=Australia/Brisbane:20260704T210000
DTSTAMP:20260422T085723
CREATED:20260326T012841Z
LAST-MODIFIED:20260326T012841Z
UID:10003061-1783193400-1783198800@thewellbeinghub.com.au
SUMMARY:Ghosts\, Murder & Jack the Ripper
DESCRIPTION:Join our evening tour through Rockhampton’s streets and alleys and discover the darker side of the city. Learn about the ghosts that haunted Quay st\, the city’s first recorded murder\, the Rockhampton gold heist that created Sherlock Holmes and modern forensics and yes\, learn the bizarre and true history of Jack the Ripper’s connection to Rockhampton. \nKIDS WELCOME (note: its in the dark and spooky) \nTours start at the Criterion Hotel on Quay St\, head towards the post office on East St\, then into the alleys until finishing out the front of the iconic Customs House.Bookings essential \n#rockhamptonzoo #botanicgardens #RockhamptonBotanicGardens #exploretocreatererockhampton #explorerockhamptonregion #ghosttour #ghosttourrockhampton #ghosttouraustralia #truecrimetour #truecrimetourrockhampton #myrockhampton #rockhamptontourism #rockhamptontour #VisitCapricorn #SouthernGreatBarrierReef #SandstoneWilderness
URL:https://thewellbeinghub.com.au/event/ghosts-murder-jack-the-ripper/2026-07-04/
LOCATION:The Criterian Hotel\, 150 Quay Street\, Rockhampton\, Queensland\, Australia
CATEGORIES:History,Walking tour
ATTACH;FMTTYPE=image/jpeg:https://thewellbeinghub.com.au/wp-content/uploads/2026/03/652542702_928890783220743_8545634334410897198_n.jpg
ORGANIZER;CN="Time Safaris Walking Tours Rockhampton":MAILTO:timesafarisrockhampton@gmail.com
END:VEVENT
BEGIN:VEVENT
DTSTART;TZID=Australia/Brisbane:20260705T063000
DTEND;TZID=Australia/Brisbane:20260705T073000
DTSTAMP:20260422T085723
CREATED:20260410T004609Z
LAST-MODIFIED:20260410T004829Z
UID:10001678-1783233000-1783236600@thewellbeinghub.com.au
SUMMARY:60 Minute Roll & Release Outdoor Class
DESCRIPTION:Roll & Release Yoga is your go-to practice for easing tension\, enhancing mobility\, and awakening the body—all in a gentle\, accessible way. \nThis 60-minute\, all-level class blends self-myofascial release techniques\, breathwork\, and fluid yoga sequences\, using simple tools to target fascia and improve flexibility without overstretching. Through mindful rolling\, restorative movement\, and deep relaxation\, you’ll release built-up tightness\, find greater ease in motion\, and leave feeling refreshed and balanced. Perfect for anyone looking to unwind\, mobilize\, and reconnect. \nThis in person class is perfect for any level of experience or fitness held at Main Beach Stage\, Yeppoon. \n$10 per adult – with three payment options: \n1. Pay with Credit card (Stripe is my payment processor) upon booking in. \n2. Choose Pay Later if you would like to pay with cash on arrival. \n3. Yoga 10 Class Pass only $80 – purchase through this link BEFORE registering for class: 10 CLASS PASS \nBYO mat\, hat and water. \nSee you on the mat\, \nTracy
URL:https://thewellbeinghub.com.au/event/60-minute-roll-release-outdoor-class-2/2026-07-05/
LOCATION:Main Stage\, Yeppoon Beachfront\, Yeppoon\, Qld\, 4703\, Australia
CATEGORIES:Outdoor Yoga,yoga
ATTACH;FMTTYPE=image/jpeg:https://thewellbeinghub.com.au/wp-content/uploads/2025/10/roll-and-release.jpg
ORGANIZER;CN="Yoga with Tracy":MAILTO:admin@yogawithtracy.com.au
END:VEVENT
BEGIN:VEVENT
DTSTART;TZID=Australia/Brisbane:20260705T080000
DTEND;TZID=Australia/Brisbane:20260705T120000
DTSTAMP:20260422T085723
CREATED:20260330T022531Z
LAST-MODIFIED:20260330T022531Z
UID:10003358-1783238400-1783252800@thewellbeinghub.com.au
SUMMARY:Fig Tree Creek Markets
DESCRIPTION:On the first Sunday of each month \nbring your visitors have a coffee  listen to the live music  and wander amongst our wonderful stalls. 8am till 12 noon
URL:https://thewellbeinghub.com.au/event/fig-tree-creek-markets-4/2026-07-05/
LOCATION:Fig Tree Creek\, Yeppoon
CATEGORIES:market
ATTACH;FMTTYPE=image/jpeg:https://thewellbeinghub.com.au/wp-content/uploads/2025/10/fig-tree-creek.jpg
END:VEVENT
BEGIN:VEVENT
DTSTART;TZID=Australia/Brisbane:20260705T150000
DTEND;TZID=Australia/Brisbane:20260705T180000
DTSTAMP:20260422T085723
CREATED:20260319T015053Z
LAST-MODIFIED:20260319T015053Z
UID:10001568-1783263600-1783274400@thewellbeinghub.com.au
SUMMARY:Sunset Sundays
DESCRIPTION:Sun\, 22 Mar \n |  \nOl’ Coterie \n\n\nLive & Local Sundays 🎶 Music 3–6pm | Happy Hour from 3pm Tapas • Sangria • Tap Beer • Cocktails • Coffee 66A Farnborough Rd Limited seating – book your spot!
URL:https://thewellbeinghub.com.au/event/sunset-sundays/2026-07-05/
LOCATION:Ol Coterie\, Farnborough Road\, Yeppoon\, Queensland\, 4703\, Australia
CATEGORIES:Live music
ATTACH;FMTTYPE=image/avif:https://thewellbeinghub.com.au/wp-content/uploads/2026/03/cca743_a1c4da8b617042d7a455b117fa5d5542mv2.avif
END:VEVENT
BEGIN:VEVENT
DTSTART;TZID=Australia/Brisbane:20260706T080000
DTEND;TZID=Australia/Brisbane:20260706T093000
DTSTAMP:20260422T085723
CREATED:20260327T045804Z
LAST-MODIFIED:20260327T045804Z
UID:10003104-1783324800-1783330200@thewellbeinghub.com.au
SUMMARY:Keppel Kids Playgroup
DESCRIPTION:
URL:https://thewellbeinghub.com.au/event/keppel-kids-playgroup-4/2026-07-06/
LOCATION:Yeppoon Community Centre\, John Street\, Yeppoon\, Q\, Australia
CATEGORIES:Play Group
ATTACH;FMTTYPE=image/jpeg:https://thewellbeinghub.com.au/wp-content/uploads/2026/03/641452210_1226485949658594_4043777313757289176_n.jpg
END:VEVENT
BEGIN:VEVENT
DTSTART;TZID=Australia/Brisbane:20260707T100000
DTEND;TZID=Australia/Brisbane:20260707T113000
DTSTAMP:20260422T085723
CREATED:20260401T231241Z
LAST-MODIFIED:20260401T231241Z
UID:10003454-1783418400-1783423800@thewellbeinghub.com.au
SUMMARY:Cuppa & Chat - Bereavement Drop-in Sessions
DESCRIPTION:Grief is a natural response to a loss of any kind. It is an experience that encompasses the whole person\, affecting us physically\, mentally\, socially\, and spiritually. If you’re experiencing grief\, you don’t have to face this alone. \n\nWhether you’ve experienced loss recently or in the past\, you are welcome to attend our twice-monthly Bereavement Drop-In Sessions.\n\n First and Third Tuesday of every month 10am-11:30am Loreto Hall\, Fitzroy Community Hospice\n\nThese sessions are a welcoming\, safe and confidential space for people to talk and share their feelings\, receive guidance\, and connect with others who understand the journey of grief.\nNo bookings required\, just come along
URL:https://thewellbeinghub.com.au/event/cuppa-chat-bereavement-drop-in-sessions/2026-07-07/
LOCATION:Fitzroy Community Hospice\, 38 Agnes Street\, Rockhampton
CATEGORIES:Support Group
ATTACH;FMTTYPE=image/jpeg:https://thewellbeinghub.com.au/wp-content/uploads/2026/04/610980582_847929751282801_889072821680657788_n.jpg
END:VEVENT
END:VCALENDAR