BEGIN:VCALENDAR
VERSION:2.0
PRODID:-//The Wellbeing Hub - ECPv6.15.20//NONSGML v1.0//EN
CALSCALE:GREGORIAN
METHOD:PUBLISH
X-WR-CALNAME:The Wellbeing Hub
X-ORIGINAL-URL:https://thewellbeinghub.com.au
X-WR-CALDESC:Events for The Wellbeing Hub
REFRESH-INTERVAL;VALUE=DURATION:PT1H
X-Robots-Tag:noindex
X-PUBLISHED-TTL:PT1H
BEGIN:VTIMEZONE
TZID:Australia/Brisbane
BEGIN:STANDARD
TZOFFSETFROM:+1000
TZOFFSETTO:+1000
TZNAME:AEST
DTSTART:20250101T000000
END:STANDARD
END:VTIMEZONE
BEGIN:VEVENT
DTSTART;TZID=Australia/Brisbane:20260901T123000
DTEND;TZID=Australia/Brisbane:20260901T143000
DTSTAMP:20260420T052503
CREATED:20260114T023057Z
LAST-MODIFIED:20260114T023057Z
UID:10000241-1788265800-1788273000@thewellbeinghub.com.au
SUMMARY:Hair Aid - Free Community Cuts
DESCRIPTION:Free Community Hair Cuts \n12.30pm – 2.30pm \nRoom C\, Community Centre\, John Street Yeppoon
URL:https://thewellbeinghub.com.au/event/hair-aid-free-community-cuts-2/
LOCATION:Yeppoon Community Centre\, John Street\, Yeppoon\, Q\, Australia
ATTACH;FMTTYPE=image/jpeg:https://thewellbeinghub.com.au/wp-content/uploads/2026/01/612126298_1187347516905771_8035005064685172393_n.jpg
END:VEVENT
BEGIN:VEVENT
DTSTART;TZID=Australia/Brisbane:20260901T190000
DTEND;TZID=Australia/Brisbane:20260901T203000
DTSTAMP:20260420T052503
CREATED:20260401T231734Z
LAST-MODIFIED:20260401T231734Z
UID:10003487-1788289200-1788294600@thewellbeinghub.com.au
SUMMARY:Keppel Bay Sailing Club General Knowledge Trivia
DESCRIPTION:Join us every Tuesday from 7pm till 8:30pm for a fun-filled night of General Knowledge Trivia!\n\nBring your friends\, family\, or workmates and test your brainpower across a mix of topics — from pop culture and history to music\, movies\, and everything in between.
URL:https://thewellbeinghub.com.au/event/keppel-bay-sailing-club-general-knowledge-trivia/2026-09-01/
LOCATION:Keppel Bay Sailing Club\, Anzac Parade\, Yeppoon\, Queensland\, Australia
CATEGORIES:Trivia
ATTACH;FMTTYPE=image/jpeg:https://thewellbeinghub.com.au/wp-content/uploads/2026/04/607953443_1374445554378579_1980432998362206315_n.jpg
END:VEVENT
BEGIN:VEVENT
DTSTART;TZID=Australia/Brisbane:20260903T060000
DTEND;TZID=Australia/Brisbane:20260903T070000
DTSTAMP:20260420T052503
CREATED:20260325T025041Z
LAST-MODIFIED:20260325T025041Z
UID:10002544-1788415200-1788418800@thewellbeinghub.com.au
SUMMARY:Yogalates
DESCRIPTION:Weekly Yogalates 6am. 45 minutes to start your day with intention and movement focusing on core strength. \n$10. \nBYO mat  \nmain stage amphitheatre
URL:https://thewellbeinghub.com.au/event/yogalates/2026-09-03/
LOCATION:Main Stage\, Yeppoon Beachfront\, Yeppoon\, Qld\, 4703\, Australia
CATEGORIES:pilates,yoga
ATTACH;FMTTYPE=image/jpeg:https://thewellbeinghub.com.au/wp-content/uploads/2026/03/608576429_1432282628683671_3083230603113500975_n.jpg
END:VEVENT
BEGIN:VEVENT
DTSTART;TZID=Australia/Brisbane:20260903T093000
DTEND;TZID=Australia/Brisbane:20260903T113000
DTSTAMP:20260420T052503
CREATED:20260401T224331Z
LAST-MODIFIED:20260401T224334Z
UID:10001078-1788427800-1788435000@thewellbeinghub.com.au
SUMMARY:Capricorn Coast Toy Library Borrowing Sessions
DESCRIPTION:
URL:https://thewellbeinghub.com.au/event/capricorn-coast-toy-library-borrowing-sessions-2/2026-09-03/
LOCATION:Cap Coast Toy Library\, Cordingley Street\, Yeppoon\, Queensland\, Australia
CATEGORIES:Family friendly,Kid friendly,Toy Library
ATTACH;FMTTYPE=image/png:https://thewellbeinghub.com.au/wp-content/uploads/2026/03/956cb45a-d80b-4569-b424-efd7af7bdd23.png
END:VEVENT
BEGIN:VEVENT
DTSTART;TZID=Australia/Brisbane:20260903T100000
DTEND;TZID=Australia/Brisbane:20260906T160000
DTSTAMP:20260420T052503
CREATED:20260319T013409Z
LAST-MODIFIED:20260319T033846Z
UID:10000532-1788429600-1788710400@thewellbeinghub.com.au
SUMMARY:Yeppoon Playability
DESCRIPTION:
URL:https://thewellbeinghub.com.au/event/yeppoon-playability/2026-09-03/
LOCATION:Yeppoon Show Grounds\, Morris Street\, Yeppoon\, Queensland\, Australia
CATEGORIES:Family friendly,Kid friendly
ATTACH;FMTTYPE=image/jpeg:https://thewellbeinghub.com.au/wp-content/uploads/2026/03/653711389_907443078849836_7305843221958883784_n.jpg
END:VEVENT
BEGIN:VEVENT
DTSTART;TZID=Australia/Brisbane:20260905T060000
DTEND;TZID=Australia/Brisbane:20260905T064500
DTSTAMP:20260420T052503
CREATED:20260410T004928Z
LAST-MODIFIED:20260410T004929Z
UID:10002809-1788588000-1788590700@thewellbeinghub.com.au
SUMMARY:Yoga Flow
DESCRIPTION:Weekly Yoga Flow 6am. \n1 hour class to start your weekend with intention and movement. \n$10. \nBYO mat 
URL:https://thewellbeinghub.com.au/event/yoga-flow-13-2/2026-09-05/
LOCATION:Yeppoon Lagoon\, Lagoon Place\, Yeppoon\, Queensland\, Australia
CATEGORIES:Outdoor Yoga,yoga
ATTACH;FMTTYPE=image/jpeg:https://thewellbeinghub.com.au/wp-content/uploads/2026/01/607837749_1432283305350270_8785053822790915163_n.jpg
END:VEVENT
BEGIN:VEVENT
DTSTART;TZID=Australia/Brisbane:20260905T060000
DTEND;TZID=Australia/Brisbane:20260905T100000
DTSTAMP:20260420T052503
CREATED:20260319T013632Z
LAST-MODIFIED:20260319T013632Z
UID:10000793-1788588000-1788602400@thewellbeinghub.com.au
SUMMARY:Yeppoon Community Market
DESCRIPTION:Come check out our fantastic stallholders will be there selling essential oils\, healthy dog treats and other dog products\, craft\, fruit\, vegetables\, china\, great variety of plants\, eggs\, honey\, flowers\, nuts\, oils\, seeds\, dried fruit\, muesli\, gingers\, flours\, turmeric products\, tea tree products\, fresh herbs\, jewellery\, pre-loved clothing\, bags\, local paintings\, bric-a-brac\, Aboriginal art jigsaws\, native bush food organics\, coffee beans\, embroidery\, variety of teas\, tarot and mediumship (gift certificates available) candles\, incense\, books\, cds\, dvds\, women’s clothing etc etc. Plenty of locally\, freshly baked sweet pastries\, sourdough bread\, custard creams\, slices\, gluten free treats\, bagels and our chai tea\, coffee and cold drinks.\nEVERY SATURDAY IN THE YEPPOON SHOWGROUNDS 6AM-10AM\nSORRY NO DOGS Allowed Mostly a CASH Market
URL:https://thewellbeinghub.com.au/event/yeppoon-community-market-11/2026-09-05/
LOCATION:Yeppoon Show Grounds\, Morris Street\, Yeppoon\, Queensland\, Australia
CATEGORIES:market
ATTACH;FMTTYPE=image/jpeg:https://thewellbeinghub.com.au/wp-content/uploads/2025/11/market.jpg
END:VEVENT
BEGIN:VEVENT
DTSTART;TZID=Australia/Brisbane:20260905T065000
DTEND;TZID=Australia/Brisbane:20260905T080000
DTSTAMP:20260420T052503
CREATED:20260319T022049Z
LAST-MODIFIED:20260319T022049Z
UID:10002211-1788591000-1788595200@thewellbeinghub.com.au
SUMMARY:Yeppoon Park Run
DESCRIPTION:What is Yeppoon parkrun?\nA free\, fun\, and friendly weekly 5k community event. Walk\, jog\, run\, volunteer or spectate – it’s up to you! \nWhen is it?\nEvery Saturday at 7:00am. \nWhere is it?\nThe event takes place at Capricorn Coast Pineapple Rail Trail\, Braithwaite Street\, Yeppoon QLD 4703. See Course page for more details. \nWhat does it cost to join in?\nNothing – it’s free! but please register before you first come along. Only ever register with parkrun once and don’t forget to bring a scannable copy of your barcode (request a reminder). If you forget it\, you won’t get a time.
URL:https://thewellbeinghub.com.au/event/yeppoon-park-run-3/2026-09-05/
LOCATION:The Rail Trail\, Braithwaite Street
CATEGORIES:Running group
ATTACH;FMTTYPE=image/jpeg:https://thewellbeinghub.com.au/wp-content/uploads/2026/03/474524366_957857769777882_5490498456229553761_n.jpg
END:VEVENT
BEGIN:VEVENT
DTSTART;TZID=Australia/Brisbane:20260905T093000
DTEND;TZID=Australia/Brisbane:20260905T113000
DTSTAMP:20260420T052503
CREATED:20260401T224331Z
LAST-MODIFIED:20260401T224334Z
UID:10001079-1788600600-1788607800@thewellbeinghub.com.au
SUMMARY:Capricorn Coast Toy Library Borrowing Sessions
DESCRIPTION:
URL:https://thewellbeinghub.com.au/event/capricorn-coast-toy-library-borrowing-sessions-2/2026-09-05/
LOCATION:Cap Coast Toy Library\, Cordingley Street\, Yeppoon\, Queensland\, Australia
CATEGORIES:Family friendly,Kid friendly,Toy Library
ATTACH;FMTTYPE=image/png:https://thewellbeinghub.com.au/wp-content/uploads/2026/03/956cb45a-d80b-4569-b424-efd7af7bdd23.png
END:VEVENT
BEGIN:VEVENT
DTSTART;TZID=Australia/Brisbane:20260905T160000
DTEND;TZID=Australia/Brisbane:20260905T190000
DTSTAMP:20260420T052503
CREATED:20260319T021439Z
LAST-MODIFIED:20260319T021439Z
UID:10001949-1788624000-1788634800@thewellbeinghub.com.au
SUMMARY:Lure Living - LIve Music
DESCRIPTION:Live Music Saturdays  from 4pm – 7pm
URL:https://thewellbeinghub.com.au/event/lure-living-live-music/2026-09-05/
LOCATION:Lure Living\, Anzac Parade\, Yeppoon
CATEGORIES:Live music
ATTACH;FMTTYPE=image/jpeg:https://thewellbeinghub.com.au/wp-content/uploads/2026/03/480426817_1166807752118346_1081685517913591725_n.jpg
END:VEVENT
BEGIN:VEVENT
DTSTART;TZID=Australia/Brisbane:20260905T193000
DTEND;TZID=Australia/Brisbane:20260905T210000
DTSTAMP:20260420T052503
CREATED:20260326T012841Z
LAST-MODIFIED:20260326T012841Z
UID:10003070-1788636600-1788642000@thewellbeinghub.com.au
SUMMARY:Ghosts\, Murder & Jack the Ripper
DESCRIPTION:Join our evening tour through Rockhampton’s streets and alleys and discover the darker side of the city. Learn about the ghosts that haunted Quay st\, the city’s first recorded murder\, the Rockhampton gold heist that created Sherlock Holmes and modern forensics and yes\, learn the bizarre and true history of Jack the Ripper’s connection to Rockhampton. \nKIDS WELCOME (note: its in the dark and spooky) \nTours start at the Criterion Hotel on Quay St\, head towards the post office on East St\, then into the alleys until finishing out the front of the iconic Customs House.Bookings essential \n#rockhamptonzoo #botanicgardens #RockhamptonBotanicGardens #exploretocreatererockhampton #explorerockhamptonregion #ghosttour #ghosttourrockhampton #ghosttouraustralia #truecrimetour #truecrimetourrockhampton #myrockhampton #rockhamptontourism #rockhamptontour #VisitCapricorn #SouthernGreatBarrierReef #SandstoneWilderness
URL:https://thewellbeinghub.com.au/event/ghosts-murder-jack-the-ripper/2026-09-05/
LOCATION:The Criterian Hotel\, 150 Quay Street\, Rockhampton\, Queensland\, Australia
CATEGORIES:History,Walking tour
ATTACH;FMTTYPE=image/jpeg:https://thewellbeinghub.com.au/wp-content/uploads/2026/03/652542702_928890783220743_8545634334410897198_n.jpg
ORGANIZER;CN="Time Safaris Walking Tours Rockhampton":MAILTO:timesafarisrockhampton@gmail.com
END:VEVENT
BEGIN:VEVENT
DTSTART;TZID=Australia/Brisbane:20260906T063000
DTEND;TZID=Australia/Brisbane:20260906T073000
DTSTAMP:20260420T052503
CREATED:20260410T004609Z
LAST-MODIFIED:20260410T004829Z
UID:10001687-1788676200-1788679800@thewellbeinghub.com.au
SUMMARY:60 Minute Roll & Release Outdoor Class
DESCRIPTION:Roll & Release Yoga is your go-to practice for easing tension\, enhancing mobility\, and awakening the body—all in a gentle\, accessible way. \nThis 60-minute\, all-level class blends self-myofascial release techniques\, breathwork\, and fluid yoga sequences\, using simple tools to target fascia and improve flexibility without overstretching. Through mindful rolling\, restorative movement\, and deep relaxation\, you’ll release built-up tightness\, find greater ease in motion\, and leave feeling refreshed and balanced. Perfect for anyone looking to unwind\, mobilize\, and reconnect. \nThis in person class is perfect for any level of experience or fitness held at Main Beach Stage\, Yeppoon. \n$10 per adult – with three payment options: \n1. Pay with Credit card (Stripe is my payment processor) upon booking in. \n2. Choose Pay Later if you would like to pay with cash on arrival. \n3. Yoga 10 Class Pass only $80 – purchase through this link BEFORE registering for class: 10 CLASS PASS \nBYO mat\, hat and water. \nSee you on the mat\, \nTracy
URL:https://thewellbeinghub.com.au/event/60-minute-roll-release-outdoor-class-2/2026-09-06/
LOCATION:Main Stage\, Yeppoon Beachfront\, Yeppoon\, Qld\, 4703\, Australia
CATEGORIES:Outdoor Yoga,yoga
ATTACH;FMTTYPE=image/jpeg:https://thewellbeinghub.com.au/wp-content/uploads/2025/10/roll-and-release.jpg
ORGANIZER;CN="Yoga with Tracy":MAILTO:admin@yogawithtracy.com.au
END:VEVENT
BEGIN:VEVENT
DTSTART;TZID=Australia/Brisbane:20260906T080000
DTEND;TZID=Australia/Brisbane:20260906T120000
DTSTAMP:20260420T052503
CREATED:20260330T022531Z
LAST-MODIFIED:20260330T022531Z
UID:10003360-1788681600-1788696000@thewellbeinghub.com.au
SUMMARY:Fig Tree Creek Markets
DESCRIPTION:On the first Sunday of each month \nbring your visitors have a coffee  listen to the live music  and wander amongst our wonderful stalls. 8am till 12 noon
URL:https://thewellbeinghub.com.au/event/fig-tree-creek-markets-4/2026-09-06/
LOCATION:Fig Tree Creek\, Yeppoon
CATEGORIES:market
ATTACH;FMTTYPE=image/jpeg:https://thewellbeinghub.com.au/wp-content/uploads/2025/10/fig-tree-creek.jpg
END:VEVENT
BEGIN:VEVENT
DTSTART;TZID=Australia/Brisbane:20260906T150000
DTEND;TZID=Australia/Brisbane:20260906T180000
DTSTAMP:20260420T052503
CREATED:20260319T015053Z
LAST-MODIFIED:20260319T015053Z
UID:10001577-1788706800-1788717600@thewellbeinghub.com.au
SUMMARY:Sunset Sundays
DESCRIPTION:Sun\, 22 Mar \n |  \nOl’ Coterie \n\n\nLive & Local Sundays 🎶 Music 3–6pm | Happy Hour from 3pm Tapas • Sangria • Tap Beer • Cocktails • Coffee 66A Farnborough Rd Limited seating – book your spot!
URL:https://thewellbeinghub.com.au/event/sunset-sundays/2026-09-06/
LOCATION:Ol Coterie\, Farnborough Road\, Yeppoon\, Queensland\, 4703\, Australia
CATEGORIES:Live music
ATTACH;FMTTYPE=image/avif:https://thewellbeinghub.com.au/wp-content/uploads/2026/03/cca743_a1c4da8b617042d7a455b117fa5d5542mv2.avif
END:VEVENT
BEGIN:VEVENT
DTSTART;TZID=Australia/Brisbane:20260907T080000
DTEND;TZID=Australia/Brisbane:20260907T093000
DTSTAMP:20260420T052503
CREATED:20260327T045804Z
LAST-MODIFIED:20260327T045804Z
UID:10003113-1788768000-1788773400@thewellbeinghub.com.au
SUMMARY:Keppel Kids Playgroup
DESCRIPTION:
URL:https://thewellbeinghub.com.au/event/keppel-kids-playgroup-4/2026-09-07/
LOCATION:Yeppoon Community Centre\, John Street\, Yeppoon\, Q\, Australia
CATEGORIES:Play Group
ATTACH;FMTTYPE=image/jpeg:https://thewellbeinghub.com.au/wp-content/uploads/2026/03/641452210_1226485949658594_4043777313757289176_n.jpg
END:VEVENT
BEGIN:VEVENT
DTSTART;TZID=Australia/Brisbane:20260908T190000
DTEND;TZID=Australia/Brisbane:20260908T203000
DTSTAMP:20260420T052503
CREATED:20260401T231734Z
LAST-MODIFIED:20260401T231734Z
UID:10003488-1788894000-1788899400@thewellbeinghub.com.au
SUMMARY:Keppel Bay Sailing Club General Knowledge Trivia
DESCRIPTION:Join us every Tuesday from 7pm till 8:30pm for a fun-filled night of General Knowledge Trivia!\n\nBring your friends\, family\, or workmates and test your brainpower across a mix of topics — from pop culture and history to music\, movies\, and everything in between.
URL:https://thewellbeinghub.com.au/event/keppel-bay-sailing-club-general-knowledge-trivia/2026-09-08/
LOCATION:Keppel Bay Sailing Club\, Anzac Parade\, Yeppoon\, Queensland\, Australia
CATEGORIES:Trivia
ATTACH;FMTTYPE=image/jpeg:https://thewellbeinghub.com.au/wp-content/uploads/2026/04/607953443_1374445554378579_1980432998362206315_n.jpg
END:VEVENT
BEGIN:VEVENT
DTSTART;TZID=Australia/Brisbane:20260910T060000
DTEND;TZID=Australia/Brisbane:20260910T070000
DTSTAMP:20260420T052503
CREATED:20260325T025041Z
LAST-MODIFIED:20260325T025041Z
UID:10002545-1789020000-1789023600@thewellbeinghub.com.au
SUMMARY:Yogalates
DESCRIPTION:Weekly Yogalates 6am. 45 minutes to start your day with intention and movement focusing on core strength. \n$10. \nBYO mat  \nmain stage amphitheatre
URL:https://thewellbeinghub.com.au/event/yogalates/2026-09-10/
LOCATION:Main Stage\, Yeppoon Beachfront\, Yeppoon\, Qld\, 4703\, Australia
CATEGORIES:pilates,yoga
ATTACH;FMTTYPE=image/jpeg:https://thewellbeinghub.com.au/wp-content/uploads/2026/03/608576429_1432282628683671_3083230603113500975_n.jpg
END:VEVENT
BEGIN:VEVENT
DTSTART;TZID=Australia/Brisbane:20260910T093000
DTEND;TZID=Australia/Brisbane:20260910T113000
DTSTAMP:20260420T052503
CREATED:20260401T224331Z
LAST-MODIFIED:20260401T224334Z
UID:10001080-1789032600-1789039800@thewellbeinghub.com.au
SUMMARY:Capricorn Coast Toy Library Borrowing Sessions
DESCRIPTION:
URL:https://thewellbeinghub.com.au/event/capricorn-coast-toy-library-borrowing-sessions-2/2026-09-10/
LOCATION:Cap Coast Toy Library\, Cordingley Street\, Yeppoon\, Queensland\, Australia
CATEGORIES:Family friendly,Kid friendly,Toy Library
ATTACH;FMTTYPE=image/png:https://thewellbeinghub.com.au/wp-content/uploads/2026/03/956cb45a-d80b-4569-b424-efd7af7bdd23.png
END:VEVENT
BEGIN:VEVENT
DTSTART;TZID=Australia/Brisbane:20260910T100000
DTEND;TZID=Australia/Brisbane:20260913T160000
DTSTAMP:20260420T052503
CREATED:20260319T013409Z
LAST-MODIFIED:20260319T033846Z
UID:10000533-1789034400-1789315200@thewellbeinghub.com.au
SUMMARY:Yeppoon Playability
DESCRIPTION:
URL:https://thewellbeinghub.com.au/event/yeppoon-playability/2026-09-10/
LOCATION:Yeppoon Show Grounds\, Morris Street\, Yeppoon\, Queensland\, Australia
CATEGORIES:Family friendly,Kid friendly
ATTACH;FMTTYPE=image/jpeg:https://thewellbeinghub.com.au/wp-content/uploads/2026/03/653711389_907443078849836_7305843221958883784_n.jpg
END:VEVENT
BEGIN:VEVENT
DTSTART;TZID=Australia/Brisbane:20260912T060000
DTEND;TZID=Australia/Brisbane:20260912T064500
DTSTAMP:20260420T052503
CREATED:20260410T004928Z
LAST-MODIFIED:20260410T004929Z
UID:10002810-1789192800-1789195500@thewellbeinghub.com.au
SUMMARY:Yoga Flow
DESCRIPTION:Weekly Yoga Flow 6am. \n1 hour class to start your weekend with intention and movement. \n$10. \nBYO mat 
URL:https://thewellbeinghub.com.au/event/yoga-flow-13-2/2026-09-12/
LOCATION:Yeppoon Lagoon\, Lagoon Place\, Yeppoon\, Queensland\, Australia
CATEGORIES:Outdoor Yoga,yoga
ATTACH;FMTTYPE=image/jpeg:https://thewellbeinghub.com.au/wp-content/uploads/2026/01/607837749_1432283305350270_8785053822790915163_n.jpg
END:VEVENT
BEGIN:VEVENT
DTSTART;TZID=Australia/Brisbane:20260912T060000
DTEND;TZID=Australia/Brisbane:20260912T100000
DTSTAMP:20260420T052503
CREATED:20260319T013632Z
LAST-MODIFIED:20260319T013632Z
UID:10000794-1789192800-1789207200@thewellbeinghub.com.au
SUMMARY:Yeppoon Community Market
DESCRIPTION:Come check out our fantastic stallholders will be there selling essential oils\, healthy dog treats and other dog products\, craft\, fruit\, vegetables\, china\, great variety of plants\, eggs\, honey\, flowers\, nuts\, oils\, seeds\, dried fruit\, muesli\, gingers\, flours\, turmeric products\, tea tree products\, fresh herbs\, jewellery\, pre-loved clothing\, bags\, local paintings\, bric-a-brac\, Aboriginal art jigsaws\, native bush food organics\, coffee beans\, embroidery\, variety of teas\, tarot and mediumship (gift certificates available) candles\, incense\, books\, cds\, dvds\, women’s clothing etc etc. Plenty of locally\, freshly baked sweet pastries\, sourdough bread\, custard creams\, slices\, gluten free treats\, bagels and our chai tea\, coffee and cold drinks.\nEVERY SATURDAY IN THE YEPPOON SHOWGROUNDS 6AM-10AM\nSORRY NO DOGS Allowed Mostly a CASH Market
URL:https://thewellbeinghub.com.au/event/yeppoon-community-market-11/2026-09-12/
LOCATION:Yeppoon Show Grounds\, Morris Street\, Yeppoon\, Queensland\, Australia
CATEGORIES:market
ATTACH;FMTTYPE=image/jpeg:https://thewellbeinghub.com.au/wp-content/uploads/2025/11/market.jpg
END:VEVENT
BEGIN:VEVENT
DTSTART;TZID=Australia/Brisbane:20260912T065000
DTEND;TZID=Australia/Brisbane:20260912T080000
DTSTAMP:20260420T052503
CREATED:20260319T022049Z
LAST-MODIFIED:20260319T022049Z
UID:10002212-1789195800-1789200000@thewellbeinghub.com.au
SUMMARY:Yeppoon Park Run
DESCRIPTION:What is Yeppoon parkrun?\nA free\, fun\, and friendly weekly 5k community event. Walk\, jog\, run\, volunteer or spectate – it’s up to you! \nWhen is it?\nEvery Saturday at 7:00am. \nWhere is it?\nThe event takes place at Capricorn Coast Pineapple Rail Trail\, Braithwaite Street\, Yeppoon QLD 4703. See Course page for more details. \nWhat does it cost to join in?\nNothing – it’s free! but please register before you first come along. Only ever register with parkrun once and don’t forget to bring a scannable copy of your barcode (request a reminder). If you forget it\, you won’t get a time.
URL:https://thewellbeinghub.com.au/event/yeppoon-park-run-3/2026-09-12/
LOCATION:The Rail Trail\, Braithwaite Street
CATEGORIES:Running group
ATTACH;FMTTYPE=image/jpeg:https://thewellbeinghub.com.au/wp-content/uploads/2026/03/474524366_957857769777882_5490498456229553761_n.jpg
END:VEVENT
BEGIN:VEVENT
DTSTART;TZID=Australia/Brisbane:20260912T093000
DTEND;TZID=Australia/Brisbane:20260912T113000
DTSTAMP:20260420T052503
CREATED:20260401T224331Z
LAST-MODIFIED:20260401T224334Z
UID:10001081-1789205400-1789212600@thewellbeinghub.com.au
SUMMARY:Capricorn Coast Toy Library Borrowing Sessions
DESCRIPTION:
URL:https://thewellbeinghub.com.au/event/capricorn-coast-toy-library-borrowing-sessions-2/2026-09-12/
LOCATION:Cap Coast Toy Library\, Cordingley Street\, Yeppoon\, Queensland\, Australia
CATEGORIES:Family friendly,Kid friendly,Toy Library
ATTACH;FMTTYPE=image/png:https://thewellbeinghub.com.au/wp-content/uploads/2026/03/956cb45a-d80b-4569-b424-efd7af7bdd23.png
END:VEVENT
BEGIN:VEVENT
DTSTART;TZID=Australia/Brisbane:20260912T160000
DTEND;TZID=Australia/Brisbane:20260912T190000
DTSTAMP:20260420T052503
CREATED:20260319T021439Z
LAST-MODIFIED:20260319T021439Z
UID:10001950-1789228800-1789239600@thewellbeinghub.com.au
SUMMARY:Lure Living - LIve Music
DESCRIPTION:Live Music Saturdays  from 4pm – 7pm
URL:https://thewellbeinghub.com.au/event/lure-living-live-music/2026-09-12/
LOCATION:Lure Living\, Anzac Parade\, Yeppoon
CATEGORIES:Live music
ATTACH;FMTTYPE=image/jpeg:https://thewellbeinghub.com.au/wp-content/uploads/2026/03/480426817_1166807752118346_1081685517913591725_n.jpg
END:VEVENT
BEGIN:VEVENT
DTSTART;TZID=Australia/Brisbane:20260912T193000
DTEND;TZID=Australia/Brisbane:20260912T210000
DTSTAMP:20260420T052503
CREATED:20260326T012841Z
LAST-MODIFIED:20260326T012841Z
UID:10003071-1789241400-1789246800@thewellbeinghub.com.au
SUMMARY:Ghosts\, Murder & Jack the Ripper
DESCRIPTION:Join our evening tour through Rockhampton’s streets and alleys and discover the darker side of the city. Learn about the ghosts that haunted Quay st\, the city’s first recorded murder\, the Rockhampton gold heist that created Sherlock Holmes and modern forensics and yes\, learn the bizarre and true history of Jack the Ripper’s connection to Rockhampton. \nKIDS WELCOME (note: its in the dark and spooky) \nTours start at the Criterion Hotel on Quay St\, head towards the post office on East St\, then into the alleys until finishing out the front of the iconic Customs House.Bookings essential \n#rockhamptonzoo #botanicgardens #RockhamptonBotanicGardens #exploretocreatererockhampton #explorerockhamptonregion #ghosttour #ghosttourrockhampton #ghosttouraustralia #truecrimetour #truecrimetourrockhampton #myrockhampton #rockhamptontourism #rockhamptontour #VisitCapricorn #SouthernGreatBarrierReef #SandstoneWilderness
URL:https://thewellbeinghub.com.au/event/ghosts-murder-jack-the-ripper/2026-09-12/
LOCATION:The Criterian Hotel\, 150 Quay Street\, Rockhampton\, Queensland\, Australia
CATEGORIES:History,Walking tour
ATTACH;FMTTYPE=image/jpeg:https://thewellbeinghub.com.au/wp-content/uploads/2026/03/652542702_928890783220743_8545634334410897198_n.jpg
ORGANIZER;CN="Time Safaris Walking Tours Rockhampton":MAILTO:timesafarisrockhampton@gmail.com
END:VEVENT
BEGIN:VEVENT
DTSTART;TZID=Australia/Brisbane:20260913T063000
DTEND;TZID=Australia/Brisbane:20260913T073000
DTSTAMP:20260420T052503
CREATED:20260410T004609Z
LAST-MODIFIED:20260410T004829Z
UID:10001688-1789281000-1789284600@thewellbeinghub.com.au
SUMMARY:60 Minute Roll & Release Outdoor Class
DESCRIPTION:Roll & Release Yoga is your go-to practice for easing tension\, enhancing mobility\, and awakening the body—all in a gentle\, accessible way. \nThis 60-minute\, all-level class blends self-myofascial release techniques\, breathwork\, and fluid yoga sequences\, using simple tools to target fascia and improve flexibility without overstretching. Through mindful rolling\, restorative movement\, and deep relaxation\, you’ll release built-up tightness\, find greater ease in motion\, and leave feeling refreshed and balanced. Perfect for anyone looking to unwind\, mobilize\, and reconnect. \nThis in person class is perfect for any level of experience or fitness held at Main Beach Stage\, Yeppoon. \n$10 per adult – with three payment options: \n1. Pay with Credit card (Stripe is my payment processor) upon booking in. \n2. Choose Pay Later if you would like to pay with cash on arrival. \n3. Yoga 10 Class Pass only $80 – purchase through this link BEFORE registering for class: 10 CLASS PASS \nBYO mat\, hat and water. \nSee you on the mat\, \nTracy
URL:https://thewellbeinghub.com.au/event/60-minute-roll-release-outdoor-class-2/2026-09-13/
LOCATION:Main Stage\, Yeppoon Beachfront\, Yeppoon\, Qld\, 4703\, Australia
CATEGORIES:Outdoor Yoga,yoga
ATTACH;FMTTYPE=image/jpeg:https://thewellbeinghub.com.au/wp-content/uploads/2025/10/roll-and-release.jpg
ORGANIZER;CN="Yoga with Tracy":MAILTO:admin@yogawithtracy.com.au
END:VEVENT
BEGIN:VEVENT
DTSTART;TZID=Australia/Brisbane:20260913T103000
DTEND;TZID=Australia/Brisbane:20260913T123000
DTSTAMP:20260420T052503
CREATED:20260409T034358Z
LAST-MODIFIED:20260409T034358Z
UID:10003853-1789295400-1789302600@thewellbeinghub.com.au
SUMMARY:Free BBQ for Men - Mr Perfect Yeppoon
DESCRIPTION:Location – Bluff Point – Kemp Beach Picnic AreaTime 10:30am – 12:30pm\nWet Weather Location – Causeway Lake Coffee Shop\nWHAT IS IT?A community organisation connecting men across Australia over a relaxed free BBQ to chat about all things life.But we are more than a BBQ.Online we provide quality resources for the good of men’s mental health.WHY DO IT? Conversation (and listening) always helps.Weather\, work\, footy\, family challenges and life changes. Getting outside in the sunshine is healthy.An antidote to the COVID-age isolation\, meeting a welcoming bunch of guys. Meeting new mates.Our community has met outside of the BBQ\, to cycle\, have coffee and form a support network.
URL:https://thewellbeinghub.com.au/event/free-bbq-for-men-mr-perfect-yeppoon/2026-09-13/
LOCATION:Kemp Beach Picnic Area\, Kemp Beach\, Queen\, Australia
CATEGORIES:Community event,Free event,Men's Mental Health
ATTACH;FMTTYPE=image/jpeg:https://thewellbeinghub.com.au/wp-content/uploads/2026/04/581909344_1274838208022192_3216855842347969210_n.jpg
END:VEVENT
BEGIN:VEVENT
DTSTART;TZID=Australia/Brisbane:20260913T150000
DTEND;TZID=Australia/Brisbane:20260913T180000
DTSTAMP:20260420T052503
CREATED:20260319T015053Z
LAST-MODIFIED:20260319T015053Z
UID:10001578-1789311600-1789322400@thewellbeinghub.com.au
SUMMARY:Sunset Sundays
DESCRIPTION:Sun\, 22 Mar \n |  \nOl’ Coterie \n\n\nLive & Local Sundays 🎶 Music 3–6pm | Happy Hour from 3pm Tapas • Sangria • Tap Beer • Cocktails • Coffee 66A Farnborough Rd Limited seating – book your spot!
URL:https://thewellbeinghub.com.au/event/sunset-sundays/2026-09-13/
LOCATION:Ol Coterie\, Farnborough Road\, Yeppoon\, Queensland\, 4703\, Australia
CATEGORIES:Live music
ATTACH;FMTTYPE=image/avif:https://thewellbeinghub.com.au/wp-content/uploads/2026/03/cca743_a1c4da8b617042d7a455b117fa5d5542mv2.avif
END:VEVENT
BEGIN:VEVENT
DTSTART;TZID=Australia/Brisbane:20260913T160000
DTEND;TZID=Australia/Brisbane:20260913T170000
DTSTAMP:20260420T052503
CREATED:20260409T024255Z
LAST-MODIFIED:20260409T024255Z
UID:10003519-1789315200-1789318800@thewellbeinghub.com.au
SUMMARY:Capricorn Coast Produce Swap
DESCRIPTION:The Produce Swap is on the second Sunday each month at 4pm. A monthly event where home gardeners share the abundant produce from their backyard garden rather than let it go to waste.
URL:https://thewellbeinghub.com.au/event/capricorn-coast-produce-swap-4/2026-09-13/
LOCATION:Jack’s Paddock\, Yeppoon\, 25 Ross Street\, Yeppoon\, Queensland\, 4703\, Australia
CATEGORIES:Gardening,Produce Swap
ATTACH;FMTTYPE=image/jpeg:https://thewellbeinghub.com.au/wp-content/uploads/2026/04/649280035_937137415491113_1923386458483155064_n.jpg
END:VEVENT
BEGIN:VEVENT
DTSTART;TZID=Australia/Brisbane:20260914T080000
DTEND;TZID=Australia/Brisbane:20260914T093000
DTSTAMP:20260420T052503
CREATED:20260327T045804Z
LAST-MODIFIED:20260327T045804Z
UID:10003114-1789372800-1789378200@thewellbeinghub.com.au
SUMMARY:Keppel Kids Playgroup
DESCRIPTION:
URL:https://thewellbeinghub.com.au/event/keppel-kids-playgroup-4/2026-09-14/
LOCATION:Yeppoon Community Centre\, John Street\, Yeppoon\, Q\, Australia
CATEGORIES:Play Group
ATTACH;FMTTYPE=image/jpeg:https://thewellbeinghub.com.au/wp-content/uploads/2026/03/641452210_1226485949658594_4043777313757289176_n.jpg
END:VEVENT
END:VCALENDAR