BEGIN:VCALENDAR
VERSION:2.0
PRODID:-//The Wellbeing Hub - ECPv6.15.20//NONSGML v1.0//EN
CALSCALE:GREGORIAN
METHOD:PUBLISH
X-WR-CALNAME:The Wellbeing Hub
X-ORIGINAL-URL:https://thewellbeinghub.com.au
X-WR-CALDESC:Events for The Wellbeing Hub
REFRESH-INTERVAL;VALUE=DURATION:PT1H
X-Robots-Tag:noindex
X-PUBLISHED-TTL:PT1H
BEGIN:VTIMEZONE
TZID:Australia/Brisbane
BEGIN:STANDARD
TZOFFSETFROM:+1000
TZOFFSETTO:+1000
TZNAME:AEST
DTSTART:20250101T000000
END:STANDARD
END:VTIMEZONE
BEGIN:VEVENT
DTSTART;TZID=Australia/Brisbane:20260504T160000
DTEND;TZID=Australia/Brisbane:20260504T173000
DTSTAMP:20260424T145022
CREATED:20260424T014718Z
LAST-MODIFIED:20260424T014718Z
UID:10004300-1777910400-1777915800@thewellbeinghub.com.au
SUMMARY:Art in the Park
DESCRIPTION:Get ready\, Livingstone youth — something creative is coming your way  The OUTDOOR YOUTH ART CLUB is landing in town!Join us every second Monday\, 4:00pm – 5:30pm on the grass at the Yeppoon Amphitheatre for a chilled\, after-school hangout like no other. This is your space to create\, connect\, and unwind outdoors  Bring along your own project or try something new — whether you sketch\, paint\, doodle\, or just want to give it a go\, you’re welcome here.Meet other young creatives\, soak up the vibes\, and get support from friendly local art mentors along the way. No pressure\, no expectations — just good people\, fresh air\, and creativity.No experience needed. No stress. Just show up. Aphrodite Art School will be on hand with tips\, tricks and stories to tell! We cannot wait to see you there.BOOK NOW!! https://events.humanitix.com/art-in-the-park-20th-april-26Please note: this isn’t a formal art class — it’s a safe\, relaxed space to enjoy art\, connect with others\, and grow your creativity at your own pace.
URL:https://thewellbeinghub.com.au/event/art-in-the-park/2026-05-04/
LOCATION:Main Stage\, Yeppoon Beachfront\, Yeppoon\, Qld\, 4703\, Australia
CATEGORIES:Art class,Free event,Kids Art Class
ATTACH;FMTTYPE=image/jpeg:https://thewellbeinghub.com.au/wp-content/uploads/2026/04/671200851_965310622543854_3501666820542588374_n.jpg
END:VEVENT
BEGIN:VEVENT
DTSTART;TZID=Australia/Brisbane:20260601T160000
DTEND;TZID=Australia/Brisbane:20260601T173000
DTSTAMP:20260424T145022
CREATED:20260424T014718Z
LAST-MODIFIED:20260424T014718Z
UID:10004301-1780329600-1780335000@thewellbeinghub.com.au
SUMMARY:Art in the Park
DESCRIPTION:Get ready\, Livingstone youth — something creative is coming your way  The OUTDOOR YOUTH ART CLUB is landing in town!Join us every second Monday\, 4:00pm – 5:30pm on the grass at the Yeppoon Amphitheatre for a chilled\, after-school hangout like no other. This is your space to create\, connect\, and unwind outdoors  Bring along your own project or try something new — whether you sketch\, paint\, doodle\, or just want to give it a go\, you’re welcome here.Meet other young creatives\, soak up the vibes\, and get support from friendly local art mentors along the way. No pressure\, no expectations — just good people\, fresh air\, and creativity.No experience needed. No stress. Just show up. Aphrodite Art School will be on hand with tips\, tricks and stories to tell! We cannot wait to see you there.BOOK NOW!! https://events.humanitix.com/art-in-the-park-20th-april-26Please note: this isn’t a formal art class — it’s a safe\, relaxed space to enjoy art\, connect with others\, and grow your creativity at your own pace.
URL:https://thewellbeinghub.com.au/event/art-in-the-park/2026-06-01/
LOCATION:Main Stage\, Yeppoon Beachfront\, Yeppoon\, Qld\, 4703\, Australia
CATEGORIES:Art class,Free event,Kids Art Class
ATTACH;FMTTYPE=image/jpeg:https://thewellbeinghub.com.au/wp-content/uploads/2026/04/671200851_965310622543854_3501666820542588374_n.jpg
END:VEVENT
BEGIN:VEVENT
DTSTART;TZID=Australia/Brisbane:20260706T160000
DTEND;TZID=Australia/Brisbane:20260706T173000
DTSTAMP:20260424T145022
CREATED:20260424T014718Z
LAST-MODIFIED:20260424T014718Z
UID:10004302-1783353600-1783359000@thewellbeinghub.com.au
SUMMARY:Art in the Park
DESCRIPTION:Get ready\, Livingstone youth — something creative is coming your way  The OUTDOOR YOUTH ART CLUB is landing in town!Join us every second Monday\, 4:00pm – 5:30pm on the grass at the Yeppoon Amphitheatre for a chilled\, after-school hangout like no other. This is your space to create\, connect\, and unwind outdoors  Bring along your own project or try something new — whether you sketch\, paint\, doodle\, or just want to give it a go\, you’re welcome here.Meet other young creatives\, soak up the vibes\, and get support from friendly local art mentors along the way. No pressure\, no expectations — just good people\, fresh air\, and creativity.No experience needed. No stress. Just show up. Aphrodite Art School will be on hand with tips\, tricks and stories to tell! We cannot wait to see you there.BOOK NOW!! https://events.humanitix.com/art-in-the-park-20th-april-26Please note: this isn’t a formal art class — it’s a safe\, relaxed space to enjoy art\, connect with others\, and grow your creativity at your own pace.
URL:https://thewellbeinghub.com.au/event/art-in-the-park/2026-07-06/
LOCATION:Main Stage\, Yeppoon Beachfront\, Yeppoon\, Qld\, 4703\, Australia
CATEGORIES:Art class,Free event,Kids Art Class
ATTACH;FMTTYPE=image/jpeg:https://thewellbeinghub.com.au/wp-content/uploads/2026/04/671200851_965310622543854_3501666820542588374_n.jpg
END:VEVENT
BEGIN:VEVENT
DTSTART;TZID=Australia/Brisbane:20260803T160000
DTEND;TZID=Australia/Brisbane:20260803T173000
DTSTAMP:20260424T145022
CREATED:20260424T014718Z
LAST-MODIFIED:20260424T014718Z
UID:10004303-1785772800-1785778200@thewellbeinghub.com.au
SUMMARY:Art in the Park
DESCRIPTION:Get ready\, Livingstone youth — something creative is coming your way  The OUTDOOR YOUTH ART CLUB is landing in town!Join us every second Monday\, 4:00pm – 5:30pm on the grass at the Yeppoon Amphitheatre for a chilled\, after-school hangout like no other. This is your space to create\, connect\, and unwind outdoors  Bring along your own project or try something new — whether you sketch\, paint\, doodle\, or just want to give it a go\, you’re welcome here.Meet other young creatives\, soak up the vibes\, and get support from friendly local art mentors along the way. No pressure\, no expectations — just good people\, fresh air\, and creativity.No experience needed. No stress. Just show up. Aphrodite Art School will be on hand with tips\, tricks and stories to tell! We cannot wait to see you there.BOOK NOW!! https://events.humanitix.com/art-in-the-park-20th-april-26Please note: this isn’t a formal art class — it’s a safe\, relaxed space to enjoy art\, connect with others\, and grow your creativity at your own pace.
URL:https://thewellbeinghub.com.au/event/art-in-the-park/2026-08-03/
LOCATION:Main Stage\, Yeppoon Beachfront\, Yeppoon\, Qld\, 4703\, Australia
CATEGORIES:Art class,Free event,Kids Art Class
ATTACH;FMTTYPE=image/jpeg:https://thewellbeinghub.com.au/wp-content/uploads/2026/04/671200851_965310622543854_3501666820542588374_n.jpg
END:VEVENT
BEGIN:VEVENT
DTSTART;TZID=Australia/Brisbane:20260907T160000
DTEND;TZID=Australia/Brisbane:20260907T173000
DTSTAMP:20260424T145022
CREATED:20260424T014718Z
LAST-MODIFIED:20260424T014718Z
UID:10004304-1788796800-1788802200@thewellbeinghub.com.au
SUMMARY:Art in the Park
DESCRIPTION:Get ready\, Livingstone youth — something creative is coming your way  The OUTDOOR YOUTH ART CLUB is landing in town!Join us every second Monday\, 4:00pm – 5:30pm on the grass at the Yeppoon Amphitheatre for a chilled\, after-school hangout like no other. This is your space to create\, connect\, and unwind outdoors  Bring along your own project or try something new — whether you sketch\, paint\, doodle\, or just want to give it a go\, you’re welcome here.Meet other young creatives\, soak up the vibes\, and get support from friendly local art mentors along the way. No pressure\, no expectations — just good people\, fresh air\, and creativity.No experience needed. No stress. Just show up. Aphrodite Art School will be on hand with tips\, tricks and stories to tell! We cannot wait to see you there.BOOK NOW!! https://events.humanitix.com/art-in-the-park-20th-april-26Please note: this isn’t a formal art class — it’s a safe\, relaxed space to enjoy art\, connect with others\, and grow your creativity at your own pace.
URL:https://thewellbeinghub.com.au/event/art-in-the-park/2026-09-07/
LOCATION:Main Stage\, Yeppoon Beachfront\, Yeppoon\, Qld\, 4703\, Australia
CATEGORIES:Art class,Free event,Kids Art Class
ATTACH;FMTTYPE=image/jpeg:https://thewellbeinghub.com.au/wp-content/uploads/2026/04/671200851_965310622543854_3501666820542588374_n.jpg
END:VEVENT
END:VCALENDAR