BEGIN:VCALENDAR
VERSION:2.0
PRODID:-//The Wellbeing Hub - ECPv6.15.20//NONSGML v1.0//EN
CALSCALE:GREGORIAN
METHOD:PUBLISH
X-WR-CALNAME:The Wellbeing Hub
X-ORIGINAL-URL:https://thewellbeinghub.com.au
X-WR-CALDESC:Events for The Wellbeing Hub
REFRESH-INTERVAL;VALUE=DURATION:PT1H
X-Robots-Tag:noindex
X-PUBLISHED-TTL:PT1H
BEGIN:VTIMEZONE
TZID:Australia/Brisbane
BEGIN:STANDARD
TZOFFSETFROM:+1000
TZOFFSETTO:+1000
TZNAME:AEST
DTSTART:20240101T000000
END:STANDARD
END:VTIMEZONE
BEGIN:VEVENT
DTSTART;TZID=Australia/Brisbane:20251115T130000
DTEND;TZID=Australia/Brisbane:20251115T143000
DTSTAMP:20260425T011040
CREATED:20251112T044445Z
LAST-MODIFIED:20251112T044445Z
UID:10000094-1763211600-1763217000@thewellbeinghub.com.au
SUMMARY:Clay & Sip Charcuterie Platter
DESCRIPTION:Summer is here!! That means BBQ’s and Charcuterie boards.\n\nIn this workshop you get to create your own idea and design for a refreshing and vibrant charcuterie boards that screams summer.\n\nWe will be using a creamy white clay which has a slight gritty natural texture.\nYou will have the option to imprint features into the clay with patterned doilies\, texture tools\, buttons\, or the option to leave your Charcuterie board as a smooth and sleek design.\n\nYour Charcuterie Platter will then be bisque fired\, glazed with transparent glaze or a colour choice available and fired again.\nIt will be then ready for you to share at your next Summer BBQ or get together ready to display your very own handmade Charcuterie platter.\n\nWe will notify you with Dates and Times available for collection.\nBYO drinks/nibbliesAll workshop materials are supplied.Aprons are supplied if required.\n\nCancellations:Please see our FAQ’s website information\nPottery Breakage Clay is a fickle medium\, we take great care in looking after everyone’s pieces. Pottery can break for many reasons. No refunds are provided in the unfortunate event that your pottery breaks or cracks in the kiln. Pottery is a very delicate process
URL:https://thewellbeinghub.com.au/event/clay-sip-charcuterie-platter/
LOCATION:Rockridge Creations\, 5 Fiddes Street\, Port Curtis\, Australia
CATEGORIES:Art class,Art therapy,workshop
ATTACH;FMTTYPE=image/jpeg:https://thewellbeinghub.com.au/wp-content/uploads/2025/11/clay.jpg
ORGANIZER;CN="Rockridge Creations":MAILTO:rockridgecreations@gmail.com
END:VEVENT
END:VCALENDAR