BEGIN:VCALENDAR
VERSION:2.0
PRODID:-//The Wellbeing Hub - ECPv6.15.20//NONSGML v1.0//EN
CALSCALE:GREGORIAN
METHOD:PUBLISH
X-WR-CALNAME:The Wellbeing Hub
X-ORIGINAL-URL:https://thewellbeinghub.com.au
X-WR-CALDESC:Events for The Wellbeing Hub
REFRESH-INTERVAL;VALUE=DURATION:PT1H
X-Robots-Tag:noindex
X-PUBLISHED-TTL:PT1H
BEGIN:VTIMEZONE
TZID:Australia/Brisbane
BEGIN:STANDARD
TZOFFSETFROM:+1000
TZOFFSETTO:+1000
TZNAME:AEST
DTSTART:20240101T000000
END:STANDARD
END:VTIMEZONE
BEGIN:VEVENT
DTSTART;TZID=Australia/Brisbane:20251116T063000
DTEND;TZID=Australia/Brisbane:20251116T073000
DTSTAMP:20260424T083123
CREATED:20251112T054357Z
LAST-MODIFIED:20251112T054357Z
UID:10000113-1763274600-1763278200@thewellbeinghub.com.au
SUMMARY:60 Minute Roll & Release Outdoor Yoga Class
DESCRIPTION:Roll & Release Yoga is your go-to practice for easing tension\, enhancing mobility\, and awakening the body—all in a gentle\, accessible way. \n\nThis 60-minute\, all-level class blends self-myofascial release techniques\, breathwork\, and fluid yoga sequences\, using simple tools to target fascia and improve flexibility without overstretching. Through mindful rolling\, restorative movement\, and deep relaxation\, you’ll release built-up tightness\, find greater ease in motion\, and leave feeling refreshed and balanced. Perfect for anyone looking to unwind\, mobilize\, and reconnect. \n\nThis in person class is perfect for any level of experience or fitness held at Main Beach Stage\, Yeppoon. \n\n$10 per adult – with three payment options: \n\n1. Pay with Credit card (Stripe is my payment processor) upon booking in. \n2. Choose Pay Later if you would like to pay with cash on arrival. \n3. Yoga 10 Class Pass only $80 – purchase through this link BEFORE registering for class: 10 CLASS PASS \n\nBYO mat\, hat and water. \n\nSee you on the mat\, \nTracy
URL:https://thewellbeinghub.com.au/event/60-minute-roll-release-outdoor-yoga-class/
LOCATION:Main Stage\, Yeppoon Beachfront\, Yeppoon\, Qld\, 4703\, Australia
CATEGORIES:yoga
ATTACH;FMTTYPE=image/jpeg:https://thewellbeinghub.com.au/wp-content/uploads/2025/10/roll-and-release.jpg
ORGANIZER;CN="Yoga with Tracy":MAILTO:admin@yogawithtracy.com.au
END:VEVENT
END:VCALENDAR