BEGIN:VCALENDAR
VERSION:2.0
PRODID:-//The Wellbeing Hub - ECPv6.15.20//NONSGML v1.0//EN
CALSCALE:GREGORIAN
METHOD:PUBLISH
X-ORIGINAL-URL:https://thewellbeinghub.com.au
X-WR-CALDESC:Events for The Wellbeing Hub
REFRESH-INTERVAL;VALUE=DURATION:PT1H
X-Robots-Tag:noindex
X-PUBLISHED-TTL:PT1H
BEGIN:VTIMEZONE
TZID:Australia/Brisbane
BEGIN:STANDARD
TZOFFSETFROM:+1000
TZOFFSETTO:+1000
TZNAME:AEST
DTSTART:20240101T000000
END:STANDARD
END:VTIMEZONE
BEGIN:VEVENT
DTSTART;TZID=Australia/Brisbane:20251115T070000
DTEND;TZID=Australia/Brisbane:20251115T110000
DTSTAMP:20260424T131712
CREATED:20251112T041401Z
LAST-MODIFIED:20251112T041401Z
UID:10000087-1763190000-1763204400@thewellbeinghub.com.au
SUMMARY:Labels on the Lawn
DESCRIPTION:The Labels on the Lawn markets are this Saturday between 7am – 11am and we are so excited!!!\n\n\n\nStop by\, have a coffee and browse some amazing second hand clothes.\n\n\n\n> please bring cash!!
URL:https://thewellbeinghub.com.au/event/labels-on-the-lawn/
LOCATION:The Attic Espresso Bar\, 44 James Street\, Yeppoon\, Queensland\, Australia
CATEGORIES:market
ATTACH;FMTTYPE=image/jpeg:https://thewellbeinghub.com.au/wp-content/uploads/2025/11/labels.jpg
ORGANIZER;CN="The Attic Espresso Bar":MAILTO:theatticyeppoon@hotmail.com
END:VEVENT
END:VCALENDAR