BEGIN:VCALENDAR
VERSION:2.0
PRODID:-//The Wellbeing Hub - ECPv6.15.20//NONSGML v1.0//EN
CALSCALE:GREGORIAN
METHOD:PUBLISH
X-ORIGINAL-URL:https://thewellbeinghub.com.au
X-WR-CALDESC:Events for The Wellbeing Hub
REFRESH-INTERVAL;VALUE=DURATION:PT1H
X-Robots-Tag:noindex
X-PUBLISHED-TTL:PT1H
BEGIN:VTIMEZONE
TZID:Australia/Brisbane
BEGIN:STANDARD
TZOFFSETFROM:+1000
TZOFFSETTO:+1000
TZNAME:AEST
DTSTART:20250101T000000
END:STANDARD
END:VTIMEZONE
BEGIN:VEVENT
DTSTART;TZID=Australia/Brisbane:20260420T080000
DTEND;TZID=Australia/Brisbane:20260420T093000
DTSTAMP:20260420T060619
CREATED:20260327T045804Z
LAST-MODIFIED:20260327T045804Z
UID:10003093-1776672000-1776677400@thewellbeinghub.com.au
SUMMARY:Keppel Kids Playgroup
DESCRIPTION:
URL:https://thewellbeinghub.com.au/event/keppel-kids-playgroup-4/2026-04-20/
LOCATION:Yeppoon Community Centre\, John Street\, Yeppoon\, Q\, Australia
CATEGORIES:Play Group
ATTACH;FMTTYPE=image/jpeg:https://thewellbeinghub.com.au/wp-content/uploads/2026/03/641452210_1226485949658594_4043777313757289176_n.jpg
END:VEVENT
END:VCALENDAR